{"text_format":"1","workbook":"xlsx","n_sheets":12,"sheets":["基本情報入力","付属書1","付属書2","付属書3","チェックリスト","付属書10","計算シート","バイオ比率","付属書20","計量器写真","予備sheet①","予備sheet②"],"not_rendered":{"charts":0,"images":0,"macros":1,"external_links":0,"defined_names":13,"comments":0,"pivot_tables":0},"unopened":[],"bounds":{"document_bytes":16777216,"sheet_cells":100000,"rows_first":2000,"rows_last":500,"rows_between":2000,"halvings":0,"cell_chars":16384,"cell_head_chars":4096},"cells_cut":0,"cells_raw":0,"read":"whole","date_system":"1900"}

{"sheet":"基本情報入力","index":0,"n_rows":11,"n_cols":9,"rows_kept":11,"cut":false,"hidden":false,"merged":[[2,8,7,8],[0,5,0,8]]}
["Ver.W2.202304r1",null,"基本データ入力箇所",null,null,"附属書10・計算書カスタマイズ用"]
[null,"項　　　目","記入欄","備　　　　　考",null,"区　　　分","エビデンス（選択してください）","計器・変圧器個数","備　　　　　考"]
[null,"申請日","2020-04-01","申請日は、当初申請・受付時点で固定です。申請書を修正して再提出する際に変更しないでください。",null,"①発電電力量","計器写真",2,"※エビデンスが対象外である場合、必ず『なし』と選択してください。\n\n附属書10の計算式・提出書類欄、計算シートに反映されます。\n\n※計器写真の場合、必ず計器個数を入力してください。\n（個数が入力されていないと計算シートの入力箇所が表示されません。）\n\n売電の検針票にて、指示数の差により求める場合は「電力会社検針票（指示数）」を、各月の電力量の合計にて求める場合には「電力会社検針票（電力量）」を選択してください。"]
[null,"申請者①(企業・団体)","○○○○株式会社",null,null,"①'発電傍証","なし"]
[null,"申請者②(代表者職位)","代表取締役社長",null,null,"②補機使用電力量","計器写真",1]
[null,"申請者③(代表者名)","○○　○○",null,null,"②'補機傍証","なし"]
[null,"発電設備名称",{"$f":"付属書2!G29","v":"○○発電所"},"付属書2の発電設備の概要の発電所名称が転記されます。",null,"③売電電力量","電力会社検針票（指示数）",1]
[null,"検定済計量器有効期限",{"$f":"IF(チェックリスト!D65=\"\",チェックリスト!F65,チェックリスト!D65)","v":"2022-01-10"},"チェックリストの検定済計量器の有効期限が転記されます。",null,"③'売電傍証","なし"]
[null,null,null,"※本シートは提出不要です。",null,"④売電電力量\n変圧器ロス率","あり",1,"必ず変圧器個数を入力してください。\n（個数は計算等に反映されます）"]
[null,null,null,null,null,"⑤バイオマス比率","あり",null,"バイオマス比率の算定が必要な場合入力してください。"]
[null,null,null,null,null,null,null,null,"※本シートは提出不要です。"]

{"sheet":"付属書1","index":1,"n_rows":37,"n_cols":16,"rows_kept":37,"cut":false,"hidden":false,"merged":[[6,0,7,20],[10,15,10,20],[31,3,31,20],[25,0,25,3],[21,0,22,20],[28,3,28,20],[14,11,15,20],[16,12,16,20],[17,13,17,20],[23,3,23,19]]}
[]
[]
["一般財団法人日本品質保証機構　御中"]
[]
[]
[]
["グリーン電力発電設備認定申請書"]
[]
[]
[]
[null,null,null,null,null,null,null,null,null,null,null,null,null,null,null,{"$f":"基本情報入力!C3","v":"2020-04-01"}]
[]
[]
[null,null,null,null,null,null,null,null,null,null,"（申請者）　　　　　　　　　　　　　　　"]
[null,null,null,null,null,null,null,null,null,null,null,{"$f":"基本情報入力!C4","v":"○○○○株式会社"}]
[]
[null,null,null,null,null,null,null,null,null,null,null,null,{"$f":"基本情報入力!C5","v":"代表取締役社長"}]
[null,null,null,null,null,null,null,null,null,null,null,null,null,{"$f":"基本情報入力!C6","v":"○○　○○"}]
[]
[]
[]
["必要書類を添付の上、グリーン電力発電設備の認定を申請いたします。"]
[]
[]
[]
["○添付資料"]
[]
[null,"附属書２：グリーン電力発電設備概要書"]
[]
[]
[null,"附属書３：グリーン電力の認証要件に関する誓約書"]
[]
[]
[null,"附属書１０：認証可能電力量の確認方法"]
[]
[]
[null,"附属書２０：グリーン電力発電設備結線図"]

{"sheet":"付属書2","index":2,"n_rows":44,"n_cols":18,"rows_kept":44,"cut":false,"hidden":false,"merged":[[3,0,4,20],[6,15,6,20],[9,11,10,20],[11,12,11,20],[12,13,12,20],[18,1,18,5],[18,6,18,19],[19,1,19,5],[19,6,19,19],[20,1,20,5],[20,6,20,19],[21,1,21,5],[21,6,21,19],[22,1,22,5],[22,6,22,19],[23,2,23,19],[24,2,25,19],[28,1,28,5],[28,6,28,19],[29,1,29,5],[29,6,29,19],[30,1,30,5],[30,6,30,19],[31,1,31,5],[31,6,31,19],[37,1,37,5],[37,6,37,19],[33,6,33,19],[36,6,36,19],[34,1,34,5],[34,6,34,19],[43,17,43,20],[32,1,32,5],[32,6,32,8],[32,9,32,19],[33,1,33,5],[36,1,36,5],[35,1,35,5],[35,6,35,19]]}
[]
[{"$f":"付属書1!$A$3","v":"一般財団法人日本品質保証機構　御中"}]
[]
["グリーン電力発電設備概要書"]
[]
[]
[null,null,null,null,null,null,null,null,null,null,null,null,null,null,null,{"$f":"基本情報入力!C3","v":"2020-04-01"}]
[]
[null,null,null,null,null,null,null,null,null,null,"（申請者）　　　　　　　　　　　　　　　"]
[null,null,null,null,null,null,null,null,null,null,null,{"$f":"基本情報入力!C4","v":"○○○○株式会社"}]
[]
[null,null,null,null,null,null,null,null,null,null,null,null,{"$f":"基本情報入力!C5","v":"代表取締役社長"}]
[null,null,null,null,null,null,null,null,null,null,null,null,null,{"$f":"基本情報入力!C6","v":"○○　○○"}]
[]
[]
["今回認定申請を行うグリーン電力発電設備の概要は、下記の通りです。"]
[]
[null,"発電事業者"]
[null,"名称",null,null,null,null,"○○○株式会社　（または○○市，○○組合）"]
[null,"本社所在地"]
[null,"tel/fax"]
[null,"e-mail"]
[null,"環境価値に関する報告が義務付けられている制度※",null,null,null,null,"記入例：該当なし\n記入例：\n・エネルギーの使用の合理化に関する法律に基づく定期報告制度\n・地球温暖化対策の推進に関する法律に基づく温室効果ガス排出量\n算定・報告・公表制度"]
[null,"※","温対法温室効果ガス算定･報告･公表制度、東京都条例など国や自治体の報告制度。"]
[null,null,"敷地内の別会社の工場・事務所等に電力を供給している場合、その旨を記載し、当該別会社が対象となる報告制度について記載すること。"]
[]
[]
[null,"発電設備の概要"]
[null,"発電所名称",null,null,null,null,"○○発電所"]
[null,"発電所所在地"]
[null,"発電種別",null,null,null,null,"≪選択してください≫"]
[null,"型式"]
[null,"設備容量",null,null,null,null,999,null,null,"kW"]
[null,"運転開始（予定）年月",null,null,null,null,"○○年○月運転開始　又は　○○年○月運転開始予定"]
[null,"FIT設備ID"]
[null,"受電地点特定番号（※2）"]
[null,"特記事項",null,null,null,null,"記入例：発電電力量のうち、自家消費分を認証対象とする"]
[null,"別添資料",null,null,null,null,"記入例：周辺地図・受給契約書・結線図など"]
[null,"　※太陽光発電ファームの場合、詳細は別紙（付属書24）作成のこと"]
[null,"　※2　系統売電がある場合は必須。"]
[null,null,"　"]
[]
[]
[null,null,null,null,null,null,null,null,null,null,null,null,null,null,null,null,null,"以　　上"]

{"sheet":"付属書3","index":3,"n_rows":31,"n_cols":17,"rows_kept":31,"cut":false,"hidden":false,"merged":[[17,0,17,19],[19,0,19,19],[30,16,30,19],[9,10,9,19],[21,0,21,19],[23,0,23,19],[27,0,27,19],[6,14,6,19],[10,11,10,19],[11,12,11,19],[3,0,4,19],[16,0,16,19]]}
[]
[{"$f":"付属書1!$A$3","v":"一般財団法人日本品質保証機構　御中"}]
[]
["グリーン電力の認証要件に関する誓約書"]
[]
[]
[null,null,null,null,null,null,null,null,null,null,null,null,null,null,{"$f":"基本情報入力!C3","v":"2020-04-01"}]
[]
[null,null,null,null,null,null,null,null,null,"（申請者）　　　　　　　　　　　　　　　"]
[null,null,null,null,null,null,null,null,null,null,{"$f":"基本情報入力!C4","v":"○○○○株式会社"}]
[null,null,null,null,null,null,null,null,null,null,null,{"$f":"基本情報入力!C5","v":"代表取締役社長"}]
[null,null,null,null,null,null,null,null,null,null,null,null,{"$f":"基本情報入力!C6","v":"○○　○○"}]
[]
[]
[]
[]
["　当法人（申請者）は、グリーン電力の認証申請を行うにあたり、グリーン電力の認証要件に関するチェックリストに記載された、認証要件を遵守することを誓約します。"]
["　万一これに疑義が生じた場合、速やかに日本品質保証機構の指示に従うことを約束致します。"]
[]
["　発電所の設置・運用に伴い何らかの経済的・社会的問題等が発生した場合には、全て申請者の責任で対処することとし、日本品質保証機構に対して一切の責任分担を求めないことを約束致します。"]
[]
["　また、グリーン電力の認証を受けた後、日本品質保証機構に対して、グリーン電力証書の契約ごとの状況を報告することを約束致します。"]
[]
["　電力量申請に係る受電地点特定番号等、ダブルカウントチェックに必要な情報を当機構や非化石証書の認定事務局（資源エネルギー庁）に提供されることを了承いたします。"]
[]
["　"]
[]
["（添付資料）グリーン電力の認証要件に関するチェックリスト"]
[]
[]
[null,null,null,null,null,null,null,null,null,null,null,null,null,null,null,null,"以　　上"]

{"sheet":"チェックリスト","index":4,"n_rows":76,"n_cols":9,"rows_kept":76,"cut":false,"hidden":false,"merged":[[26,0,27,0],[26,3,26,5],[26,6,26,8],[26,1,27,2],[13,0,13,1],[13,2,13,3],[13,4,13,6],[13,7,13,8],[14,0,14,1],[14,2,14,3],[14,4,14,6],[14,7,14,8],[15,0,15,1],[15,2,15,3],[15,4,15,6],[15,7,15,8],[16,0,16,8],[17,0,17,8],[18,6,18,8],[19,6,19,8],[20,1,20,2],[20,3,20,5],[20,6,20,8],[21,3,21,5],[21,6,21,8],[10,0,10,1],[10,2,10,3],[10,4,10,6],[10,7,10,8],[11,0,11,1],[11,2,11,3],[11,4,11,6],[11,7,11,8],[12,0,12,1],[12,2,12,3],[12,4,12,6],[12,7,12,8],[21,1,25,1],[22,3,22,5],[22,6,22,8],[23,3,23,5],[23,6,23,8],[24,3,24,5],[24,6,24,8],[25,3,25,5],[25,6,25,8],[1,0,1,8],[4,6,4,8],[8,0,8,1],[8,2,8,3],[8,4,8,6],[8,7,8,8],[9,0,9,1],[9,2,9,3],[9,4,9,6],[9,7,9,8],[27,3,27,5],[27,6,27,8],[28,1,28,2],[28,3,28,5],[28,6,28,8],[29,1,29,2],[29,3,29,5],[29,6,29,8],[30,1,30,2],[30,3,30,5],[30,6,30,8],[31,1,31,2],[31,3,31,5],[31,6,31,8],[32,1,32,2],[32,3,32,5],[32,6,32,8],[33,1,33,2],[33,3,33,5],[33,6,33,8],[34,1,34,2],[34,3,34,5],[34,6,34,8],[38,3,38,5],[38,6,38,8],[39,1,39,2],[39,3,39,5],[39,6,39,8],[36,1,36,2],[37,3,37,5],[37,6,37,8],[36,3,36,5],[36,6,36,8],[35,6,35,8],[35,1,35,2],[35,3,35,5],[40,1,40,2],[40,3,40,5],[40,6,40,8],[41,1,41,2],[41,3,41,5],[41,6,41,8],[42,1,42,2],[42,3,42,5],[42,6,42,8],[43,1,43,2],[43,3,43,5],[43,6,43,8],[44,1,44,2],[44,3,44,5],[44,6,44,8],[45,1,45,2],[45,3,45,5],[45,6,45,8],[46,1,46,2],[46,3,46,5],[46,6,46,8],[47,1,47,2],[47,3,47,5],[47,6,47,8],[48,1,48,2],[48,3,48,5],[48,6,48,8],[72,4,72,7],[55,1,55,2],[55,3,55,5],[55,6,55,8],[59,0,59,8],[73,0,73,8],[75,0,75,8],[65,0,65,8],[66,0,66,8],[68,6,68,8],[69,0,72,1],[69,2,69,8],[70,2,70,3],[70,4,70,7],[71,2,71,3],[71,4,71,7],[72,2,72,3],[74,0,74,8],[56,0,56,8],[57,0,57,8],[58,0,58,2],[58,3,58,5],[58,6,58,8],[60,0,60,8],[62,6,62,8],[63,0,64,1],[63,2,63,3],[63,4,63,5],[63,6,63,8],[64,6,64,8],[49,1,49,2],[49,3,49,5],[49,6,49,8],[50,1,50,2],[50,3,50,5],[50,6,50,8],[51,1,51,2],[51,3,51,5],[51,6,51,8],[52,1,52,2],[52,3,52,5],[52,6,52,8],[54,1,54,2],[54,3,54,5],[54,6,54,8],[53,1,53,2],[53,3,53,5],[53,6,53,8]]}
[{"$f":"付属書1!$A$3","v":"一般財団法人日本品質保証機構　御中"}]
["グリーン電力の認証要件に関するチェックリスト"]
[null,null,null,null,null,null,null,null,{"$f":"基本情報入力!C3","v":"2020-04-01"}]
[null,null,null,null,null,null,"（申請者）"]
[null,null,null,null,null,null,{"$f":"基本情報入力!C4","v":"○○○○株式会社"}]
[null,null,null,null,null,null,null,{"$f":"基本情報入力!C5","v":"代表取締役社長"}]
[null,null,null,null,null,null,null,null,{"$f":"基本情報入力!C6","v":"○○　○○"}]
["グリーン電力の要件を満たすことを示す関係書類等は以下の通りです。"]
["項目",null,"基準の概要",null,"適合説明",null,null,"関連資料・備考"]
["2-3-1\n発電方式",null,"以下の条件を全て満たす再生可能エネルギーによるものとする。\n（1）化石燃料・原子力による発電でないこと\n（2）温室効果ガス、および硫黄・窒素酸化物等有害ガスの排出がゼロまたは著しく少ないこと",null,"記入例：グリーン電力認証基準に該当する○○○による○○○○発電であり、温室効果ガスの排出はなく、有害ガスの排出は著しく少なく、左記（１）、（２）の要件をともに満たしている。\n",null,null,"記入例：「計量証明書」（写）\n記入例：燃料種別使用燃料一覧表"]
["2-3-2\n発電電力量",null,"電力量の測定が的確に行われており、かつ以下のいずれかに該当するものとする。\n（1）電力系統に供給されている\n（2）補機類での消費を除く所内消費",null,"記入例：検定済電力量計が取り付けられており（又は設置予定であり）、発電電力量を的確に測定できる。\n記入例：「認証可能電力量の確認方法」による計算とし、所内消費を対象としていることを確認。\n以上より、左記（２）に該当する。",null,null,"附属書10「認証可能電力量の確認方法」\n附属書25「発電設備結線図」\n記入例：系統連系サービス契約書（写）"]
["2-3-3\n追加性要件",null,"グリーン電力の取引によって設置、もしくは維持されて発電しているもの。またはグリーン電力の取引が他設備のグリーン電力拡大に貢献しているもの",null,"記入例：グリーン電力の取引行為により、今後の本設備の維持や更新におけるコスト負担について有意な貢献を行うことが期待される。\n記入例：グリーン電力の取引行為により、設備の増設や新たな設備の新設などについて有意な貢献を行うことが期待される。\n記入例：補助金等による助成があるものの、建設コストに占める割合は1/2以下であり、追加性要件は満足しているものと考える。\n記入例：本件のグリーン電力取引行為は、電力の自家消費分が対象であり、FIT法の対象とならない。\n以上より、要件（２）及び（３）に該当する。",null,null,"記入例：設備維持更新予定書（写）\n記入例：設備増設（新設）計画書（写）\n記入例：補助金等収支計画書（写）"]
["2-3-4\n環境価値の帰属",null,"認証されたグリーン電力の価値がグリーン電力価値の購入者たる顧客に帰属することを示さなければならない。",null,"記入例：電気以外の価値がグリーン電力の購入者たる顧客に帰属することを、発電者と弊事業者との間で契約上担保している。\n記入例：発電者のホームページや広報誌等においてCO2削減などの表現をしないことを確認している。\n記入例：J クレジット等の環境価値の譲渡に係る制度との重複が無い事、およびグリ－ン電力証書化への意思を確認している。",null,null,"記入例：発電業務委託契約書（写）"]
["2-3-5\n環境の影響評価",null,"生態系、環境等への影響について適切な評価・対策を行っていること。また以下の内容について日本品質保証機構に報告をしなければならない。 \n（1）環境への影響評価 \n（2）個別の発電方式ごとに日本品質保証機構が定める環境モニタリング",null,"記入例：周辺環境に及ぼす影響評価の報告書もしくは情報を提出。",null,null,"記入例：環境影響評価書（写）\n記入例：「計量証明書」（写）"]
["2-3-6\n社会的合意",null,"立地に対する関係者との合意に達していることとし、その内容について日本品質保証機構に報告をしなければならない。",null,"記入例：周辺住民は了解しており、近隣からの苦情等は特にない。",null,null,"記入例：地元協議書（写）"]
["2-3-7\n情報の公開",null,"（1）日本品質保証機構に提出された資料は、公表されることを了承する。※１ \n（2）顧客に対して、グリーン電力に関する十分な情報が開示されていることとし、その開示状況を報告する。",null,"記入例：了承します。ただし、個人情報・企業秘密情報を除く。"]
["＊原則として、上記要件を満たすことを記載しなければならないが、口頭説明にて申請する場合は、「口頭説明」と明記する。"]
["※1･･･個人情報や機密情報等の理由により非公開扱いとする場合は資料にその旨を明記すること。"]
[]
["関係法令表"]
["番号","関係法令等※2",null,"手続き状況※3",null,null,"備考"]
[1,"電気事業法","工事計画届出","記入例：工事計画届出済",null,null,"記入例：資料〇「工事計画届出書」"]
[null,null,"保安規定届出","記入例：保安規定変更届出済",null,null,"記入例：資料〇「保安規定変更届出書」"]
[null,null,"主任技術者選任","記入例：主任技術者選任届出済",null,null,"記入例：資料〇「主任技術者選任又は解任届出書」"]
[null,null,"使用前安全管理審査","記入例：定期安全管理審査結果通知済",null,null,"記入例：資料〇「定期安全管理審査の審査結果及び評定結果の通知」"]
[null,null,"溶接安全管理審査","記入例：溶接安全管理審査結果通知済",null,null,"記入例：資料〇「溶接安全管理審査の審査結果及び評定結果の通知」"]
[2,"電力会社との系統連係協議及び電力受給契約",null,"記入例：電力会社との系統連系協議済み",null,null,"記入例：資料○「発電設備系統連系サービス契約書」"]
[null,null,null,"記入例：電力会社との受給契約締結済み",null,null,"記入例：資料○「受給契約書」"]
[3,"RPS法",null,"記入例：該当しない"]
[4,"FIT法",null,"記入例：該当しない"]
[5,"エネルギーの使用の合理化に関する法律",null,"記入例：特定事業者",null,null,"記入例：資料〇 「指定通知書」"]
[6,"国土利用計画法",null,"記入例：該当しない"]
[7,"騒音規制法",null,"記入例：騒音測定済",null,null,"記入例：資料〇「騒音測定結果報告書」"]
[8,"振動規制法",null,"記入例：該当しない"]
[9,"労働安全衛生法",null,"記入例：ボイラー設置届済",null,null,"記入例：資料〇「ボイラー設置届」"]
[10,"建築基準法",null,"記入例：建築確認済",null,null,"記入例：資料〇「建築確認申請書」\n記入例：資料○「建築確認通知書」\n記入例：資料〇「検査済証」"]
[11,"消防法",null,"記入例：消防用設備等設置計画届出済",null,null,"記入例：資料○「消防用設備等設置計画届出書」"]
[null,null,null,"記入例：ボイラー設置届出済",null,null,"記入例：資料○「ボイラー設置届出書」"]
[null,null,null,"記入例：少量危険物貯蔵届出済",null,null,"記入例：資料○「少量危険物貯蔵届出書」"]
[12,"高圧ガス保安法",null,"記入例：該当しない"]
[13,"熱供給事業法",null,"記入例：該当しない"]
[14,"農地法",null,"記入例：該当しない"]
[15,"都市計画法",null,"記入例：該当しない"]
[16,"大気汚染防止法",null,"記入例：ばい煙発生施設設置届出済",null,null,"記入例：資料〇「ばい煙発生施設設置届出書」\n記入例：資料〇「排ガス濃度測定結果報告書」"]
[17,"悪臭防止法",null,"記入例：該当しない"]
[18,"水質汚濁防止法",null,"記入例：該当しない",null,null,"記入例：資料〇「計量証明書」"]
[19,"肥料取締法",null,"記入例：該当しない"]
[20,"工場立地法",null,"記入例：該当しない"]
[21,"森林法",null,"記入例：該当しない"]
[22,"建設工事に関わる資材の再資源化等に関する法律",null,"記入例：該当しない"]
[23,"ダイオキシン類対策特別措置法",null,"記入例：該当しない"]
[24,"航空法",null,"記入例：航空障害灯設置届出済",null,null,"記入例：資料〇「航空障害灯設置届出」"]
[25,"自然公園法",null,"記入例：該当しない"]
[26]
[27]
[28]
[]
["その他（景観条例・地元との協議等）"]
["記入例：バイオマス発電所建設の説明",null,null,"記入例：計画通知済み",null,null,"記入例：周辺住民は了解しており、近隣からの苦情等は特にない。"]
["※2･･･記載する内容等についてはグリーン電力認証基準解説書を参照のこと。"]
["※3･･･可能ならば申請書類の受理番号や時期等について記入のこと。"]
[]
["その他（検定済計量器の設置について）"]
["設置の有無",null,"有の場合※4",null,"無の場合※5",null,"備考"]
[null,null,"有効期限","2022-01-10","設置予定年月"]
["※4･･･設置済みの場合は、施設図に明示し、検定マーク（有効期限）を含んだ計量器の写真を添付すること。"]
["※5･･･設備認定後に検定済計量器へ変更する場合は、検定済計量器による電力量の測定を開始した時点からのグリーン電力量認証の対象とする。"]
[]
["その他（補助金等の公的助成について）"]
["助成の有無※6※7",null,"有の場合※8"]
[null,null,"助成機関の名称",null,"補助金等の名称",null,null,null,"補助率（％）"]
[null,null,"記入例：環境省",null,"記入例：〇〇事業費補助事業",null,null,null,"イニシャル：30％"]
[null,null,"記入例：国土交通省",null,"記入例：〇〇事業費補助事業",null,null,null,"ランニング：30％"]
["※6･･･家庭用太陽光発電の場合で「有」を選択された場合は、「附属書24太陽光発電所ファーム詳細書（非公表用）」の備考欄に助成機関の名称を記載すること。"]
["※7･･･補助金等以外でも、売電等による収入がある場合は、その旨記載すること。"]
["※8･･･複数の助成を受けている場合には、それぞれに分けて記載すること。"]

{"sheet":"付属書10","index":5,"n_rows":76,"n_cols":18,"rows_kept":76,"cut":false,"hidden":false,"merged":[[39,14,39,19],[40,14,40,19],[41,14,41,19],[42,14,42,19],[33,14,33,19],[34,14,34,19],[44,2,44,6],[45,2,45,6],[33,7,33,13],[34,7,34,13],[35,7,35,13],[37,7,37,13],[38,7,38,13],[41,7,41,13],[42,7,42,13],[43,7,43,13],[44,7,44,13],[45,7,45,13],[34,2,34,6],[35,2,35,6],[43,2,43,6],[40,2,40,6],[2,0,3,20],[4,3,4,17],[5,15,5,20],[7,11,8,20],[9,12,9,20],[36,2,36,6],[36,7,36,13],[36,14,36,19],[26,2,26,19],[27,2,27,19],[28,2,28,19],[10,13,10,20],[17,1,19,19],[30,0,31,9],[20,1,21,6],[22,2,23,19],[24,1,25,6],[29,2,29,19],[48,1,48,2],[48,3,48,19],[50,17,50,20],[15,0,16,5],[32,1,32,6],[32,7,32,13],[32,14,32,19],[39,2,39,6],[46,2,46,6],[46,7,46,13],[43,14,43,19],[44,14,44,19],[45,14,45,19],[46,14,46,19],[33,2,33,6],[37,2,37,6],[38,2,38,6],[41,2,41,6],[35,14,35,19],[37,14,37,19],[38,14,38,19],[39,7,39,13],[40,7,40,13],[42,2,42,6],[53,2,53,12],[53,13,53,14],[53,15,53,16],[53,17,53,19],[54,2,54,12],[54,13,54,14],[54,15,54,16],[54,17,54,19],[51,1,51,3],[52,2,52,12],[52,13,52,14],[52,15,52,16],[52,17,52,19],[57,2,57,12],[57,13,57,14],[57,15,57,16],[57,17,57,19],[58,2,58,12],[58,13,58,14],[58,15,58,16],[58,17,58,19],[55,2,55,12],[55,13,55,14],[55,15,55,16],[55,17,55,19],[56,2,56,12],[56,13,56,14],[56,15,56,16],[56,17,56,19],[61,2,61,12],[61,13,61,14],[61,15,61,16],[61,17,61,19],[62,2,62,12],[62,13,62,14],[62,15,62,16],[62,17,62,19],[59,2,59,12],[59,13,59,14],[59,15,59,16],[59,17,59,19],[60,2,60,12],[60,13,60,14],[60,15,60,16],[60,17,60,19],[65,2,65,12],[65,13,65,14],[65,15,65,16],[65,17,65,19],[66,2,66,12],[66,13,66,14],[66,15,66,16],[66,17,66,19],[63,2,63,12],[63,13,63,14],[63,15,63,16],[63,17,63,19],[64,2,64,12],[64,13,64,14],[64,15,64,16],[64,17,64,19],[69,2,69,12],[69,13,69,14],[69,15,69,16],[69,17,69,19],[70,2,70,12],[70,13,70,14],[70,15,70,16],[70,17,70,19],[67,2,67,12],[67,13,67,14],[67,15,67,16],[67,17,67,19],[68,2,68,12],[68,13,68,14],[68,15,68,16],[68,17,68,19],[73,2,73,12],[73,13,73,14],[73,15,73,16],[73,17,73,19],[75,17,75,20],[71,2,71,12],[71,13,71,14],[71,15,71,16],[71,17,71,19],[72,2,72,12],[72,13,72,14],[72,15,72,16],[72,17,72,19]]}
[{"$f":"付属書1!$A$3","v":"一般財団法人日本品質保証機構　御中"}]
[]
["認証可能電力量の確認方法"]
[]
[]
[null,null,null,null,null,null,null,null,null,null,null,null,null,null,null,{"$f":"基本情報入力!$C$3","v":"2020-04-01"}]
[null,null,null,null,null,null,null,null,null,null,"（申請者）　　　　　　　　　　　　　　　"]
[null,null,null,null,null,null,null,null,null,null,null,{"$f":"基本情報入力!$C$4","v":"○○○○株式会社"}]
[]
[null,null,null,null,null,null,null,null,null,null,null,null,{"$f":"基本情報入力!$C$5","v":"代表取締役社長"}]
[null,null,null,null,null,null,null,null,null,null,null,null,null,{"$f":"基本情報入力!$C$6","v":"○○　○○"}]
[]
[]
[]
[" 1.認証可能電力量を算定する計算式"]
["　【全体の計算式】"]
[]
[null,{"$f":"IF(AND(基本情報入力!G5=\"なし\",基本情報入力!G7=\"なし\",基本情報入力!G10=\"なし\"),CONCATENATE(\"認証可能電力量＝\",基本情報入力!F3),IF(AND(基本情報入力!G5<>\"なし\",基本情報入力!G7=\"なし\",基本情報入力!G10=\"なし\"),CONCATENATE(\"認証可能電力量＝\",基本情報入力!F3,\"－\",基本情報入力!F5),IF(AND(基本情報入力!G5=\"なし\",基本情報入力!G7<>\"なし\",基本情報入力!G9=\"なし\",基本情報入力!G10=\"なし\"),CONCATENATE(\"認証可能電力量＝\",基本情報入力!F3,\"－\",基本情報入力!F7),IF(AND(基本情報入力!G5=\"なし\",基本情報入力!G7<>\"なし\",基本情報入力!G9<>\"なし\",基本情報入力!G10=\"なし\"),CONCATENATE(\"認証可能電力量＝\",基本情報入力!F3,\"－\",基本情報入力!F7,REPT(\"／（１－変圧器ロス率）\",基本情報入力!H9)),IF(AND(基本情報入力!G5<>\"なし\",基本情報入力!G7<>\"なし\",基本情報入力!G9<>\"なし\",基本情報入力!G10=\"なし\"),CONCATENATE(\"認証可能電力量＝\",基本情報入力!F3, \"－\",基本情報入力!F5,\"－\",基本情報入力!F7, REPT(\"／（１－変圧器ロス率）\",基本情報入力!H9)),IF(AND(基本情報入力!G5<>\"なし\",基本情報入力!G7<>\"なし\",基本情報入力!G9=\"なし\",基本情報入力!G10=\"なし\"),CONCATENATE(\"認証可能電力量＝\",基本情報入力!F3,\"－\",基本情報入力!F5,\"－\",基本情報入力!F7),IF(AND(基本情報入力!G5=\"なし\",基本情報入力!G7=\"なし\",基本情報入力!G10<>\"なし\"),CONCATENATE(\"認証可能電力量＝\",基本情報入力!F3, \"×\",基本情報入力!F10),IF(AND(基本情報入力!G5<>\"なし\",基本情報入力!G7=\"なし\",基本情報入力!G10<>\"なし\"),CONCATENATE(\"認証可能電力量＝（\",基本情報入力!F3,\"－\",基本情報入力!F5, \"）\",\"×\",基本情報入力!F10),IF(AND(基本情報入力!G5=\"なし\",基本情報入力!G7<>\"なし\",基本情報入力!G9=\"なし\",基本情報入力!G10<>\"なし\"),CONCATENATE(\"認証可能電力量＝（\",基本情報入力!F3,\"－\",基本情報入力!F7, \"）\",\"×\",基本情報入力!F10),IF(AND(基本情報入力!G5=\"なし\",基本情報入力!G7<>\"なし\",基本情報入力!G9<>\"なし\",基本情報入力!G10<>\"なし\"),CONCATENATE(\"認証可能電力量＝（\",基本情報入力!F3,\"－\",基本情報入力!F7, \"／（１－変圧器ロス率））\",\"×\",基本情報入力!F10),IF(AND(基本情報入力!G5<>\"なし\",基本情報入力!G7<>\"なし\",基本情報入力!G9<>\"なし\",基本情報入力!G10<>\"なし\"),CONCATENATE(\"認証可能電力量＝（\",基本情報入力!F3, \"－\",基本情報入力!F5,\"－\",基本情報入力!F7, \"／（１－変圧器ロス率））\",\"×\",基本情報入力!F10),IF(AND(基本情報入力!G5<>\"なし\",基本情報入力!G7<>\"なし\",基本情報入力!G9=\"なし\",基本情報入力!G10<>\"なし\"),CONCATENATE(\"認証可能電力量＝（\",基本情報入力!F3,\"－\",基本情報入力!F5,\"－\",基本情報入力!F7,\"）\", \"×\",基本情報入力!F10)))))))))))))","v":"認証可能電力量＝（①発電電力量－②補機使用電力量－③売電電力量／（１－変圧器ロス率））×⑤バイオマス比率"}]
[]
[]
[null,"      ≪補機使用電力量の計算式≫"]
[]
[null,null,{"$f":"IF(基本情報入力!G5=\"定格出力×期間日数\",CONCATENATE(基本情報入力!F5,\"⇒\",\"a.定格出力×b.期間日数\"),IF(基本情報入力!G5=\"定格出力×計測による稼働時間\",CONCATENATE(基本情報入力!F5,\"⇒\",\"a.定格出力×b.計測による稼働時間\"),\"\"))","v":""}]
[]
[null,"      ≪バイオマス比率の計算式≫"]
[]
[]
[]
[]
[]
[" 2.提出書類"]
[]
[null,"提出書類等",null,null,null,null,null,"目的",null,null,null,null,null,null,"備考・説明"]
[null,"①",{"$f":"IF(OR(基本情報入力!G3=\"計器写真\",基本情報入力!G3=\"運転月報等\"),CONCATENATE(基本情報入力!G3),\"\")","v":"計器写真"}]
[null,"①'",{"$f":"IF(OR(基本情報入力!G4=\"\",基本情報入力!G4=\"なし\"),\"\",CONCATENATE(,基本情報入力!G4))","v":""},null,null,null,null,"①の傍証として"]
[null,"②",{"$f":"IF(基本情報入力!G5=\"定格出力×期間日数\",CONCATENATE(\"運転記録等\"),IF(基本情報入力!G5=\"定格出力×計測による稼働時間\",CONCATENATE(\"運転記録等\"),IF(基本情報入力!G5=\"計器写真\",CONCATENATE(\"計器写真\"),IF(基本情報入力!G5=\"運転月報等\",CONCATENATE(\"運転月報等\"),\"\"))))","v":"計器写真"}]
[null,"②a",{"$f":"IF(基本情報入力!G5=\"定格出力×期間日数\",CONCATENATE(\"補機定格出力\"),IF(基本情報入力!G5=\"定格出力×計測による稼働時間\",CONCATENATE(\"補機定格出力\")))","v":false},null,null,null,null,"補機定格出力",null,null,null,null,null,null,{"$f":"#REF!","v":{"$error":"#REF!"}}]
[null,"②'",{"$f":"IF(OR(基本情報入力!G6=\"計器写真\",基本情報入力!G6=\"運転月報等\"),CONCATENATE(,基本情報入力!G6),\"\")","v":""},null,null,null,null,"②の傍証として"]
[null,"③",{"$f":"IF(基本情報入力!G7=\"電力会社検針票（指示数）\",CONCATENATE(\"電力会社検針票\"),IF(基本情報入力!G7=\"電力会社検針票（電力量）\",CONCATENATE(\"電力会社検針票\"),IF(基本情報入力!G7=\"計器写真\",CONCATENATE(\"計器写真\"))))","v":"電力会社検針票"}]
[null,"③'",{"$f":"IF(基本情報入力!G8=\"電力会社検針票（指示数）\",CONCATENATE(\"電力会社検針票\"),IF(基本情報入力!G8=\"電力会社検針票（電力量）\",CONCATENATE(\"電力会社検針票\"),IF(基本情報入力!G8=\"計器写真\",CONCATENATE(\"計器写真\"))))","v":false},null,null,null,null,"③の傍証として"]
[null,"④",{"$f":"IF(基本情報入力!G9=\"あり\",\"変圧器ロス率\",\"\")","v":"変圧器ロス率"},null,null,null,null,null,null,null,null,null,null,null,{"$f":"計算シート!D73","v":0.03}]
[null,"⑤"]
[null,"⑤"]
[null,"⑤"]
[null,"⑤"]
[null,"⑤"]
[null,"⑤"]
[]
[null,"特記事項",null,"記入例：補機を有しているが、発電電力量計での計測において補機使用電力量分を除いている。"]
[]
[]
[null,"補機リスト"]
[null,"番号","機器名称",null,null,null,null,null,null,null,null,null,null,"台数",null,"単機容量\n（kW）",null,"合計容量\n（kW）"]
[null,1,"○○○○ポンプ",null,null,null,null,null,null,null,null,null,null,3,null,3.7,null,{"$f":"N54*P54","v":11.100000000000001}]
[null,2,"○○○○ポンプ",null,null,null,null,null,null,null,null,null,null,1,null,4,null,{"$f":"N55*P55","v":4}]
[null,3,"○○○○ポンプ",null,null,null,null,null,null,null,null,null,null,4,null,2,null,{"$f":"N56*P56","v":8}]
[]
[]
[]
[]
[]
[]
[]
[]
[]
[]
[]
[]
[]
[]
[]
[]
[]
[null,null,"合　　計",null,null,null,null,null,null,null,null,null,null,null,null,null,null,{"$f":"SUM(R54:T73)","v":23.1}]
[]
[null,null,null,null,null,null,null,null,null,null,null,null,null,null,null,null,null,"以　　上"]

{"sheet":"計算シート","index":6,"n_rows":73,"n_cols":14,"rows_kept":73,"cut":false,"hidden":false,"merged":[[71,8,71,9],[72,8,72,9],[71,1,71,2],[72,1,72,2],[42,1,42,2],[42,3,42,4],[42,5,42,6],[42,7,42,8],[42,9,42,10],[49,3,49,4],[49,5,49,6],[49,7,49,8],[58,1,58,2],[58,3,58,4],[58,5,58,6],[58,7,58,8],[58,9,58,10],[72,3,72,4],[71,5,71,6],[72,5,72,6],[53,3,53,4],[53,5,53,6],[43,1,43,2],[53,7,53,8],[1,0,1,14],[5,13,5,14],[9,3,9,4],[9,5,9,6],[9,7,9,8],[10,3,10,4],[10,5,10,6],[10,7,10,8],[8,5,8,6],[8,7,8,8],[5,3,5,4],[7,3,7,4],[7,5,7,6],[7,7,7,8],[8,3,8,4],[5,5,5,6],[5,7,5,8],[6,3,6,4],[6,5,6,6],[6,7,6,8],[16,13,18,14],[17,1,17,2],[17,3,17,4],[17,5,17,6],[17,7,17,8],[15,11,15,12],[15,13,15,14],[16,1,16,2],[16,3,16,4],[16,5,16,6],[16,7,16,8],[16,9,16,10],[16,11,16,12],[15,1,15,2],[15,3,15,4],[15,5,15,6],[15,7,15,8],[15,9,15,10],[17,9,17,10],[17,11,17,12],[18,1,18,2],[18,3,18,4],[18,5,18,6],[18,7,18,8],[18,9,18,10],[18,11,18,12],[42,11,42,12],[59,1,59,2],[59,3,59,4],[59,5,59,6],[59,7,59,8],[59,9,59,10],[59,11,59,12],[36,5,36,6],[37,5,37,6],[43,3,43,4],[43,5,43,6],[43,7,43,8],[43,9,43,10],[43,11,43,12],[44,1,44,2],[44,3,44,4],[44,5,44,6],[44,7,44,8],[44,9,44,10],[44,11,44,12],[45,1,45,2],[45,3,45,4],[43,13,45,14],[59,13,61,14],[61,1,61,2],[61,3,61,4],[61,5,61,6],[61,7,61,8],[61,9,61,10],[61,11,61,12],[60,1,60,2],[60,3,60,4],[60,5,60,6],[60,7,60,8],[60,9,60,10],[60,11,60,12],[50,13,54,14],[51,3,51,4],[51,5,51,6],[54,3,54,4],[71,13,71,14],[72,13,72,14],[38,1,38,10],[11,3,11,4],[11,5,11,6],[11,7,11,8],[6,13,11,14],[71,3,71,4],[36,13,36,14],[37,13,37,14],[31,1,31,2],[30,5,30,6],[31,5,31,6],[30,13,30,14],[31,13,31,14],[32,1,32,10],[24,3,24,4],[24,5,24,6],[24,7,24,8],[22,3,22,4],[22,5,22,6],[45,5,45,6],[45,7,45,8],[22,13,22,14],[22,7,22,8],[23,3,23,4],[23,5,23,6],[23,7,23,8],[58,11,58,12],[50,3,50,4],[50,5,50,6],[50,7,50,8],[67,3,67,4],[67,5,67,6],[67,7,67,8],[54,5,54,6],[25,3,25,4],[25,5,25,6],[25,7,25,8],[26,3,26,4],[26,5,26,6],[26,7,26,8],[45,9,45,10],[45,11,45,12],[23,13,26,14],[66,13,67,14],[36,1,36,2],[37,1,37,2],[36,3,36,4],[37,3,37,4],[30,3,30,4],[31,3,31,4],[65,3,65,4],[65,5,65,6],[65,7,65,8],[54,7,54,8],[51,7,51,8],[52,3,52,4],[52,5,52,6],[52,7,52,8],[65,13,65,14],[66,3,66,4],[66,5,66,6],[66,7,66,8],[58,13,58,14],[49,13,49,14],[30,1,30,2],[42,13,42,14]]}
[]
[{"$f":"CONCATENATE(\"  認証可能電力量　　計算例\")","v":"  認証可能電力量　　計算例"}]
[null,null,null,null,null,null,null,null,"期間：","2018-04-01","～","2019-03-31"]
[]
["①発電電力量（計器写真）"]
[null,"計器","乗率","始　　期",null,"終　　期",null,"発電電力量",null,null,null,null,null,"①発電電力量"]
[null,"０00000",10,18591.099999999999,null,33473.199999999997,null,{"$f":"(F7-D7)*C7","v":148821},null,null,null,null,null,{"$f":"SUBTOTAL(109,H7:I12)","v":298280}]
[null,"０00000",10,27114.7,null,42060.6,null,149458.99999999997]
[null,"計器C",1,100,null,100100,null,100000]
[null,"計器D",1,100,null,100100,null,100000]
[null,"計器E",1,100,null,100100,null,100000]
[null,"計器Ｆ",1,100,null,100100,null,100000]
[]
[]
["①発電電力量（月報等）"]
[null,{"$f":"DATE(YEAR(J3),MONTH(J3),1)","v":"2018-04-01"},null,{"$f":"DATE(YEAR(B16),MONTH(B16)+1,DAY(B16))","v":"2018-05-01"},null,{"$f":"DATE(YEAR(D16),MONTH(D16)+1,DAY(D16))","v":"2018-06-01"},null,{"$f":"DATE(YEAR(F16),MONTH(F16)+1,DAY(F16))","v":"2018-07-01"},null,{"$f":"DATE(YEAR(H16),MONTH(H16)+1,DAY(H16))","v":"2018-08-01"},null,{"$f":"DATE(YEAR(J16),MONTH(J16)+1,DAY(J16))","v":"2018-09-01"},null,"①発電電力量"]
[null,200000,null,null,null,null,null,null,null,null,null,null,null,{"$f":"SUM(B17:M17,B19:M19)","v":200000}]
[null,{"$f":"DATE(YEAR(L16),MONTH(L16)+1,DAY(L16))","v":"2018-10-01"},null,{"$f":"DATE(YEAR(B18),MONTH(B18)+1,DAY(B18))","v":"2018-11-01"},null,{"$f":"DATE(YEAR(D18),MONTH(D18)+1,DAY(D18))","v":"2018-12-01"},null,{"$f":"DATE(YEAR(F18),MONTH(F18)+1,DAY(F18))","v":"2019-01-01"},null,{"$f":"DATE(YEAR(H18),MONTH(H18)+1,DAY(H18))","v":"2019-02-01"},null,{"$f":"DATE(YEAR(J18),MONTH(J18)+1,DAY(J18))","v":"2019-03-01"}]
[]
[]
[]
["②補機電力量（計器写真）"]
[null,"計器","乗率","始　　期",null,"終　　期",null,"電力量",null,null,null,null,null,"②補機電力量"]
[null,"０00000",1,100,null,200,null,{"$f":"(F24-D24)*C24","v":100},null,null,null,null,null,{"$f":"SUBTOTAL(109,H24:I27)","v":100}]
[null,"計器②",1,100,null,200,null,{"$f":"(F25-D25)*C25","v":100}]
[null,"計器③",1,100,null,200,null,{"$f":"(F26-D26)*C26","v":100}]
[null,"計器④",1,100,null,200,null,{"$f":"(F27-D27)*C27","v":100}]
[]
[]
["②補機電力量（定格出力×期間日数・時間数）"]
[null,"補機定格出力合計",null,"1日あたりの補機電力量",null,"日数",null,null,null,null,null,null,null,"②補機電力量"]
[null,{"$f":"#REF!","v":{"$error":"#REF!"}},null,{"$f":"#REF!","v":{"$error":"#REF!"}},null,{"$f":"L3-J3+1","v":365},null,null,null,null,null,null,null,{"$f":"D32*F32","v":{"$error":"#REF!"}}]
[null,"※別シートに補機リストを作成し、その合計値の箇所をリンクさせてください。"]
[]
[]
["②補機電力量（定格出力×稼働時間（計測による）)"]
[null,"補機定格出力合計",null,"稼働時間合計",null,"電力量",null,null,null,null,null,null,null,"②補機電力量"]
[null,{"$f":"#REF!","v":{"$error":"#REF!"}},null,{"$f":"#REF!","v":{"$error":"#REF!"}},null,{"$f":"#REF!","v":{"$error":"#REF!"}},null,null,null,null,null,null,null,{"$f":"F38","v":{"$error":"#REF!"}}]
[null,"※別シートに補機リストと計測結果を作成し、それぞれの合計値の箇所をリンクさせてください。"]
[]
[]
["②補機電力量（月報等）"]
[null,{"$f":"DATE(YEAR(J3),MONTH(J3),1)","v":"2018-04-01"},null,{"$f":"DATE(YEAR(B43),MONTH(B43)+1,DAY(B43))","v":"2018-05-01"},null,{"$f":"DATE(YEAR(D43),MONTH(D43)+1,DAY(D43))","v":"2018-06-01"},null,{"$f":"DATE(YEAR(F43),MONTH(F43)+1,DAY(F43))","v":"2018-07-01"},null,{"$f":"DATE(YEAR(H43),MONTH(H43)+1,DAY(H43))","v":"2018-08-01"},null,{"$f":"DATE(YEAR(J43),MONTH(J43)+1,DAY(J43))","v":"2018-09-01"},null,"②補機電力量"]
[null,999,null,null,null,null,null,null,null,null,null,null,null,{"$f":"SUM(B44:M44,B46:M46)","v":999}]
[null,{"$f":"DATE(YEAR(L43),MONTH(L43)+1,DAY(L43))","v":"2018-10-01"},null,{"$f":"DATE(YEAR(B45),MONTH(B45)+1,DAY(B45))","v":"2018-11-01"},null,{"$f":"DATE(YEAR(D45),MONTH(D45)+1,DAY(D45))","v":"2018-12-01"},null,{"$f":"DATE(YEAR(F45),MONTH(F45)+1,DAY(F45))","v":"2019-01-01"},null,{"$f":"DATE(YEAR(H45),MONTH(H45)+1,DAY(H45))","v":"2019-02-01"},null,{"$f":"DATE(YEAR(J45),MONTH(J45)+1,DAY(J45))","v":"2019-03-01"}]
[]
[]
[]
["③売電電力量（計器写真）"]
[null,"計器","乗率","始　　期",null,"終　　期",null,"電力量",null,null,null,null,null,"③売電電力量"]
[null,154961,2400,93.837999999999994,null,98.738,null,{"$f":"(F51-D51)*C51","v":11760.000000000015},null,null,null,null,null,{"$f":"SUBTOTAL(109,H51:I55)","v":0}]
[null,154961,2400,75.778000000000006,null,93.837999999999994,null,{"$f":"(F52-D52)*C52","v":43343.999999999971}]
[null,"計器C",1,111,null,211,null,{"$f":"(F53-D53)*C53","v":100}]
[null,"計器D",1,111,null,211,null,{"$f":"(F54-D54)*C54","v":100}]
[null,"計器E",1,111,null,211,null,{"$f":"(F55-D55)*C55","v":100}]
[]
[]
["③売電電力量（検針票の電力量合計）",null,null,null,null,"検針票月表示調整：",null,0]
[null,{"$f":"DATE(YEAR(J3),MONTH(J3)+H58,DAY(1))","v":"2018-04-01"},null,{"$f":"DATE(YEAR(B59),MONTH(B59)+1,DAY(B59))","v":"2018-05-01"},null,{"$f":"DATE(YEAR(D59),MONTH(D59)+1,DAY(D59))","v":"2018-06-01"},null,{"$f":"DATE(YEAR(F59),MONTH(F59)+1,DAY(F59))","v":"2018-07-01"},null,{"$f":"DATE(YEAR(H59),MONTH(H59)+1,DAY(H59))","v":"2018-08-01"},null,{"$f":"DATE(YEAR(J59),MONTH(J59)+1,DAY(J59))","v":"2018-09-01"},null,"③売電電力量"]
[null,0,null,0,null,0,null,0,null,0,null,0,null,{"$f":"SUM(B60:M60,B62:M62)","v":0}]
[null,{"$f":"DATE(YEAR(L59),MONTH(L59)+1,DAY(L59))","v":"2018-10-01"},null,{"$f":"DATE(YEAR(B61),MONTH(B61)+1,DAY(B61))","v":"2018-11-01"},null,{"$f":"DATE(YEAR(D61),MONTH(D61)+1,DAY(D61))","v":"2018-12-01"},null,{"$f":"DATE(YEAR(F61),MONTH(F61)+1,DAY(F61))","v":"2019-01-01"},null,{"$f":"DATE(YEAR(H61),MONTH(H61)+1,DAY(H61))","v":"2019-02-01"},null,{"$f":"DATE(YEAR(J61),MONTH(J61)+1,DAY(J61))","v":"2019-03-01"}]
[null,0,null,0,null,0,null,0,null,0,null,0]
[]
[]
["③売電電力量（電力会社検針票（指示数））"]
[null,"計器","乗率","始　　期",null,"終　　期",null,"電力量",null,null,null,null,null,"③売電電力量"]
[null,"０00000",null,null,null,null,null,{"$f":"(F67-D67)*C67","v":0},null,null,null,null,null,{"$f":"H67+H68","v":0}]
[null,"０00000",null,null,null,null,null,{"$f":"(F68-D68)*C68","v":0}]
[]
[]
["④売電電力量変圧器ロス率考慮"]
[null,"ロス率考慮",null,"ロス率",null,"変圧器台数",null,null,"計算根拠選択",null,null,null,null,"④変圧器ロス分"]
[null,{"$f":"基本情報入力!G9","v":"あり"},null,0.03,null,{"$f":"基本情報入力!H9","v":1},null,null,{"$f":"基本情報入力!G7","v":"電力会社検針票（指示数）"},null,null,null,null,{"$f":"IF(AND(B73=\"あり\",I73=\"計器写真\"),(N51/((1-D73)^F73)-N51),IF(AND(B73=\"あり\",I73=\"電力会社検針票（電力量）\"),(N60/((1-D73)^F73)-N60),IF(AND(B73=\"あり\",I73=\"電力会社検針票（指示数）\"),(N67/((1-D73)^F73)-N67),\"\")))","v":0}]

{"sheet":"バイオ比率","index":7,"n_rows":27,"n_cols":18,"rows_kept":27,"cut":false,"hidden":false,"merged":[[2,0,2,17],[4,7,4,9]]}
[null,null,null,null,null,null,null,null,null,null,null,null,null,null,null,null,null,"日本自然エネルギー株式会社"]
[]
[{"$f":"付属書2!G29","v":"○○発電所"}]
[]
[null,null,"発電電力量\n（kWh）",null,null,"傍証：発電電力量\n（kWh）","売電（販売）電力量\n（kWh）","補機電力量(kWh)",null,null,"バイオマス発熱量","バイオマス投入量\n（kg）","バイオマス総発熱量","重油発熱量","重油使用量（㍑）","重油総発熱量","バイオマス比率","委託発電電力量\n（認証可能電力量）\n（kWh）"]
[null,null,"前月読み値","当月読み値","発電量（当月-前月）","発電日誌","電力会社計量日誌","補機容量(kW)","稼働時間","電力量","kJ/kg","報告値","kJ","kJ/ℓ（低位）","報告値","kJ","計算値","計算値"]
["第１四半期","4月",0,0,{"$f":"D7-C7","v":0},0,0,{"$f":"付属書10!R74","v":23.1},0,{"$f":"ROUNDUP(H7*I7,0)","v":0},0,0,{"$f":"ROUNDDOWN(K7*L7,0)","v":0},0,0,{"$f":"ROUNDUP(N7*O7,0)","v":0},{"$f":"ROUNDDOWN(M7/(M7+P7),4)","v":{"$error":"#DIV/0!"}},{"$f":"ROUNDDOWN((E7-G7-J7)*Q7,0)","v":{"$error":"#DIV/0!"}}]
[null,"5月",{"$f":"D7","v":0},0,{"$f":"D8-C8","v":0},0,0,{"$f":"付属書10!R74","v":23.1},0,{"$f":"ROUNDUP(H8*I8,0)","v":0},{"$f":"K7","v":0},0,{"$f":"ROUNDDOWN(K8*L8,0)","v":0},{"$f":"N7","v":0},0,0,{"$error":"#DIV/0!"},{"$error":"#DIV/0!"}]
[null,"6月",{"$f":"D8","v":0},0,{"$f":"D9-C9","v":0},0,0,{"$f":"付属書10!R74","v":23.1},0,0,0,0,0,0,0,0,{"$error":"#DIV/0!"},{"$error":"#DIV/0!"}]
[null,"小計",null,null,{"$f":"SUM(E7:E9)","v":0},{"$f":"SUM(F7:F9)","v":0},{"$f":"SUM(G7:G9)","v":0},{"$f":"付属書10!R74","v":23.1},{"$f":"SUM(I7:I9)","v":0},0,0,{"$f":"SUM(L7:L9)","v":0},0,0,{"$f":"SUM(O7:O9)","v":0},0,{"$error":"#DIV/0!"},{"$error":"#DIV/0!"}]
["第２四半期","7月",{"$f":"D9","v":0},0,{"$f":"D11-C11","v":0},0,0,{"$f":"付属書10!R74","v":23.1},0,0,0,0,0,0,0,0,{"$error":"#DIV/0!"},{"$error":"#DIV/0!"}]
[null,"8月",{"$f":"D11","v":0},0,{"$f":"D12-C12","v":0},0,0,{"$f":"付属書10!R74","v":23.1},0,0,0,0,0,0,0,0,{"$error":"#DIV/0!"},{"$error":"#DIV/0!"}]
[null,"9月",{"$f":"D12","v":0},0,{"$f":"D13-C13","v":0},0,0,{"$f":"付属書10!R74","v":23.1},0,0,0,0,0,0,0,0,{"$error":"#DIV/0!"},{"$error":"#DIV/0!"}]
[null,"小計",null,null,{"$f":"SUM(E11:E13)","v":0},{"$f":"SUM(F11:F13)","v":0},{"$f":"SUM(G11:G13)","v":0},{"$f":"付属書10!R74","v":23.1},{"$f":"SUM(I11:I13)","v":0},0,0,{"$f":"SUM(L11:L13)","v":0},0,0,{"$f":"SUM(O11:O13)","v":0},0,{"$error":"#DIV/0!"},{"$error":"#DIV/0!"}]
["第３四半期","10月",{"$f":"D13","v":0},0,{"$f":"D15-C15","v":0},0,0,{"$f":"付属書10!R74","v":23.1},0,0,0,0,0,0,0,0,{"$error":"#DIV/0!"},{"$error":"#DIV/0!"}]
[null,"11月",{"$f":"D15","v":0},0,{"$f":"D16-C16","v":0},0,0,{"$f":"付属書10!R74","v":23.1},0,0,0,0,0,0,0,0,{"$error":"#DIV/0!"},{"$error":"#DIV/0!"}]
[null,"12月",{"$f":"D16","v":0},0,{"$f":"D17-C17","v":0},0,0,{"$f":"付属書10!R74","v":23.1},0,0,0,0,0,0,0,0,{"$error":"#DIV/0!"},{"$error":"#DIV/0!"}]
[null,"小計",null,null,{"$f":"SUM(E15:E17)","v":0},{"$f":"SUM(F15:F17)","v":0},{"$f":"SUM(G15:G17)","v":0},{"$f":"付属書10!R74","v":23.1},{"$f":"SUM(I15:I17)","v":0},0,0,{"$f":"SUM(L15:L17)","v":0},0,0,{"$f":"SUM(O15:O17)","v":0},0,{"$error":"#DIV/0!"},{"$error":"#DIV/0!"}]
["第４四半期","1月",{"$f":"D17","v":0},0,{"$f":"D19-C19","v":0},0,0,{"$f":"付属書10!R74","v":23.1},0,0,0,0,0,{"$f":"N17","v":0},0,0,{"$error":"#DIV/0!"},{"$error":"#DIV/0!"}]
[null,"2月",{"$f":"D19","v":0},0,{"$f":"D20-C20","v":0},0,0,{"$f":"付属書10!R74","v":23.1},0,0,0,0,0,{"$f":"N19","v":0},0,0,{"$error":"#DIV/0!"},{"$error":"#DIV/0!"}]
[null,"3月",{"$f":"D20","v":0},0,{"$f":"D21-C21","v":0},0,0,{"$f":"付属書10!R74","v":23.1},0,0,0,0,0,{"$f":"N20","v":0},0,0,{"$error":"#DIV/0!"},{"$error":"#DIV/0!"}]
[null,"小計",null,null,{"$f":"SUM(E19:E21)","v":0},{"$f":"SUM(F19:F21)","v":0},{"$f":"SUM(G19:G21)","v":0},{"$f":"付属書10!R74","v":23.1},{"$f":"SUM(I19:I21)","v":0},0,0,{"$f":"SUM(L19:L21)","v":0},0,{"$f":"N21","v":0},{"$f":"SUM(O19:O21)","v":0},0,{"$error":"#DIV/0!"},{"$error":"#DIV/0!"}]
[null,"補正","－","－","－",{"$f":"SUM(F10,F14,F18,F22)","v":0},{"$f":"SUM(G10,G14,G18,G22)","v":0},null,null,{"$f":"SUM(J10,J14,J18,J22)","v":0},null,{"$f":"SUM(L10,L14,L18,L22)","v":0},{"$f":"SUM(M10,M14,M18,M22)","v":0},null,{"$f":"SUM(O10,O14,O18,O22)","v":0},{"$f":"SUM(P10,P14,P18,P22)","v":0},null,{"$f":"SUM(R10,R14,R18,R22)","v":{"$error":"#DIV/0!"}}]
[]
["年度合計",null,null,null,null,null,null,null,null,null,null,null,null,null,null,null,null,{"$f":"SUM(R10,R14,R18,R22)","v":{"$error":"#DIV/0!"}}]
[null,null,null,null,null,null,null,null,null,null,null,null,null,null,null,null,null,{"$f":"(R10+R14+R18+R22)/800000","v":{"$error":"#DIV/0!"}}]
["※（委託発電電力量；認証可能電力量）＝{（発電電力量）－（売電電力量）－（補機電力量）} × （バイオマス比率）"]

{"sheet":"付属書20","index":8,"n_rows":58,"n_cols":6,"rows_kept":58,"cut":false,"hidden":false,"merged":[[57,0,57,6],[2,1,2,5],[55,0,55,6],[56,0,56,6],[4,5,4,6],[6,4,6,6],[13,2,13,3]]}
[{"$f":"付属書1!$A$3","v":"一般財団法人日本品質保証機構　御中"}]
[]
[null,"グリーン電力発電設備結線図"]
[]
[null,null,null,null,null,{"$f":"基本情報入力!C3","v":"2020-04-01"}]
[null,null,null,null,"（申請者）"]
[null,null,null,null,{"$f":"基本情報入力!C4","v":"○○○○株式会社"}]
[null,null,null,null,null,{"$f":"基本情報入力!C5","v":"代表取締役社長"}]
[null,null,null,null,null,{"$f":"基本情報入力!C6","v":"○○　○○"}]
[]
["今回認定の申請を行うグリーン電力発電設備の結線図は、下記の通りで相違ありません。"]
[]
[]
[null,null,"別添資料のとおり"]
[]
[]
[]
[]
[]
[]
[]
[]
[]
[]
[]
[]
[]
[]
[]
[]
[]
[]
[]
[]
[]
[]
[]
[]
[]
[]
[]
[]
[]
[]
[]
[]
[]
[]
[]
[]
[]
[]
[]
[]
[]
["（注１） 複数枚に渡る等の場合には、別添資料を提出することも可とする。その場合、別添資料のページ番号とその図が何を示すのかを別途整理して提出のこと。"]
["（注２）「附属書１０　グリーン電力認証可能電力量の確認方法」に記載されたデータがどの地点で計測されているかを結線図に明記すること。また、補機について結線図に明記すること。"]
["（注３）一般住宅用太陽光発電設備の場合には、形式ごとに同じ図の提出を認める。集合住宅に設置される場合には、必ず個別設備の結線図を提出すること。"]

{"sheet":"計量器写真","index":9,"n_rows":0,"n_cols":0,"rows_kept":0,"cut":false,"hidden":false,"merged":[]}

{"sheet":"予備sheet①","index":10,"n_rows":0,"n_cols":0,"rows_kept":0,"cut":false,"hidden":false,"merged":[]}

{"sheet":"予備sheet②","index":11,"n_rows":0,"n_cols":0,"rows_kept":0,"cut":false,"hidden":false,"merged":[]}