{"text_format":"1","workbook":"xlsx","n_sheets":13,"sheets":["基本情報入力","付属書1","付属書2","付属書3","チェックリスト","付属書10","付属書18","附属書19（非公表用）","附属書19（公表用）","付属書20","ファーム計算書","計量器写真","予備sheet②"],"not_rendered":{"charts":0,"images":0,"macros":1,"external_links":0,"defined_names":18,"comments":0,"pivot_tables":0},"unopened":[],"bounds":{"document_bytes":16777216,"sheet_cells":100000,"rows_first":2000,"rows_last":500,"rows_between":2000,"halvings":0,"cell_chars":16384,"cell_head_chars":4096},"cells_cut":0,"cells_raw":0,"read":"whole","date_system":"1900"}

{"sheet":"基本情報入力","index":0,"n_rows":16,"n_cols":4,"rows_kept":16,"cut":false,"hidden":false,"merged":[[10,3,11,3],[15,1,15,3],[12,3,13,3]]}
["Ver.P4.202304r1",null,"基本データ入力箇所"]
[null,"項　　　目","記入欄","備　　　　　考"]
[null,"申請日","2020-04-20","申請日は、当初申請・受付時点で固定です。申請書を修正して再提出する際に変更しないでください。"]
[null,"申請者①(企業・団体)","特定非営利活動法人　○○○○"]
[null,"申請者②(代表者職位)","○○○"]
[null,"申請者③(代表者名)","○○　○○"]
[]
[]
[]
[null,"発電所名称",{"$f":"付属書2!G29","v":"○○発電所"},"付属書２の発電設備の概要の発電所名称が転記されます。"]
[null,"補機分の算定(選択⇒)","必要","補機の算定が不要の場合はファーム表の補機部分が表記省略され、附属書10の算定式が対応します。"]
[]
[null,"≪ファームの場合≫\n　発電設備数⇒",100,"発電設備数に応じてファーム表で表示される行数が修正されます。（最大100）"]
[]
[]
[null,"※本シートは提出不要です。"]

{"sheet":"付属書1","index":1,"n_rows":43,"n_cols":16,"rows_kept":43,"cut":false,"hidden":false,"merged":[[6,0,7,20],[10,15,10,20],[31,3,31,20],[25,0,25,3],[21,0,22,20],[28,3,28,20],[14,11,15,20],[16,12,16,20],[17,13,17,20]]}
[]
[]
["一般財団法人日本品質保証機構　御中"]
[]
[]
[]
["グリーン電力発電設備認定申請書"]
[]
[]
[]
[null,null,null,null,null,null,null,null,null,null,null,null,null,null,null,{"$f":"基本情報入力!C3","v":"2020-04-20"}]
[]
[]
[null,null,null,null,null,null,null,null,null,null,"（申請者）　　　　　　　　　　　　　　　"]
[null,null,null,null,null,null,null,null,null,null,null,{"$f":"基本情報入力!C4","v":"特定非営利活動法人　○○○○"}]
[]
[null,null,null,null,null,null,null,null,null,null,null,null,{"$f":"基本情報入力!C5","v":"○○○"}]
[null,null,null,null,null,null,null,null,null,null,null,null,null,{"$f":"基本情報入力!C6","v":"○○　○○"}]
[]
[]
[]
["必要書類を添付の上、グリーン電力発電設備の認定を申請いたします。"]
[]
[]
[]
["○添付資料"]
[]
[null,"附属書２：グリーン電力発電設備概要書"]
[]
[]
[null,"附属書３：グリーン電力の認証要件に関する誓約書"]
[]
[]
[null,"附属書１０：認証可能電力量の確認方法"]
[]
[]
[null,"附属書１８：太陽光発電遠隔検針システム基準適合説明書"]
[]
[]
[null,"附属書１９：太陽光発電所ファーム詳細書"]
[]
[]
[null,"附属書２０：グリーン電力発電設備結線図"]

{"sheet":"付属書2","index":2,"n_rows":40,"n_cols":18,"rows_kept":40,"cut":false,"hidden":false,"merged":[[24,2,25,19],[28,1,28,5],[28,6,28,19],[29,1,29,5],[29,6,29,19],[39,17,39,20],[22,1,22,5],[12,13,12,20],[35,1,35,5],[35,6,35,19],[36,1,36,5],[36,6,36,19],[34,13,34,19],[30,1,30,5],[18,1,18,5],[19,1,19,5],[20,1,20,5],[21,1,21,5],[18,6,18,19],[19,6,19,19],[20,6,20,19],[3,0,4,20],[6,15,6,20],[9,11,10,20],[11,12,11,20],[33,13,33,19],[33,1,34,5],[33,6,34,12],[30,6,30,19],[31,1,31,5],[31,6,31,19],[21,6,21,19],[32,1,32,5],[32,6,32,8],[32,9,32,19],[22,6,22,19],[23,2,23,19]]}
[]
[{"$f":"付属書1!A3","v":"一般財団法人日本品質保証機構　御中"}]
[]
["グリーン電力発電設備概要書"]
[]
[]
[null,null,null,null,null,null,null,null,null,null,null,null,null,null,null,{"$f":"基本情報入力!C3","v":"2020-04-20"}]
[]
[null,null,null,null,null,null,null,null,null,null,"（申請者）　　　　　　　　　　　　　　　"]
[null,null,null,null,null,null,null,null,null,null,null,{"$f":"基本情報入力!C4","v":"特定非営利活動法人　○○○○"}]
[]
[null,null,null,null,null,null,null,null,null,null,null,null,{"$f":"基本情報入力!C5","v":"○○○"}]
[null,null,null,null,null,null,null,null,null,null,null,null,null,{"$f":"基本情報入力!C6","v":"○○　○○"}]
[]
[]
["今回認定申請を行うグリーン電力発電設備の概要は、下記の通りです。"]
[]
[null,"発電事業者"]
[null,"名称",null,null,null,null,"○○○株式会社　（または○○町，○○組合）"]
[null,"本社所在地"]
[null,"tel/fax"]
[null,"e-mail"]
[null,"環境価値に関する報告が義務付けられている制度※"]
[null,"※","温対法温室効果ガス算定･報告･公表制度、東京都条例など国や自治体の報告制度。"]
[null,null,"敷地内の別会社の工場・事務所等に電力を供給している場合、その旨を記載し、当該別会社が対象となる報告制度について記載すること。"]
[]
[]
[null,"発電設備の概要"]
[null,"発電所名称",null,null,null,null,"○○発電所"]
[null,"発電所所在地",null,null,null,null,"東京都、神奈川県"]
[null,"発電種別",null,null,null,null,"≪選択してください≫"]
[null,"型式"]
[null,"設備容量",null,null,null,null,999.99900000000002,null,null,"kW"]
[null,"運転開始（予定）年月",null,null,null,null,"○年○月",null,null,null,null,null,null,"運転開始"]
[null,null,null,null,null,null,null,null,null,null,null,null,null,"運転開始予定"]
[null,"特記事項"]
[null,"別添資料",null,null,null,null,"（周辺地図・結線図など）"]
[null,"　※太陽光発電ファームの場合、詳細は別紙（付属書24）作成のこと"]
[]
[null,null,null,null,null,null,null,null,null,null,null,null,null,null,null,null,null,"以　　上"]

{"sheet":"付属書3","index":3,"n_rows":30,"n_cols":17,"rows_kept":30,"cut":false,"hidden":false,"merged":[[19,0,19,19],[3,0,4,19],[29,16,29,19],[20,6,20,19],[9,10,9,19],[21,0,21,19],[23,0,23,19],[26,0,26,19],[6,14,6,19],[10,11,10,19],[11,12,11,19],[16,0,16,19],[17,0,17,19]]}
[]
[{"$f":"付属書1!A3","v":"一般財団法人日本品質保証機構　御中"}]
[]
["グリーン電力の認証要件に関する誓約書"]
[]
[]
[null,null,null,null,null,null,null,null,null,null,null,null,null,null,{"$f":"基本情報入力!C3","v":"2020-04-20"}]
[]
[null,null,null,null,null,null,null,null,null,"（申請者）　　　　　　　　　　　　　　　"]
[null,null,null,null,null,null,null,null,null,null,{"$f":"基本情報入力!C4","v":"特定非営利活動法人　○○○○"}]
[null,null,null,null,null,null,null,null,null,null,null,{"$f":"基本情報入力!C5","v":"○○○"}]
[null,null,null,null,null,null,null,null,null,null,null,null,{"$f":"基本情報入力!C6","v":"○○　○○"}]
[]
[]
[]
[]
["　当法人（申請者）は、グリーン電力の認証申請を行うにあたり、グリーン電力の認証要件に関するチェックリストに記載された、認証要件を遵守することを誓約します。"]
["　万一これに疑義が生じた場合、速やかに日本品質保証機構の指示に従うことを約束致します。"]
[]
["　発電所の設置・運用に伴い何らかの経済的・社会的問題等が発生した場合には、全て申請者の責任で対処することとし、日本品質保証機構に対して一切の責任分担を求めないことを約束致します。"]
[]
["　また、グリーン電力の認証を受けた後、日本品質保証機構に対して、グリーン電力証書の契約ごとの状況を報告することを約束致します。"]
[]
["　電力量申請に係る受電地点特定番号等、ダブルカウントチェックに必要な情報を当機構や非化石証書の認定事務局（資源エネルギー庁）に提供されることを了承いたします。"]
[]
[]
["（添付資料）グリーン電力の認証要件に関するチェックリスト"]
[]
[]
[null,null,null,null,null,null,null,null,null,null,null,null,null,null,null,null,"以　　上"]

{"sheet":"チェックリスト","index":4,"n_rows":73,"n_cols":9,"rows_kept":73,"cut":false,"hidden":false,"merged":[[71,0,71,8],[72,0,72,8],[63,0,63,8],[64,0,64,8],[66,6,66,8],[67,0,70,1],[67,2,67,8],[68,2,68,3],[68,4,68,7],[69,2,69,3],[69,4,69,7],[70,2,70,3],[58,0,58,8],[60,6,60,8],[61,0,62,1],[61,2,61,3],[61,4,61,5],[61,6,61,8],[62,6,62,8],[70,4,70,7],[53,1,53,2],[53,3,53,5],[53,6,53,8],[54,0,54,8],[55,0,55,8],[56,0,56,2],[56,3,56,5],[56,6,56,8],[57,0,57,8],[49,1,49,2],[49,3,49,5],[49,6,49,8],[50,1,50,2],[50,3,50,5],[50,6,50,8],[52,1,52,2],[52,3,52,5],[52,6,52,8],[46,1,46,2],[46,3,46,5],[46,6,46,8],[47,1,47,2],[47,3,47,5],[47,6,47,8],[48,1,48,2],[48,3,48,5],[48,6,48,8],[43,1,43,2],[43,3,43,5],[43,6,43,8],[44,1,44,2],[44,3,44,5],[44,6,44,8],[45,1,45,2],[45,3,45,5],[45,6,45,8],[40,1,40,2],[40,3,40,5],[40,6,40,8],[41,1,41,2],[41,3,41,5],[41,6,41,8],[42,1,42,2],[42,3,42,5],[42,6,42,8],[37,1,37,2],[37,3,37,5],[37,6,37,8],[38,1,38,2],[38,3,38,5],[38,6,38,8],[39,1,39,2],[39,3,39,5],[39,6,39,8],[34,1,34,2],[34,3,34,5],[34,6,34,8],[35,1,35,2],[35,3,35,5],[35,6,35,8],[36,1,36,2],[36,3,36,5],[36,6,36,8],[31,1,31,2],[31,3,31,5],[31,6,31,8],[32,1,32,2],[32,3,32,5],[32,6,32,8],[33,1,33,2],[33,3,33,5],[33,6,33,8],[26,3,26,5],[26,6,26,8],[28,1,28,2],[28,3,28,5],[28,6,28,8],[29,1,29,2],[29,3,29,5],[29,6,29,8],[30,1,30,2],[30,3,30,5],[30,6,30,8],[17,0,17,8],[18,6,18,8],[19,6,19,8],[20,1,20,2],[20,3,20,5],[20,6,20,8],[21,0,25,0],[21,1,25,1],[21,3,21,5],[21,6,21,8],[22,3,22,5],[22,6,22,8],[23,3,23,5],[23,6,23,8],[24,3,24,5],[24,6,24,8],[25,3,25,5],[25,6,25,8],[14,0,14,1],[14,2,14,3],[14,4,14,6],[14,7,14,8],[15,0,15,1],[15,2,15,3],[15,4,15,6],[15,7,15,8],[16,0,16,8],[11,7,11,8],[12,0,12,1],[12,2,12,3],[12,4,12,6],[12,7,12,8],[13,0,13,1],[13,2,13,3],[13,4,13,6],[13,7,13,8],[26,0,27,0],[26,1,27,2],[27,3,27,5],[27,6,27,8],[51,1,51,2],[51,3,51,5],[51,6,51,8],[1,0,1,8],[4,6,4,8],[8,0,8,1],[8,2,8,3],[8,4,8,6],[8,7,8,8],[9,0,9,1],[9,2,9,3],[9,4,9,6],[9,7,9,8],[10,0,10,1],[10,2,10,3],[10,4,10,6],[10,7,10,8],[11,0,11,1],[11,2,11,3],[11,4,11,6]]}
[{"$f":"付属書1!A3","v":"一般財団法人日本品質保証機構　御中"}]
["グリーン電力の認証要件に関するチェックリスト"]
[null,null,null,null,null,null,null,null,{"$f":"基本情報入力!C3","v":"2020-04-20"}]
[null,null,null,null,null,null,"（申請者）"]
[null,null,null,null,null,null,{"$f":"基本情報入力!C4","v":"特定非営利活動法人　○○○○"}]
[null,null,null,null,null,null,null,{"$f":"基本情報入力!C5","v":"○○○"}]
[null,null,null,null,null,null,null,null,{"$f":"基本情報入力!C6","v":"○○　○○"}]
["グリーン電力の要件を満たすことを示す関係書類等は以下の通りです。"]
["項目",null,"基準の概要",null,"適合説明",null,null,"関連資料・備考"]
["2-3-1\n発電方式",null,"以下の条件を全て満たす再生可能エネルギーによるものとする。\n（1）化石燃料・原子力による発電でないこと\n（2）温室効果ガス、および硫黄・窒素酸化物等有害ガスの排出がゼロまたは著しく少ないこと",null,"記入例：グリーン電力認証基準に該当する太陽光発電であり、温室効果ガスの排出はなく、有害ガスの排出は著しく少なく、左記（１）、（２）の要件をともに満たしている。\n",null,null,"記入例：系統連系サービス契約書"]
["2-3-2\n発電電力量",null,"電力量の測定が的確に行われており、かつ以下のいずれかに該当するものとする。\n（1）電力系統に供給されている\n（2）補機類での消費を除く所内消費",null,"記入例：検定済電力量計が取り付けられており（又は設置予定であり）、発電電力量を的確に測定できる。\n記入例：「認証可能電力量の確認方法」による計算とし、所内消費を対象としていることを確認。\n以上より、左記（２）に該当する。",null,null,"附属書10「認証可能電力量の確認方法」\n附属書20「発電設備結線図」\n記入例：系統連系サービス契約書"]
["2-3-3\n追加性要件",null,"グリーン電力の取引によって設置、もしくは維持されて発電しているもの。またはグリーン電力の取引が他設備のグリーン電力拡大に貢献しているもの",null,"記入例：グリーン電力取引による設置効果の他、投資費用の早期回収への貢献、メンテナンス機会増による設備稼働率向上が想定される。\n記入例：補助金等による助成があるものの、建設コストに占める割合は１／３以下であり、追加性要件は満足しているものと考える。\n以上より、要件（１）及び（２）に該当する。"]
["2-3-4\n環境価値の帰属",null,"認証されたグリーン電力の価値がグリーン電力価値の購入者たる顧客に帰属することを示さなければならない。",null,"記入例：電気以外の価値がグリーン電力の購入者たる顧客に帰属することを、発電者と弊事業者との間で契約上担保している。\n記入例：J クレジット等の環境価値の譲渡に係る制度との重複が無い事、およびグリ－ン電力証書化への意思を確認している。",null,null,"記入例：○○○○契約書（写）"]
["2-3-5\n環境の影響評価",null,"生態系、環境等への影響について適切な評価・対策を行っていること。また以下の内容について日本品質保証機構に報告をしなければならない。 \n（1）環境への影響評価 \n（2）個別の発電方式ごとに日本品質保証機構が定める環境モニタリング",null,"記入例：太陽光発電は市街化区域の建物に付随して設置される場合がほとんどで、今回のケースでは既設の建設物であり、この問題は生じない。また、建設物以外に設置される場合も大規模な土地開発等はなく、影響がないと考える。"]
["2-3-6\n社会的合意",null,"立地に対する関係者との合意に達していることとし、その内容について日本品質保証機構に報告をしなければならない。",null,"記入例：周辺住民は了解しており、近隣からの苦情等は特にない。"]
["2-3-7\n情報の公開",null,"（1）日本品質保証機構に提出された資料は、公表されることを了承する。※１ \n（2）顧客に対して、グリーン電力に関する十分な情報が開示されていることとし、その開示状況を報告する。",null,"記入例：了承します。ただし、個人情報を除く。"]
["＊原則として、上記要件を満たすことを記載しなければならないが、口頭説明にて申請する場合は、「口頭説明」と明記する。"]
["※1･･･個人情報や機密情報等の理由により非公開扱いとする場合は資料にその旨を明記すること。"]
[]
["関係法令表"]
["番号","関係法令等※2",null,"手続き状況※3",null,null,"備考"]
[1,"電気事業法","工事計画届出","記入例：該当しない"]
[null,null,"保安規定届出","記入例：該当しない"]
[null,null,"主任技術者選任","記入例：該当しない"]
[null,null,"使用前安全管理審査","記入例：該当しない"]
[null,null,"溶接安全管理審査","記入例：該当しない"]
[2,"電力会社との系統連係協議及び電力受給契約",null,"記入例：電力会社との系統連系協議済み",null,null,"記入例：資料〇発電設備系統連系サービス契約書」"]
[null,null,null,"記入例：電力会社との系統連系協議済み",null,null,"記入例：資料〇「発電設備系統連系サービス契約書」"]
[3,"RPS法",null,"記入例：該当しない"]
[4,"FIT法",null,"記入例：該当しない"]
[5,"エネルギーの使用の合理化に関する法律",null,"記入例：該当しない"]
[6,"国土利用計画法",null,"記入例：該当しない"]
[7,"騒音規制法",null,"記入例：該当しない"]
[8,"振動規制法",null,"記入例：該当しない"]
[9,"労働安全衛生法",null,"記入例：該当しない"]
[10,"建築基準法",null,"記入例：該当しない"]
[11,"消防法",null,"記入例：該当しない"]
[12,"高圧ガス保安法",null,"記入例：該当しない"]
[13,"熱供給事業法",null,"記入例：該当しない"]
[14,"農地法",null,"記入例：該当しない"]
[15,"都市計画法",null,"記入例：該当しない"]
[16,"大気汚染防止法",null,"記入例：該当しない"]
[17,"悪臭防止法",null,"記入例：該当しない"]
[18,"水質汚濁防止法",null,"記入例：該当しない"]
[19,"肥料取締法",null,"記入例：該当しない"]
[20,"工場立地法",null,"記入例：該当しない"]
[21,"森林法",null,"記入例：該当しない"]
[22,"建設工事に関わる資材の再資源化等に関する法律",null,"記入例：該当しない"]
[23,"ダイオキシン類対策特別措置法",null,"記入例：該当しない"]
[24,"航空法",null,"記入例：該当しない"]
[25,"自然公園法",null,"記入例：該当しない"]
[26]
[27]
[28]
[]
["その他（景観条例・地元との協議等）"]
[]
["※2･･･記載する内容等についてはグリーン電力認証基準解説書を参照のこと。"]
["※3･･･可能ならば申請書類の受理番号や時期等について記入のこと。"]
[]
["その他（検定済計量器の設置について）"]
["設置の有無",null,"有の場合※4",null,"無の場合※5",null,"備考"]
[null,null,"有効期限","2022-12-01","設置予定年月"]
["※4･･･設置済みの場合は、施設図に明示し、検定マーク（有効期限）を含んだ計量器の写真を添付すること。"]
["※5･･･設備認定後に検定済計量器へ変更する場合は、検定済計量器による電力量の測定を開始した時点からのグリーン電力量認証の対象とする。"]
[]
["その他（補助金等の公的助成について）"]
["助成の有無※6",null,"有の場合※7"]
[null,null,"助成機関の名称",null,"補助金等の名称",null,null,null,"補助率（％）"]
[null,null,"記入例：環境省",null,"記入例：〇〇事業費補助事業",null,null,null,"イニシャル：20％"]
[]
["※6･･･家庭用太陽光発電の場合で「有」を選択される場合は、「附属書24太陽光発電所ファーム詳細書（非公表用）」の備考欄に助成機関の名称を記載すること。"]
["※7･･･複数の助成を受けている場合には、それぞれに分けて記載すること。"]

{"sheet":"付属書10","index":5,"n_rows":41,"n_cols":23,"rows_kept":41,"cut":false,"hidden":false,"merged":[[33,11,33,19],[12,13,12,20],[19,1,21,19],[24,2,25,19],[32,1,32,2],[30,1,30,2],[31,1,31,2],[3,0,4,20],[5,3,6,17],[7,15,7,20],[9,11,10,20],[11,12,11,20],[40,17,40,20],[17,0,18,5],[22,1,23,6],[27,0,28,9],[29,11,29,19],[32,11,32,19],[30,11,30,19],[31,11,31,19],[30,3,30,10],[31,3,31,10],[32,3,32,10],[29,3,29,10],[35,0,36,10],[37,1,37,19],[33,1,33,2],[33,3,33,10]]}
[]
[{"$f":"付属書1!A3","v":"一般財団法人日本品質保証機構　御中"}]
[]
["認証可能電力量の確認方法"]
[]
[]
[]
[null,null,null,null,null,null,null,null,null,null,null,null,null,null,null,{"$f":"基本情報入力!$C$3","v":"2020-04-20"}]
[null,null,null,null,null,null,null,null,null,null,"（申請者）　　　　　　　　　　　　　　　"]
[null,null,null,null,null,null,null,null,null,null,null,{"$f":"基本情報入力!$C$4","v":"特定非営利活動法人　○○○○"}]
[]
[null,null,null,null,null,null,null,null,null,null,null,null,{"$f":"基本情報入力!$C$5","v":"○○○"}]
[null,null,null,null,null,null,null,null,null,null,null,null,null,{"$f":"基本情報入力!$C$6","v":"○○　○○"}]
[]
[]
[]
[" 1.認証可能電力量を算定する計算式"]
["　【全体の計算式】"]
[]
[null,{"$f":"IF(AND(基本情報入力!C11=\"必要\"),CONCATENATE(\"認証可能電力量＝\",\"①発電電力量－②補機使用電力量－③売電電力量\"),IF(AND(基本情報入力!C11=\"不要\"),CONCATENATE(\"認証可能電力量＝\",\"①発電電力量－③売電電力量\")))","v":"認証可能電力量＝①発電電力量－②補機使用電力量－③売電電力量"},null,null,null,null,null,null,null,null,null,null,null,null,null,null,null,null,null,null,null,null," "]
[]
[]
[null,"      ≪個別の計算式≫"]
[]
[null,null,"② 補機使用電力量⇒a.定格出力×b.日数"]
[]
[]
[" 2.提出する書類"]
[]
[null,null,null,"提出書類等",null,null,null,null,null,null,null,"備考・説明"]
[null,"①",null,"計器写真",null,null,null,null,null,null,null,"対象期間の始めと終わりの2枚"]
[null,"②-a"]
[null,"②-b",null,"①の日数により確認"]
[null,"③",null,"電力会社検針票",null,null,null,null,null,null,null,"対象期間の始めと終わりの2枚"]
[]
[" 3. 認証可能電力量算定例"]
[]
[null,"別紙「太陽光ファーム認証可能電力量計算書　計算例」参照"]
[]
[]
[null,null,null,null,null,null,null,null,null,null,null,null,null,null,null,null,null,"以　　上"]

{"sheet":"付属書18","index":6,"n_rows":26,"n_cols":7,"rows_kept":26,"cut":false,"hidden":false,"merged":[[16,0,16,3],[16,4,16,6],[22,1,22,3],[22,4,22,6],[23,1,23,3],[23,4,23,6],[18,0,18,6],[19,0,19,6],[20,1,20,3],[20,4,20,6],[21,1,21,3],[21,4,21,6],[13,0,13,3],[13,4,13,6],[14,0,14,3],[14,4,14,6],[15,0,15,3],[15,4,15,6],[3,1,3,5],[5,5,5,6],[7,4,7,6],[11,0,11,6],[12,0,12,6]]}
[]
[{"$f":"付属書1!A3","v":"一般財団法人日本品質保証機構　御中"}]
[]
[null,"太陽光発電遠隔検針システム基準適合説明書"]
[]
[null,null,null,null,null,{"$f":"基本情報入力!C3","v":"2020-04-20"}]
[null,null,null,null,"（申請者）"]
[null,null,null,null,{"$f":"基本情報入力!C4","v":"特定非営利活動法人　○○○○"}]
[null,null,null,null,null,{"$f":"基本情報入力!C5","v":"○○○"}]
[null,null,null,null,null,{"$f":"基本情報入力!C6","v":"○○　○○"}]
[]
["１．適合説明"]
["　　太陽光発電遠隔検針システム基準に対する適合説明は以下の通りです。"]
["適合基準",null,null,null,"適合説明"]
["①検定証印等が付された有効期間内の電力量計からの電文情報を使用すること。グリーン電力申請者は太陽光発電設備設置者と、同計量器の有効期間経過前に有効期間内計量器への取替えに伴う費用負担について事前に合意し、契約書上、明記すること。",null,null,null,"記入例：本システムは検定証印付であり、かつ有効期間内の電力量計からの電文情報を使用している。\n　また、当太陽光ファームは、顧客の敷地内または建築物を借用し、太陽光発電設備を設置するものであり、発電設備は発電事業者の所有であることから、発電事業者にて、同計量器の有効期間経過前に有効期間内の計量器への取り替えを実施する。"]
["②遠隔検針によるデータ収集システムを通じた計量値等は、太陽光発電設備設置者による確認を容易に可能とする、及び遅滞無く利益を一にしない第三者（日本品質保証機構等）による確認を可能とする等して、システムの正確性・信頼性確保を担保する仕組みを採用すること。",null,null,null,"記入例：遠隔検針によるデータ収集システムを通じ、発電実績レポートに一括出力することが可能であり、各発電設備の発電電力量を、遅滞なく利益を一にしない第三者（認証機関）が確認できる。\n　なお、発電設備設置者においては、本システムにアクセスすることで、各発電設備の発電電力量を容易に確認できる。"]
["③売電電力量のデータを収集するため、電力会社の設置する電力量計と別途に上記条件を満たす電力量計を設置する場合には、グリーン電力申請者（またはその代理店）は太陽光発電設備設置者に対して同計量器がグリーン電力用にのみ供されることを十分説明し、電力会社に対して同計量器の計量値等を根拠として利益の主張を行わないことを契約上担保すること。また同計量器に起因する事故等により電力会社に生じた被害の責任が設置者またはグリーン電力申請者（またはその代理店）のいずれかに帰属することを契約書上明記すること。",null,null,null,"記入例：発電電力量は発電設備を設置した顧客の構内で使用し、電力会社等への売電は行わない。"]
[]
["２．システム概要・動作確認書"]
["システム概要及び動作確認を示す資料は以下の通りである。"]
[null,"書　類　名",null,null,"備　　考"]
[1,"システム概要図",null,null,"別紙のとおり"]
[2,"動作確認立会い記録",null,null,"別添計器写真のとおり"]
[3,"動作確認書",null,null,"別添計器写真のとおり"]
[]
[null,null,null,null,null,null,"以上"]

{"sheet":"附属書19（非公表用）","index":7,"n_rows":111,"n_cols":14,"rows_kept":111,"cut":false,"hidden":false,"merged":[[112,1,112,8],[122,0,123,1],[8,4,9,4],[2,0,2,13],[3,12,3,13],[8,0,9,0],[8,1,9,1],[8,5,9,5],[8,6,9,6],[8,7,9,7],[8,13,9,13],[8,12,9,12],[8,8,8,9],[8,10,8,11],[4,10,4,13],[5,11,5,13],[6,11,6,12],[8,2,9,2],[8,3,9,3]]}
[]
[{"$f":"付属書1!A3","v":"一般財団法人日本品質保証機構　御中"}]
["太陽光発電ファーム詳細書（非公表用）"]
[null,null,null,null,null,null,null,null,null,null,null,null,{"$f":"基本情報入力!$C$3","v":"2020-04-20"}]
[null,null,null,null,null,null,null,null,null,"（申請者）",{"$f":"基本情報入力!$C$4","v":"特定非営利活動法人　○○○○"}]
[null,null,null,null,null,null,null,null,null,null,null,{"$f":"基本情報入力!$C$5","v":"○○○"}]
[null,null,null,null,null,null,null,null,null,null,null,{"$f":"基本情報入力!$C$6","v":"○○　○○"}]
[]
["発電\n設備\n番号","氏　名","住　所\n（設置場所）","FIT設備ID","受電地点特定番号\n（※系統売電分の場合は\n必須）","運転開始\n年月日","型式・種類\n（単結晶、多結晶等）","設備容量\n（kW）","【発　電】",null,"【売　電】",null,"設置住宅種別","備考\n（補助金情報）"]
[null,null,null,null,null,null,null,null,"検定済計量器の有効期限\n(年月）","検定済計量器の製造ナンバー\n（下三桁番号または全桁番号）","検定済計量器の有効期限\n(年月）","検定済計量器の製造ナンバー\n（下三桁番号または全桁番号）"]
[1,null,null,null,"1111111111111111111111","2012-07-06","ハイブリッド",5,"2021-06-01",350,"2021-03-01",351,"戸建住宅","国、埼玉県"]
[2,null,null,null,"0000000000000000000000","2012-10-22","単結晶",5,"2021-06-01",9,"2021-08-01",10,"戸建住宅","国"]
[3,null,null,null,"XXXXXXXXXXXXXXXXXXXXXX","2012-07-10","ハイブリッド",2,"2020-11-01",862,"2020-11-01",863,"戸建住宅","国、東京都、杉並区"]
[4]
[5]
[6]
[7]
[8]
[9]
[10]
[11]
[12]
[13]
[14]
[15]
[16]
[17]
[18]
[19]
[20]
[21]
[22]
[23]
[24]
[25]
[26]
[27]
[28]
[29]
[30]
[31]
[32]
[33]
[34]
[35]
[36]
[37]
[38]
[39]
[40]
[41]
[42]
[43]
[44]
[45]
[46]
[47]
[48]
[49]
[50]
[51]
[52]
[53]
[54]
[55]
[56]
[57]
[58]
[59]
[60]
[61]
[62]
[63]
[64]
[65]
[66]
[67]
[68]
[69]
[70]
[71]
[72]
[73]
[74]
[75]
[76]
[77]
[78]
[79]
[80]
[81]
[82]
[83]
[84]
[85]
[86]
[87]
[88]
[89]
[90]
[91]
[92]
[93]
[94]
[95]
[96]
[97]
[98]
[99]
[100]
[null,null,null,null,null,null,"合　計",{"$f":"SUBTOTAL(109,H11:H110)","v":12}]

{"sheet":"附属書19（公表用）","index":8,"n_rows":111,"n_cols":10,"rows_kept":111,"cut":false,"hidden":false,"merged":[[2,0,2,7],[3,6,3,7],[3,8,3,9],[4,7,4,9],[5,7,5,8],[8,8,8,9],[9,1,9,2],[8,0,9,0],[8,3,9,3],[8,4,9,4],[8,5,9,5],[8,6,8,7]]}
[]
[]
["太陽光発電ファーム詳細書（公表用）"]
[null,null,null,null,null,null,null,null,{"$f":"基本情報入力!$C$3","v":"2020-04-20"}]
[null,null,null,null,null,null,"（申請者）",{"$f":"基本情報入力!$C$4","v":"特定非営利活動法人　○○○○"}]
[null,null,null,null,null,null,null,{"$f":"基本情報入力!$C$5","v":"○○○"}]
[null,null,null,null,null,null,null,null,{"$f":"基本情報入力!$C$6","v":"○○　○○"}]
[]
["発電\n設備\n番号",null,null,"運転開始\n年月日","型式・種類\n（単結晶、多結晶等）","設備容量\n（kW）","【発　電】",null,"【売　電】"]
[null,"住　所\n（設置場所）",null,null,null,null,"検定済計量器の有効期限\n(年月）","検定済計量器の製造ナンバー\n（下三桁番号または全桁番号）","検定済計量器の有効期限\n(年月）","検定済計量器の製造ナンバー\n（下三桁番号または全桁番号）"]
[null,{"$f":"'附属書19（非公表用）'!C11","v":0},{"$f":"'附属書19（非公表用）'!D11","v":0},{"$f":"'附属書19（非公表用）'!F11","v":"2012-07-06"},{"$f":"'附属書19（非公表用）'!G11","v":"ハイブリッド"},{"$f":"'附属書19（非公表用）'!H11","v":5},{"$f":"'附属書19（非公表用）'!I11","v":"2021-06-01"},{"$f":"'附属書19（非公表用）'!J11","v":350},{"$f":"'附属書19（非公表用）'!K11","v":"2021-03-01"},{"$f":"'附属書19（非公表用）'!L11","v":351}]
[{"$f":"'附属書19（非公表用）'!A12","v":2},{"$f":"'附属書19（非公表用）'!C12","v":0},{"$f":"'附属書19（非公表用）'!D12","v":0},{"$f":"'附属書19（非公表用）'!F12","v":"2012-10-22"},{"$f":"'附属書19（非公表用）'!G12","v":"単結晶"},{"$f":"'附属書19（非公表用）'!H12","v":5},{"$f":"'附属書19（非公表用）'!I12","v":"2021-06-01"},{"$f":"'附属書19（非公表用）'!J12","v":9},{"$f":"'附属書19（非公表用）'!K12","v":"2021-08-01"},{"$f":"'附属書19（非公表用）'!L12","v":10}]
[{"$f":"'附属書19（非公表用）'!A13","v":3},{"$f":"'附属書19（非公表用）'!C13","v":0},{"$f":"'附属書19（非公表用）'!D13","v":0},{"$f":"'附属書19（非公表用）'!F13","v":"2012-07-10"},{"$f":"'附属書19（非公表用）'!G13","v":"ハイブリッド"},{"$f":"'附属書19（非公表用）'!H13","v":2},{"$f":"'附属書19（非公表用）'!I13","v":"2020-11-01"},{"$f":"'附属書19（非公表用）'!J13","v":862},{"$f":"'附属書19（非公表用）'!K13","v":"2020-11-01"},{"$f":"'附属書19（非公表用）'!L13","v":863}]
[{"$f":"'附属書19（非公表用）'!A14","v":4},{"$f":"'附属書19（非公表用）'!C14","v":0},{"$f":"'附属書19（非公表用）'!D14","v":0},{"$f":"'附属書19（非公表用）'!F14","v":"00:00:00"},{"$f":"'附属書19（非公表用）'!G14","v":0},{"$f":"'附属書19（非公表用）'!H14","v":0},{"$f":"'附属書19（非公表用）'!I14","v":"00:00:00"},{"$f":"'附属書19（非公表用）'!J14","v":0},{"$f":"'附属書19（非公表用）'!K14","v":"00:00:00"},{"$f":"'附属書19（非公表用）'!L14","v":0}]
[{"$f":"'附属書19（非公表用）'!A15","v":5},{"$f":"'附属書19（非公表用）'!C15","v":0},{"$f":"'附属書19（非公表用）'!D15","v":0},{"$f":"'附属書19（非公表用）'!F15","v":"00:00:00"},{"$f":"'附属書19（非公表用）'!G15","v":0},{"$f":"'附属書19（非公表用）'!H15","v":0},{"$f":"'附属書19（非公表用）'!I15","v":"00:00:00"},{"$f":"'附属書19（非公表用）'!J15","v":0},{"$f":"'附属書19（非公表用）'!K15","v":"00:00:00"},{"$f":"'附属書19（非公表用）'!L15","v":0}]
[{"$f":"'附属書19（非公表用）'!A16","v":6},{"$f":"'附属書19（非公表用）'!C16","v":0},{"$f":"'附属書19（非公表用）'!D16","v":0},{"$f":"'附属書19（非公表用）'!F16","v":"00:00:00"},{"$f":"'附属書19（非公表用）'!G16","v":0},{"$f":"'附属書19（非公表用）'!H16","v":0},{"$f":"'附属書19（非公表用）'!I16","v":"00:00:00"},{"$f":"'附属書19（非公表用）'!J16","v":0},{"$f":"'附属書19（非公表用）'!K16","v":"00:00:00"},{"$f":"'附属書19（非公表用）'!L16","v":0}]
[{"$f":"'附属書19（非公表用）'!A17","v":7},{"$f":"'附属書19（非公表用）'!C17","v":0},{"$f":"'附属書19（非公表用）'!D17","v":0},{"$f":"'附属書19（非公表用）'!F17","v":"00:00:00"},{"$f":"'附属書19（非公表用）'!G17","v":0},{"$f":"'附属書19（非公表用）'!H17","v":0},{"$f":"'附属書19（非公表用）'!I17","v":"00:00:00"},{"$f":"'附属書19（非公表用）'!J17","v":0},{"$f":"'附属書19（非公表用）'!K17","v":"00:00:00"},{"$f":"'附属書19（非公表用）'!L17","v":0}]
[{"$f":"'附属書19（非公表用）'!A18","v":8},{"$f":"'附属書19（非公表用）'!C18","v":0},{"$f":"'附属書19（非公表用）'!D18","v":0},{"$f":"'附属書19（非公表用）'!F18","v":"00:00:00"},{"$f":"'附属書19（非公表用）'!G18","v":0},{"$f":"'附属書19（非公表用）'!H18","v":0},{"$f":"'附属書19（非公表用）'!I18","v":"00:00:00"},{"$f":"'附属書19（非公表用）'!J18","v":0},{"$f":"'附属書19（非公表用）'!K18","v":"00:00:00"},{"$f":"'附属書19（非公表用）'!L18","v":0}]
[{"$f":"'附属書19（非公表用）'!A19","v":9},{"$f":"'附属書19（非公表用）'!C19","v":0},{"$f":"'附属書19（非公表用）'!D19","v":0},{"$f":"'附属書19（非公表用）'!F19","v":"00:00:00"},{"$f":"'附属書19（非公表用）'!G19","v":0},{"$f":"'附属書19（非公表用）'!H19","v":0},{"$f":"'附属書19（非公表用）'!I19","v":"00:00:00"},{"$f":"'附属書19（非公表用）'!J19","v":0},{"$f":"'附属書19（非公表用）'!K19","v":"00:00:00"},{"$f":"'附属書19（非公表用）'!L19","v":0}]
[{"$f":"'附属書19（非公表用）'!A20","v":10},{"$f":"'附属書19（非公表用）'!C20","v":0},{"$f":"'附属書19（非公表用）'!D20","v":0},{"$f":"'附属書19（非公表用）'!F20","v":"00:00:00"},{"$f":"'附属書19（非公表用）'!G20","v":0},{"$f":"'附属書19（非公表用）'!H20","v":0},{"$f":"'附属書19（非公表用）'!I20","v":"00:00:00"},{"$f":"'附属書19（非公表用）'!J20","v":0},{"$f":"'附属書19（非公表用）'!K20","v":"00:00:00"},{"$f":"'附属書19（非公表用）'!L20","v":0}]
[{"$f":"'附属書19（非公表用）'!A21","v":11},{"$f":"'附属書19（非公表用）'!C21","v":0},{"$f":"'附属書19（非公表用）'!D21","v":0},{"$f":"'附属書19（非公表用）'!F21","v":"00:00:00"},{"$f":"'附属書19（非公表用）'!G21","v":0},{"$f":"'附属書19（非公表用）'!H21","v":0},{"$f":"'附属書19（非公表用）'!I21","v":"00:00:00"},{"$f":"'附属書19（非公表用）'!J21","v":0},{"$f":"'附属書19（非公表用）'!K21","v":"00:00:00"},{"$f":"'附属書19（非公表用）'!L21","v":0}]
[{"$f":"'附属書19（非公表用）'!A22","v":12},{"$f":"'附属書19（非公表用）'!C22","v":0},{"$f":"'附属書19（非公表用）'!D22","v":0},{"$f":"'附属書19（非公表用）'!F22","v":"00:00:00"},{"$f":"'附属書19（非公表用）'!G22","v":0},{"$f":"'附属書19（非公表用）'!H22","v":0},{"$f":"'附属書19（非公表用）'!I22","v":"00:00:00"},{"$f":"'附属書19（非公表用）'!J22","v":0},{"$f":"'附属書19（非公表用）'!K22","v":"00:00:00"},{"$f":"'附属書19（非公表用）'!L22","v":0}]
[{"$f":"'附属書19（非公表用）'!A23","v":13},{"$f":"'附属書19（非公表用）'!C23","v":0},{"$f":"'附属書19（非公表用）'!D23","v":0},{"$f":"'附属書19（非公表用）'!F23","v":"00:00:00"},{"$f":"'附属書19（非公表用）'!G23","v":0},{"$f":"'附属書19（非公表用）'!H23","v":0},{"$f":"'附属書19（非公表用）'!I23","v":"00:00:00"},{"$f":"'附属書19（非公表用）'!J23","v":0},{"$f":"'附属書19（非公表用）'!K23","v":"00:00:00"},{"$f":"'附属書19（非公表用）'!L23","v":0}]
[{"$f":"'附属書19（非公表用）'!A24","v":14},{"$f":"'附属書19（非公表用）'!C24","v":0},{"$f":"'附属書19（非公表用）'!D24","v":0},{"$f":"'附属書19（非公表用）'!F24","v":"00:00:00"},{"$f":"'附属書19（非公表用）'!G24","v":0},{"$f":"'附属書19（非公表用）'!H24","v":0},{"$f":"'附属書19（非公表用）'!I24","v":"00:00:00"},{"$f":"'附属書19（非公表用）'!J24","v":0},{"$f":"'附属書19（非公表用）'!K24","v":"00:00:00"},{"$f":"'附属書19（非公表用）'!L24","v":0}]
[{"$f":"'附属書19（非公表用）'!A25","v":15},{"$f":"'附属書19（非公表用）'!C25","v":0},{"$f":"'附属書19（非公表用）'!D25","v":0},{"$f":"'附属書19（非公表用）'!F25","v":"00:00:00"},{"$f":"'附属書19（非公表用）'!G25","v":0},{"$f":"'附属書19（非公表用）'!H25","v":0},{"$f":"'附属書19（非公表用）'!I25","v":"00:00:00"},{"$f":"'附属書19（非公表用）'!J25","v":0},{"$f":"'附属書19（非公表用）'!K25","v":"00:00:00"},{"$f":"'附属書19（非公表用）'!L25","v":0}]
[{"$f":"'附属書19（非公表用）'!A26","v":16},{"$f":"'附属書19（非公表用）'!C26","v":0},{"$f":"'附属書19（非公表用）'!D26","v":0},{"$f":"'附属書19（非公表用）'!F26","v":"00:00:00"},{"$f":"'附属書19（非公表用）'!G26","v":0},{"$f":"'附属書19（非公表用）'!H26","v":0},{"$f":"'附属書19（非公表用）'!I26","v":"00:00:00"},{"$f":"'附属書19（非公表用）'!J26","v":0},{"$f":"'附属書19（非公表用）'!K26","v":"00:00:00"},{"$f":"'附属書19（非公表用）'!L26","v":0}]
[{"$f":"'附属書19（非公表用）'!A27","v":17},{"$f":"'附属書19（非公表用）'!C27","v":0},{"$f":"'附属書19（非公表用）'!D27","v":0},{"$f":"'附属書19（非公表用）'!F27","v":"00:00:00"},{"$f":"'附属書19（非公表用）'!G27","v":0},{"$f":"'附属書19（非公表用）'!H27","v":0},{"$f":"'附属書19（非公表用）'!I27","v":"00:00:00"},{"$f":"'附属書19（非公表用）'!J27","v":0},{"$f":"'附属書19（非公表用）'!K27","v":"00:00:00"},{"$f":"'附属書19（非公表用）'!L27","v":0}]
[{"$f":"'附属書19（非公表用）'!A28","v":18},{"$f":"'附属書19（非公表用）'!C28","v":0},{"$f":"'附属書19（非公表用）'!D28","v":0},{"$f":"'附属書19（非公表用）'!F28","v":"00:00:00"},{"$f":"'附属書19（非公表用）'!G28","v":0},{"$f":"'附属書19（非公表用）'!H28","v":0},{"$f":"'附属書19（非公表用）'!I28","v":"00:00:00"},{"$f":"'附属書19（非公表用）'!J28","v":0},{"$f":"'附属書19（非公表用）'!K28","v":"00:00:00"},{"$f":"'附属書19（非公表用）'!L28","v":0}]
[{"$f":"'附属書19（非公表用）'!A29","v":19},{"$f":"'附属書19（非公表用）'!C29","v":0},{"$f":"'附属書19（非公表用）'!D29","v":0},{"$f":"'附属書19（非公表用）'!F29","v":"00:00:00"},{"$f":"'附属書19（非公表用）'!G29","v":0},{"$f":"'附属書19（非公表用）'!H29","v":0},{"$f":"'附属書19（非公表用）'!I29","v":"00:00:00"},{"$f":"'附属書19（非公表用）'!J29","v":0},{"$f":"'附属書19（非公表用）'!K29","v":"00:00:00"},{"$f":"'附属書19（非公表用）'!L29","v":0}]
[{"$f":"'附属書19（非公表用）'!A30","v":20},{"$f":"'附属書19（非公表用）'!C30","v":0},{"$f":"'附属書19（非公表用）'!D30","v":0},{"$f":"'附属書19（非公表用）'!F30","v":"00:00:00"},{"$f":"'附属書19（非公表用）'!G30","v":0},{"$f":"'附属書19（非公表用）'!H30","v":0},{"$f":"'附属書19（非公表用）'!I30","v":"00:00:00"},{"$f":"'附属書19（非公表用）'!J30","v":0},{"$f":"'附属書19（非公表用）'!K30","v":"00:00:00"},{"$f":"'附属書19（非公表用）'!L30","v":0}]
[{"$f":"'附属書19（非公表用）'!A31","v":21},{"$f":"'附属書19（非公表用）'!C31","v":0},{"$f":"'附属書19（非公表用）'!D31","v":0},{"$f":"'附属書19（非公表用）'!F31","v":"00:00:00"},{"$f":"'附属書19（非公表用）'!G31","v":0},{"$f":"'附属書19（非公表用）'!H31","v":0},{"$f":"'附属書19（非公表用）'!I31","v":"00:00:00"},{"$f":"'附属書19（非公表用）'!J31","v":0},{"$f":"'附属書19（非公表用）'!K31","v":"00:00:00"},{"$f":"'附属書19（非公表用）'!L31","v":0}]
[{"$f":"'附属書19（非公表用）'!A32","v":22},{"$f":"'附属書19（非公表用）'!C32","v":0},{"$f":"'附属書19（非公表用）'!D32","v":0},{"$f":"'附属書19（非公表用）'!F32","v":"00:00:00"},{"$f":"'附属書19（非公表用）'!G32","v":0},{"$f":"'附属書19（非公表用）'!H32","v":0},{"$f":"'附属書19（非公表用）'!I32","v":"00:00:00"},{"$f":"'附属書19（非公表用）'!J32","v":0},{"$f":"'附属書19（非公表用）'!K32","v":"00:00:00"},{"$f":"'附属書19（非公表用）'!L32","v":0}]
[{"$f":"'附属書19（非公表用）'!A33","v":23},{"$f":"'附属書19（非公表用）'!C33","v":0},{"$f":"'附属書19（非公表用）'!D33","v":0},{"$f":"'附属書19（非公表用）'!F33","v":"00:00:00"},{"$f":"'附属書19（非公表用）'!G33","v":0},{"$f":"'附属書19（非公表用）'!H33","v":0},{"$f":"'附属書19（非公表用）'!I33","v":"00:00:00"},{"$f":"'附属書19（非公表用）'!J33","v":0},{"$f":"'附属書19（非公表用）'!K33","v":"00:00:00"},{"$f":"'附属書19（非公表用）'!L33","v":0}]
[{"$f":"'附属書19（非公表用）'!A34","v":24},{"$f":"'附属書19（非公表用）'!C34","v":0},{"$f":"'附属書19（非公表用）'!D34","v":0},{"$f":"'附属書19（非公表用）'!F34","v":"00:00:00"},{"$f":"'附属書19（非公表用）'!G34","v":0},{"$f":"'附属書19（非公表用）'!H34","v":0},{"$f":"'附属書19（非公表用）'!I34","v":"00:00:00"},{"$f":"'附属書19（非公表用）'!J34","v":0},{"$f":"'附属書19（非公表用）'!K34","v":"00:00:00"},{"$f":"'附属書19（非公表用）'!L34","v":0}]
[{"$f":"'附属書19（非公表用）'!A35","v":25},{"$f":"'附属書19（非公表用）'!C35","v":0},{"$f":"'附属書19（非公表用）'!D35","v":0},{"$f":"'附属書19（非公表用）'!F35","v":"00:00:00"},{"$f":"'附属書19（非公表用）'!G35","v":0},{"$f":"'附属書19（非公表用）'!H35","v":0},{"$f":"'附属書19（非公表用）'!I35","v":"00:00:00"},{"$f":"'附属書19（非公表用）'!J35","v":0},{"$f":"'附属書19（非公表用）'!K35","v":"00:00:00"},{"$f":"'附属書19（非公表用）'!L35","v":0}]
[{"$f":"'附属書19（非公表用）'!A36","v":26},{"$f":"'附属書19（非公表用）'!C36","v":0},{"$f":"'附属書19（非公表用）'!D36","v":0},{"$f":"'附属書19（非公表用）'!F36","v":"00:00:00"},{"$f":"'附属書19（非公表用）'!G36","v":0},{"$f":"'附属書19（非公表用）'!H36","v":0},{"$f":"'附属書19（非公表用）'!I36","v":"00:00:00"},{"$f":"'附属書19（非公表用）'!J36","v":0},{"$f":"'附属書19（非公表用）'!K36","v":"00:00:00"},{"$f":"'附属書19（非公表用）'!L36","v":0}]
[{"$f":"'附属書19（非公表用）'!A37","v":27},{"$f":"'附属書19（非公表用）'!C37","v":0},{"$f":"'附属書19（非公表用）'!D37","v":0},{"$f":"'附属書19（非公表用）'!F37","v":"00:00:00"},{"$f":"'附属書19（非公表用）'!G37","v":0},{"$f":"'附属書19（非公表用）'!H37","v":0},{"$f":"'附属書19（非公表用）'!I37","v":"00:00:00"},{"$f":"'附属書19（非公表用）'!J37","v":0},{"$f":"'附属書19（非公表用）'!K37","v":"00:00:00"},{"$f":"'附属書19（非公表用）'!L37","v":0}]
[{"$f":"'附属書19（非公表用）'!A38","v":28},{"$f":"'附属書19（非公表用）'!C38","v":0},{"$f":"'附属書19（非公表用）'!D38","v":0},{"$f":"'附属書19（非公表用）'!F38","v":"00:00:00"},{"$f":"'附属書19（非公表用）'!G38","v":0},{"$f":"'附属書19（非公表用）'!H38","v":0},{"$f":"'附属書19（非公表用）'!I38","v":"00:00:00"},{"$f":"'附属書19（非公表用）'!J38","v":0},{"$f":"'附属書19（非公表用）'!K38","v":"00:00:00"},{"$f":"'附属書19（非公表用）'!L38","v":0}]
[{"$f":"'附属書19（非公表用）'!A39","v":29},{"$f":"'附属書19（非公表用）'!C39","v":0},{"$f":"'附属書19（非公表用）'!D39","v":0},{"$f":"'附属書19（非公表用）'!F39","v":"00:00:00"},{"$f":"'附属書19（非公表用）'!G39","v":0},{"$f":"'附属書19（非公表用）'!H39","v":0},{"$f":"'附属書19（非公表用）'!I39","v":"00:00:00"},{"$f":"'附属書19（非公表用）'!J39","v":0},{"$f":"'附属書19（非公表用）'!K39","v":"00:00:00"},{"$f":"'附属書19（非公表用）'!L39","v":0}]
[{"$f":"'附属書19（非公表用）'!A40","v":30},{"$f":"'附属書19（非公表用）'!C40","v":0},{"$f":"'附属書19（非公表用）'!D40","v":0},{"$f":"'附属書19（非公表用）'!F40","v":"00:00:00"},{"$f":"'附属書19（非公表用）'!G40","v":0},{"$f":"'附属書19（非公表用）'!H40","v":0},{"$f":"'附属書19（非公表用）'!I40","v":"00:00:00"},{"$f":"'附属書19（非公表用）'!J40","v":0},{"$f":"'附属書19（非公表用）'!K40","v":"00:00:00"},{"$f":"'附属書19（非公表用）'!L40","v":0}]
[{"$f":"'附属書19（非公表用）'!A41","v":31},{"$f":"'附属書19（非公表用）'!C41","v":0},{"$f":"'附属書19（非公表用）'!D41","v":0},{"$f":"'附属書19（非公表用）'!F41","v":"00:00:00"},{"$f":"'附属書19（非公表用）'!G41","v":0},{"$f":"'附属書19（非公表用）'!H41","v":0},{"$f":"'附属書19（非公表用）'!I41","v":"00:00:00"},{"$f":"'附属書19（非公表用）'!J41","v":0},{"$f":"'附属書19（非公表用）'!K41","v":"00:00:00"},{"$f":"'附属書19（非公表用）'!L41","v":0}]
[{"$f":"'附属書19（非公表用）'!A42","v":32},{"$f":"'附属書19（非公表用）'!C42","v":0},{"$f":"'附属書19（非公表用）'!D42","v":0},{"$f":"'附属書19（非公表用）'!F42","v":"00:00:00"},{"$f":"'附属書19（非公表用）'!G42","v":0},{"$f":"'附属書19（非公表用）'!H42","v":0},{"$f":"'附属書19（非公表用）'!I42","v":"00:00:00"},{"$f":"'附属書19（非公表用）'!J42","v":0},{"$f":"'附属書19（非公表用）'!K42","v":"00:00:00"},{"$f":"'附属書19（非公表用）'!L42","v":0}]
[{"$f":"'附属書19（非公表用）'!A43","v":33},{"$f":"'附属書19（非公表用）'!C43","v":0},{"$f":"'附属書19（非公表用）'!D43","v":0},{"$f":"'附属書19（非公表用）'!F43","v":"00:00:00"},{"$f":"'附属書19（非公表用）'!G43","v":0},{"$f":"'附属書19（非公表用）'!H43","v":0},{"$f":"'附属書19（非公表用）'!I43","v":"00:00:00"},{"$f":"'附属書19（非公表用）'!J43","v":0},{"$f":"'附属書19（非公表用）'!K43","v":"00:00:00"},{"$f":"'附属書19（非公表用）'!L43","v":0}]
[{"$f":"'附属書19（非公表用）'!A44","v":34},{"$f":"'附属書19（非公表用）'!C44","v":0},{"$f":"'附属書19（非公表用）'!D44","v":0},{"$f":"'附属書19（非公表用）'!F44","v":"00:00:00"},{"$f":"'附属書19（非公表用）'!G44","v":0},{"$f":"'附属書19（非公表用）'!H44","v":0},{"$f":"'附属書19（非公表用）'!I44","v":"00:00:00"},{"$f":"'附属書19（非公表用）'!J44","v":0},{"$f":"'附属書19（非公表用）'!K44","v":"00:00:00"},{"$f":"'附属書19（非公表用）'!L44","v":0}]
[{"$f":"'附属書19（非公表用）'!A45","v":35},{"$f":"'附属書19（非公表用）'!C45","v":0},{"$f":"'附属書19（非公表用）'!D45","v":0},{"$f":"'附属書19（非公表用）'!F45","v":"00:00:00"},{"$f":"'附属書19（非公表用）'!G45","v":0},{"$f":"'附属書19（非公表用）'!H45","v":0},{"$f":"'附属書19（非公表用）'!I45","v":"00:00:00"},{"$f":"'附属書19（非公表用）'!J45","v":0},{"$f":"'附属書19（非公表用）'!K45","v":"00:00:00"},{"$f":"'附属書19（非公表用）'!L45","v":0}]
[{"$f":"'附属書19（非公表用）'!A46","v":36},{"$f":"'附属書19（非公表用）'!C46","v":0},{"$f":"'附属書19（非公表用）'!D46","v":0},{"$f":"'附属書19（非公表用）'!F46","v":"00:00:00"},{"$f":"'附属書19（非公表用）'!G46","v":0},{"$f":"'附属書19（非公表用）'!H46","v":0},{"$f":"'附属書19（非公表用）'!I46","v":"00:00:00"},{"$f":"'附属書19（非公表用）'!J46","v":0},{"$f":"'附属書19（非公表用）'!K46","v":"00:00:00"},{"$f":"'附属書19（非公表用）'!L46","v":0}]
[{"$f":"'附属書19（非公表用）'!A47","v":37},{"$f":"'附属書19（非公表用）'!C47","v":0},{"$f":"'附属書19（非公表用）'!D47","v":0},{"$f":"'附属書19（非公表用）'!F47","v":"00:00:00"},{"$f":"'附属書19（非公表用）'!G47","v":0},{"$f":"'附属書19（非公表用）'!H47","v":0},{"$f":"'附属書19（非公表用）'!I47","v":"00:00:00"},{"$f":"'附属書19（非公表用）'!J47","v":0},{"$f":"'附属書19（非公表用）'!K47","v":"00:00:00"},{"$f":"'附属書19（非公表用）'!L47","v":0}]
[{"$f":"'附属書19（非公表用）'!A48","v":38},{"$f":"'附属書19（非公表用）'!C48","v":0},{"$f":"'附属書19（非公表用）'!D48","v":0},{"$f":"'附属書19（非公表用）'!F48","v":"00:00:00"},{"$f":"'附属書19（非公表用）'!G48","v":0},{"$f":"'附属書19（非公表用）'!H48","v":0},{"$f":"'附属書19（非公表用）'!I48","v":"00:00:00"},{"$f":"'附属書19（非公表用）'!J48","v":0},{"$f":"'附属書19（非公表用）'!K48","v":"00:00:00"},{"$f":"'附属書19（非公表用）'!L48","v":0}]
[{"$f":"'附属書19（非公表用）'!A49","v":39},{"$f":"'附属書19（非公表用）'!C49","v":0},{"$f":"'附属書19（非公表用）'!D49","v":0},{"$f":"'附属書19（非公表用）'!F49","v":"00:00:00"},{"$f":"'附属書19（非公表用）'!G49","v":0},{"$f":"'附属書19（非公表用）'!H49","v":0},{"$f":"'附属書19（非公表用）'!I49","v":"00:00:00"},{"$f":"'附属書19（非公表用）'!J49","v":0},{"$f":"'附属書19（非公表用）'!K49","v":"00:00:00"},{"$f":"'附属書19（非公表用）'!L49","v":0}]
[{"$f":"'附属書19（非公表用）'!A50","v":40},{"$f":"'附属書19（非公表用）'!C50","v":0},{"$f":"'附属書19（非公表用）'!D50","v":0},{"$f":"'附属書19（非公表用）'!F50","v":"00:00:00"},{"$f":"'附属書19（非公表用）'!G50","v":0},{"$f":"'附属書19（非公表用）'!H50","v":0},{"$f":"'附属書19（非公表用）'!I50","v":"00:00:00"},{"$f":"'附属書19（非公表用）'!J50","v":0},{"$f":"'附属書19（非公表用）'!K50","v":"00:00:00"},{"$f":"'附属書19（非公表用）'!L50","v":0}]
[{"$f":"'附属書19（非公表用）'!A51","v":41},{"$f":"'附属書19（非公表用）'!C51","v":0},{"$f":"'附属書19（非公表用）'!D51","v":0},{"$f":"'附属書19（非公表用）'!F51","v":"00:00:00"},{"$f":"'附属書19（非公表用）'!G51","v":0},{"$f":"'附属書19（非公表用）'!H51","v":0},{"$f":"'附属書19（非公表用）'!I51","v":"00:00:00"},{"$f":"'附属書19（非公表用）'!J51","v":0},{"$f":"'附属書19（非公表用）'!K51","v":"00:00:00"},{"$f":"'附属書19（非公表用）'!L51","v":0}]
[{"$f":"'附属書19（非公表用）'!A52","v":42},{"$f":"'附属書19（非公表用）'!C52","v":0},{"$f":"'附属書19（非公表用）'!D52","v":0},{"$f":"'附属書19（非公表用）'!F52","v":"00:00:00"},{"$f":"'附属書19（非公表用）'!G52","v":0},{"$f":"'附属書19（非公表用）'!H52","v":0},{"$f":"'附属書19（非公表用）'!I52","v":"00:00:00"},{"$f":"'附属書19（非公表用）'!J52","v":0},{"$f":"'附属書19（非公表用）'!K52","v":"00:00:00"},{"$f":"'附属書19（非公表用）'!L52","v":0}]
[{"$f":"'附属書19（非公表用）'!A53","v":43},{"$f":"'附属書19（非公表用）'!C53","v":0},{"$f":"'附属書19（非公表用）'!D53","v":0},{"$f":"'附属書19（非公表用）'!F53","v":"00:00:00"},{"$f":"'附属書19（非公表用）'!G53","v":0},{"$f":"'附属書19（非公表用）'!H53","v":0},{"$f":"'附属書19（非公表用）'!I53","v":"00:00:00"},{"$f":"'附属書19（非公表用）'!J53","v":0},{"$f":"'附属書19（非公表用）'!K53","v":"00:00:00"},{"$f":"'附属書19（非公表用）'!L53","v":0}]
[{"$f":"'附属書19（非公表用）'!A54","v":44},{"$f":"'附属書19（非公表用）'!C54","v":0},{"$f":"'附属書19（非公表用）'!D54","v":0},{"$f":"'附属書19（非公表用）'!F54","v":"00:00:00"},{"$f":"'附属書19（非公表用）'!G54","v":0},{"$f":"'附属書19（非公表用）'!H54","v":0},{"$f":"'附属書19（非公表用）'!I54","v":"00:00:00"},{"$f":"'附属書19（非公表用）'!J54","v":0},{"$f":"'附属書19（非公表用）'!K54","v":"00:00:00"},{"$f":"'附属書19（非公表用）'!L54","v":0}]
[{"$f":"'附属書19（非公表用）'!A55","v":45},{"$f":"'附属書19（非公表用）'!C55","v":0},{"$f":"'附属書19（非公表用）'!D55","v":0},{"$f":"'附属書19（非公表用）'!F55","v":"00:00:00"},{"$f":"'附属書19（非公表用）'!G55","v":0},{"$f":"'附属書19（非公表用）'!H55","v":0},{"$f":"'附属書19（非公表用）'!I55","v":"00:00:00"},{"$f":"'附属書19（非公表用）'!J55","v":0},{"$f":"'附属書19（非公表用）'!K55","v":"00:00:00"},{"$f":"'附属書19（非公表用）'!L55","v":0}]
[{"$f":"'附属書19（非公表用）'!A56","v":46},{"$f":"'附属書19（非公表用）'!C56","v":0},{"$f":"'附属書19（非公表用）'!D56","v":0},{"$f":"'附属書19（非公表用）'!F56","v":"00:00:00"},{"$f":"'附属書19（非公表用）'!G56","v":0},{"$f":"'附属書19（非公表用）'!H56","v":0},{"$f":"'附属書19（非公表用）'!I56","v":"00:00:00"},{"$f":"'附属書19（非公表用）'!J56","v":0},{"$f":"'附属書19（非公表用）'!K56","v":"00:00:00"},{"$f":"'附属書19（非公表用）'!L56","v":0}]
[{"$f":"'附属書19（非公表用）'!A57","v":47},{"$f":"'附属書19（非公表用）'!C57","v":0},{"$f":"'附属書19（非公表用）'!D57","v":0},{"$f":"'附属書19（非公表用）'!F57","v":"00:00:00"},{"$f":"'附属書19（非公表用）'!G57","v":0},{"$f":"'附属書19（非公表用）'!H57","v":0},{"$f":"'附属書19（非公表用）'!I57","v":"00:00:00"},{"$f":"'附属書19（非公表用）'!J57","v":0},{"$f":"'附属書19（非公表用）'!K57","v":"00:00:00"},{"$f":"'附属書19（非公表用）'!L57","v":0}]
[{"$f":"'附属書19（非公表用）'!A58","v":48},{"$f":"'附属書19（非公表用）'!C58","v":0},{"$f":"'附属書19（非公表用）'!D58","v":0},{"$f":"'附属書19（非公表用）'!F58","v":"00:00:00"},{"$f":"'附属書19（非公表用）'!G58","v":0},{"$f":"'附属書19（非公表用）'!H58","v":0},{"$f":"'附属書19（非公表用）'!I58","v":"00:00:00"},{"$f":"'附属書19（非公表用）'!J58","v":0},{"$f":"'附属書19（非公表用）'!K58","v":"00:00:00"},{"$f":"'附属書19（非公表用）'!L58","v":0}]
[{"$f":"'附属書19（非公表用）'!A59","v":49},{"$f":"'附属書19（非公表用）'!C59","v":0},{"$f":"'附属書19（非公表用）'!D59","v":0},{"$f":"'附属書19（非公表用）'!F59","v":"00:00:00"},{"$f":"'附属書19（非公表用）'!G59","v":0},{"$f":"'附属書19（非公表用）'!H59","v":0},{"$f":"'附属書19（非公表用）'!I59","v":"00:00:00"},{"$f":"'附属書19（非公表用）'!J59","v":0},{"$f":"'附属書19（非公表用）'!K59","v":"00:00:00"},{"$f":"'附属書19（非公表用）'!L59","v":0}]
[{"$f":"'附属書19（非公表用）'!A60","v":50},{"$f":"'附属書19（非公表用）'!C60","v":0},{"$f":"'附属書19（非公表用）'!D60","v":0},{"$f":"'附属書19（非公表用）'!F60","v":"00:00:00"},{"$f":"'附属書19（非公表用）'!G60","v":0},{"$f":"'附属書19（非公表用）'!H60","v":0},{"$f":"'附属書19（非公表用）'!I60","v":"00:00:00"},{"$f":"'附属書19（非公表用）'!J60","v":0},{"$f":"'附属書19（非公表用）'!K60","v":"00:00:00"},{"$f":"'附属書19（非公表用）'!L60","v":0}]
[{"$f":"'附属書19（非公表用）'!A61","v":51},{"$f":"'附属書19（非公表用）'!C61","v":0},{"$f":"'附属書19（非公表用）'!D61","v":0},{"$f":"'附属書19（非公表用）'!F61","v":"00:00:00"},{"$f":"'附属書19（非公表用）'!G61","v":0},{"$f":"'附属書19（非公表用）'!H61","v":0},{"$f":"'附属書19（非公表用）'!I61","v":"00:00:00"},{"$f":"'附属書19（非公表用）'!J61","v":0},{"$f":"'附属書19（非公表用）'!K61","v":"00:00:00"},{"$f":"'附属書19（非公表用）'!L61","v":0}]
[{"$f":"'附属書19（非公表用）'!A62","v":52},{"$f":"'附属書19（非公表用）'!C62","v":0},{"$f":"'附属書19（非公表用）'!D62","v":0},{"$f":"'附属書19（非公表用）'!F62","v":"00:00:00"},{"$f":"'附属書19（非公表用）'!G62","v":0},{"$f":"'附属書19（非公表用）'!H62","v":0},{"$f":"'附属書19（非公表用）'!I62","v":"00:00:00"},{"$f":"'附属書19（非公表用）'!J62","v":0},{"$f":"'附属書19（非公表用）'!K62","v":"00:00:00"},{"$f":"'附属書19（非公表用）'!L62","v":0}]
[{"$f":"'附属書19（非公表用）'!A63","v":53},{"$f":"'附属書19（非公表用）'!C63","v":0},{"$f":"'附属書19（非公表用）'!D63","v":0},{"$f":"'附属書19（非公表用）'!F63","v":"00:00:00"},{"$f":"'附属書19（非公表用）'!G63","v":0},{"$f":"'附属書19（非公表用）'!H63","v":0},{"$f":"'附属書19（非公表用）'!I63","v":"00:00:00"},{"$f":"'附属書19（非公表用）'!J63","v":0},{"$f":"'附属書19（非公表用）'!K63","v":"00:00:00"},{"$f":"'附属書19（非公表用）'!L63","v":0}]
[{"$f":"'附属書19（非公表用）'!A64","v":54},{"$f":"'附属書19（非公表用）'!C64","v":0},{"$f":"'附属書19（非公表用）'!D64","v":0},{"$f":"'附属書19（非公表用）'!F64","v":"00:00:00"},{"$f":"'附属書19（非公表用）'!G64","v":0},{"$f":"'附属書19（非公表用）'!H64","v":0},{"$f":"'附属書19（非公表用）'!I64","v":"00:00:00"},{"$f":"'附属書19（非公表用）'!J64","v":0},{"$f":"'附属書19（非公表用）'!K64","v":"00:00:00"},{"$f":"'附属書19（非公表用）'!L64","v":0}]
[{"$f":"'附属書19（非公表用）'!A65","v":55},{"$f":"'附属書19（非公表用）'!C65","v":0},{"$f":"'附属書19（非公表用）'!D65","v":0},{"$f":"'附属書19（非公表用）'!F65","v":"00:00:00"},{"$f":"'附属書19（非公表用）'!G65","v":0},{"$f":"'附属書19（非公表用）'!H65","v":0},{"$f":"'附属書19（非公表用）'!I65","v":"00:00:00"},{"$f":"'附属書19（非公表用）'!J65","v":0},{"$f":"'附属書19（非公表用）'!K65","v":"00:00:00"},{"$f":"'附属書19（非公表用）'!L65","v":0}]
[{"$f":"'附属書19（非公表用）'!A66","v":56},{"$f":"'附属書19（非公表用）'!C66","v":0},{"$f":"'附属書19（非公表用）'!D66","v":0},{"$f":"'附属書19（非公表用）'!F66","v":"00:00:00"},{"$f":"'附属書19（非公表用）'!G66","v":0},{"$f":"'附属書19（非公表用）'!H66","v":0},{"$f":"'附属書19（非公表用）'!I66","v":"00:00:00"},{"$f":"'附属書19（非公表用）'!J66","v":0},{"$f":"'附属書19（非公表用）'!K66","v":"00:00:00"},{"$f":"'附属書19（非公表用）'!L66","v":0}]
[{"$f":"'附属書19（非公表用）'!A67","v":57},{"$f":"'附属書19（非公表用）'!C67","v":0},{"$f":"'附属書19（非公表用）'!D67","v":0},{"$f":"'附属書19（非公表用）'!F67","v":"00:00:00"},{"$f":"'附属書19（非公表用）'!G67","v":0},{"$f":"'附属書19（非公表用）'!H67","v":0},{"$f":"'附属書19（非公表用）'!I67","v":"00:00:00"},{"$f":"'附属書19（非公表用）'!J67","v":0},{"$f":"'附属書19（非公表用）'!K67","v":"00:00:00"},{"$f":"'附属書19（非公表用）'!L67","v":0}]
[{"$f":"'附属書19（非公表用）'!A68","v":58},{"$f":"'附属書19（非公表用）'!C68","v":0},{"$f":"'附属書19（非公表用）'!D68","v":0},{"$f":"'附属書19（非公表用）'!F68","v":"00:00:00"},{"$f":"'附属書19（非公表用）'!G68","v":0},{"$f":"'附属書19（非公表用）'!H68","v":0},{"$f":"'附属書19（非公表用）'!I68","v":"00:00:00"},{"$f":"'附属書19（非公表用）'!J68","v":0},{"$f":"'附属書19（非公表用）'!K68","v":"00:00:00"},{"$f":"'附属書19（非公表用）'!L68","v":0}]
[{"$f":"'附属書19（非公表用）'!A69","v":59},{"$f":"'附属書19（非公表用）'!C69","v":0},{"$f":"'附属書19（非公表用）'!D69","v":0},{"$f":"'附属書19（非公表用）'!F69","v":"00:00:00"},{"$f":"'附属書19（非公表用）'!G69","v":0},{"$f":"'附属書19（非公表用）'!H69","v":0},{"$f":"'附属書19（非公表用）'!I69","v":"00:00:00"},{"$f":"'附属書19（非公表用）'!J69","v":0},{"$f":"'附属書19（非公表用）'!K69","v":"00:00:00"},{"$f":"'附属書19（非公表用）'!L69","v":0}]
[{"$f":"'附属書19（非公表用）'!A70","v":60},{"$f":"'附属書19（非公表用）'!C70","v":0},{"$f":"'附属書19（非公表用）'!D70","v":0},{"$f":"'附属書19（非公表用）'!F70","v":"00:00:00"},{"$f":"'附属書19（非公表用）'!G70","v":0},{"$f":"'附属書19（非公表用）'!H70","v":0},{"$f":"'附属書19（非公表用）'!I70","v":"00:00:00"},{"$f":"'附属書19（非公表用）'!J70","v":0},{"$f":"'附属書19（非公表用）'!K70","v":"00:00:00"},{"$f":"'附属書19（非公表用）'!L70","v":0}]
[{"$f":"'附属書19（非公表用）'!A71","v":61},{"$f":"'附属書19（非公表用）'!C71","v":0},{"$f":"'附属書19（非公表用）'!D71","v":0},{"$f":"'附属書19（非公表用）'!F71","v":"00:00:00"},{"$f":"'附属書19（非公表用）'!G71","v":0},{"$f":"'附属書19（非公表用）'!H71","v":0},{"$f":"'附属書19（非公表用）'!I71","v":"00:00:00"},{"$f":"'附属書19（非公表用）'!J71","v":0},{"$f":"'附属書19（非公表用）'!K71","v":"00:00:00"},{"$f":"'附属書19（非公表用）'!L71","v":0}]
[{"$f":"'附属書19（非公表用）'!A72","v":62},{"$f":"'附属書19（非公表用）'!C72","v":0},{"$f":"'附属書19（非公表用）'!D72","v":0},{"$f":"'附属書19（非公表用）'!F72","v":"00:00:00"},{"$f":"'附属書19（非公表用）'!G72","v":0},{"$f":"'附属書19（非公表用）'!H72","v":0},{"$f":"'附属書19（非公表用）'!I72","v":"00:00:00"},{"$f":"'附属書19（非公表用）'!J72","v":0},{"$f":"'附属書19（非公表用）'!K72","v":"00:00:00"},{"$f":"'附属書19（非公表用）'!L72","v":0}]
[{"$f":"'附属書19（非公表用）'!A73","v":63},{"$f":"'附属書19（非公表用）'!C73","v":0},{"$f":"'附属書19（非公表用）'!D73","v":0},{"$f":"'附属書19（非公表用）'!F73","v":"00:00:00"},{"$f":"'附属書19（非公表用）'!G73","v":0},{"$f":"'附属書19（非公表用）'!H73","v":0},{"$f":"'附属書19（非公表用）'!I73","v":"00:00:00"},{"$f":"'附属書19（非公表用）'!J73","v":0},{"$f":"'附属書19（非公表用）'!K73","v":"00:00:00"},{"$f":"'附属書19（非公表用）'!L73","v":0}]
[{"$f":"'附属書19（非公表用）'!A74","v":64},{"$f":"'附属書19（非公表用）'!C74","v":0},{"$f":"'附属書19（非公表用）'!D74","v":0},{"$f":"'附属書19（非公表用）'!F74","v":"00:00:00"},{"$f":"'附属書19（非公表用）'!G74","v":0},{"$f":"'附属書19（非公表用）'!H74","v":0},{"$f":"'附属書19（非公表用）'!I74","v":"00:00:00"},{"$f":"'附属書19（非公表用）'!J74","v":0},{"$f":"'附属書19（非公表用）'!K74","v":"00:00:00"},{"$f":"'附属書19（非公表用）'!L74","v":0}]
[{"$f":"'附属書19（非公表用）'!A75","v":65},{"$f":"'附属書19（非公表用）'!C75","v":0},{"$f":"'附属書19（非公表用）'!D75","v":0},{"$f":"'附属書19（非公表用）'!F75","v":"00:00:00"},{"$f":"'附属書19（非公表用）'!G75","v":0},{"$f":"'附属書19（非公表用）'!H75","v":0},{"$f":"'附属書19（非公表用）'!I75","v":"00:00:00"},{"$f":"'附属書19（非公表用）'!J75","v":0},{"$f":"'附属書19（非公表用）'!K75","v":"00:00:00"},{"$f":"'附属書19（非公表用）'!L75","v":0}]
[{"$f":"'附属書19（非公表用）'!A76","v":66},{"$f":"'附属書19（非公表用）'!C76","v":0},{"$f":"'附属書19（非公表用）'!D76","v":0},{"$f":"'附属書19（非公表用）'!F76","v":"00:00:00"},{"$f":"'附属書19（非公表用）'!G76","v":0},{"$f":"'附属書19（非公表用）'!H76","v":0},{"$f":"'附属書19（非公表用）'!I76","v":"00:00:00"},{"$f":"'附属書19（非公表用）'!J76","v":0},{"$f":"'附属書19（非公表用）'!K76","v":"00:00:00"},{"$f":"'附属書19（非公表用）'!L76","v":0}]
[{"$f":"'附属書19（非公表用）'!A77","v":67},{"$f":"'附属書19（非公表用）'!C77","v":0},{"$f":"'附属書19（非公表用）'!D77","v":0},{"$f":"'附属書19（非公表用）'!F77","v":"00:00:00"},{"$f":"'附属書19（非公表用）'!G77","v":0},{"$f":"'附属書19（非公表用）'!H77","v":0},{"$f":"'附属書19（非公表用）'!I77","v":"00:00:00"},{"$f":"'附属書19（非公表用）'!J77","v":0},{"$f":"'附属書19（非公表用）'!K77","v":"00:00:00"},{"$f":"'附属書19（非公表用）'!L77","v":0}]
[{"$f":"'附属書19（非公表用）'!A78","v":68},{"$f":"'附属書19（非公表用）'!C78","v":0},{"$f":"'附属書19（非公表用）'!D78","v":0},{"$f":"'附属書19（非公表用）'!F78","v":"00:00:00"},{"$f":"'附属書19（非公表用）'!G78","v":0},{"$f":"'附属書19（非公表用）'!H78","v":0},{"$f":"'附属書19（非公表用）'!I78","v":"00:00:00"},{"$f":"'附属書19（非公表用）'!J78","v":0},{"$f":"'附属書19（非公表用）'!K78","v":"00:00:00"},{"$f":"'附属書19（非公表用）'!L78","v":0}]
[{"$f":"'附属書19（非公表用）'!A79","v":69},{"$f":"'附属書19（非公表用）'!C79","v":0},{"$f":"'附属書19（非公表用）'!D79","v":0},{"$f":"'附属書19（非公表用）'!F79","v":"00:00:00"},{"$f":"'附属書19（非公表用）'!G79","v":0},{"$f":"'附属書19（非公表用）'!H79","v":0},{"$f":"'附属書19（非公表用）'!I79","v":"00:00:00"},{"$f":"'附属書19（非公表用）'!J79","v":0},{"$f":"'附属書19（非公表用）'!K79","v":"00:00:00"},{"$f":"'附属書19（非公表用）'!L79","v":0}]
[{"$f":"'附属書19（非公表用）'!A80","v":70},{"$f":"'附属書19（非公表用）'!C80","v":0},{"$f":"'附属書19（非公表用）'!D80","v":0},{"$f":"'附属書19（非公表用）'!F80","v":"00:00:00"},{"$f":"'附属書19（非公表用）'!G80","v":0},{"$f":"'附属書19（非公表用）'!H80","v":0},{"$f":"'附属書19（非公表用）'!I80","v":"00:00:00"},{"$f":"'附属書19（非公表用）'!J80","v":0},{"$f":"'附属書19（非公表用）'!K80","v":"00:00:00"},{"$f":"'附属書19（非公表用）'!L80","v":0}]
[{"$f":"'附属書19（非公表用）'!A81","v":71},{"$f":"'附属書19（非公表用）'!C81","v":0},{"$f":"'附属書19（非公表用）'!D81","v":0},{"$f":"'附属書19（非公表用）'!F81","v":"00:00:00"},{"$f":"'附属書19（非公表用）'!G81","v":0},{"$f":"'附属書19（非公表用）'!H81","v":0},{"$f":"'附属書19（非公表用）'!I81","v":"00:00:00"},{"$f":"'附属書19（非公表用）'!J81","v":0},{"$f":"'附属書19（非公表用）'!K81","v":"00:00:00"},{"$f":"'附属書19（非公表用）'!L81","v":0}]
[{"$f":"'附属書19（非公表用）'!A82","v":72},{"$f":"'附属書19（非公表用）'!C82","v":0},{"$f":"'附属書19（非公表用）'!D82","v":0},{"$f":"'附属書19（非公表用）'!F82","v":"00:00:00"},{"$f":"'附属書19（非公表用）'!G82","v":0},{"$f":"'附属書19（非公表用）'!H82","v":0},{"$f":"'附属書19（非公表用）'!I82","v":"00:00:00"},{"$f":"'附属書19（非公表用）'!J82","v":0},{"$f":"'附属書19（非公表用）'!K82","v":"00:00:00"},{"$f":"'附属書19（非公表用）'!L82","v":0}]
[{"$f":"'附属書19（非公表用）'!A83","v":73},{"$f":"'附属書19（非公表用）'!C83","v":0},{"$f":"'附属書19（非公表用）'!D83","v":0},{"$f":"'附属書19（非公表用）'!F83","v":"00:00:00"},{"$f":"'附属書19（非公表用）'!G83","v":0},{"$f":"'附属書19（非公表用）'!H83","v":0},{"$f":"'附属書19（非公表用）'!I83","v":"00:00:00"},{"$f":"'附属書19（非公表用）'!J83","v":0},{"$f":"'附属書19（非公表用）'!K83","v":"00:00:00"},{"$f":"'附属書19（非公表用）'!L83","v":0}]
[{"$f":"'附属書19（非公表用）'!A84","v":74},{"$f":"'附属書19（非公表用）'!C84","v":0},{"$f":"'附属書19（非公表用）'!D84","v":0},{"$f":"'附属書19（非公表用）'!F84","v":"00:00:00"},{"$f":"'附属書19（非公表用）'!G84","v":0},{"$f":"'附属書19（非公表用）'!H84","v":0},{"$f":"'附属書19（非公表用）'!I84","v":"00:00:00"},{"$f":"'附属書19（非公表用）'!J84","v":0},{"$f":"'附属書19（非公表用）'!K84","v":"00:00:00"},{"$f":"'附属書19（非公表用）'!L84","v":0}]
[{"$f":"'附属書19（非公表用）'!A85","v":75},{"$f":"'附属書19（非公表用）'!C85","v":0},{"$f":"'附属書19（非公表用）'!D85","v":0},{"$f":"'附属書19（非公表用）'!F85","v":"00:00:00"},{"$f":"'附属書19（非公表用）'!G85","v":0},{"$f":"'附属書19（非公表用）'!H85","v":0},{"$f":"'附属書19（非公表用）'!I85","v":"00:00:00"},{"$f":"'附属書19（非公表用）'!J85","v":0},{"$f":"'附属書19（非公表用）'!K85","v":"00:00:00"},{"$f":"'附属書19（非公表用）'!L85","v":0}]
[{"$f":"'附属書19（非公表用）'!A86","v":76},{"$f":"'附属書19（非公表用）'!C86","v":0},{"$f":"'附属書19（非公表用）'!D86","v":0},{"$f":"'附属書19（非公表用）'!F86","v":"00:00:00"},{"$f":"'附属書19（非公表用）'!G86","v":0},{"$f":"'附属書19（非公表用）'!H86","v":0},{"$f":"'附属書19（非公表用）'!I86","v":"00:00:00"},{"$f":"'附属書19（非公表用）'!J86","v":0},{"$f":"'附属書19（非公表用）'!K86","v":"00:00:00"},{"$f":"'附属書19（非公表用）'!L86","v":0}]
[{"$f":"'附属書19（非公表用）'!A87","v":77},{"$f":"'附属書19（非公表用）'!C87","v":0},{"$f":"'附属書19（非公表用）'!D87","v":0},{"$f":"'附属書19（非公表用）'!F87","v":"00:00:00"},{"$f":"'附属書19（非公表用）'!G87","v":0},{"$f":"'附属書19（非公表用）'!H87","v":0},{"$f":"'附属書19（非公表用）'!I87","v":"00:00:00"},{"$f":"'附属書19（非公表用）'!J87","v":0},{"$f":"'附属書19（非公表用）'!K87","v":"00:00:00"},{"$f":"'附属書19（非公表用）'!L87","v":0}]
[{"$f":"'附属書19（非公表用）'!A88","v":78},{"$f":"'附属書19（非公表用）'!C88","v":0},{"$f":"'附属書19（非公表用）'!D88","v":0},{"$f":"'附属書19（非公表用）'!F88","v":"00:00:00"},{"$f":"'附属書19（非公表用）'!G88","v":0},{"$f":"'附属書19（非公表用）'!H88","v":0},{"$f":"'附属書19（非公表用）'!I88","v":"00:00:00"},{"$f":"'附属書19（非公表用）'!J88","v":0},{"$f":"'附属書19（非公表用）'!K88","v":"00:00:00"},{"$f":"'附属書19（非公表用）'!L88","v":0}]
[{"$f":"'附属書19（非公表用）'!A89","v":79},{"$f":"'附属書19（非公表用）'!C89","v":0},{"$f":"'附属書19（非公表用）'!D89","v":0},{"$f":"'附属書19（非公表用）'!F89","v":"00:00:00"},{"$f":"'附属書19（非公表用）'!G89","v":0},{"$f":"'附属書19（非公表用）'!H89","v":0},{"$f":"'附属書19（非公表用）'!I89","v":"00:00:00"},{"$f":"'附属書19（非公表用）'!J89","v":0},{"$f":"'附属書19（非公表用）'!K89","v":"00:00:00"},{"$f":"'附属書19（非公表用）'!L89","v":0}]
[{"$f":"'附属書19（非公表用）'!A90","v":80},{"$f":"'附属書19（非公表用）'!C90","v":0},{"$f":"'附属書19（非公表用）'!D90","v":0},{"$f":"'附属書19（非公表用）'!F90","v":"00:00:00"},{"$f":"'附属書19（非公表用）'!G90","v":0},{"$f":"'附属書19（非公表用）'!H90","v":0},{"$f":"'附属書19（非公表用）'!I90","v":"00:00:00"},{"$f":"'附属書19（非公表用）'!J90","v":0},{"$f":"'附属書19（非公表用）'!K90","v":"00:00:00"},{"$f":"'附属書19（非公表用）'!L90","v":0}]
[{"$f":"'附属書19（非公表用）'!A91","v":81},{"$f":"'附属書19（非公表用）'!C91","v":0},{"$f":"'附属書19（非公表用）'!D91","v":0},{"$f":"'附属書19（非公表用）'!F91","v":"00:00:00"},{"$f":"'附属書19（非公表用）'!G91","v":0},{"$f":"'附属書19（非公表用）'!H91","v":0},{"$f":"'附属書19（非公表用）'!I91","v":"00:00:00"},{"$f":"'附属書19（非公表用）'!J91","v":0},{"$f":"'附属書19（非公表用）'!K91","v":"00:00:00"},{"$f":"'附属書19（非公表用）'!L91","v":0}]
[{"$f":"'附属書19（非公表用）'!A92","v":82},{"$f":"'附属書19（非公表用）'!C92","v":0},{"$f":"'附属書19（非公表用）'!D92","v":0},{"$f":"'附属書19（非公表用）'!F92","v":"00:00:00"},{"$f":"'附属書19（非公表用）'!G92","v":0},{"$f":"'附属書19（非公表用）'!H92","v":0},{"$f":"'附属書19（非公表用）'!I92","v":"00:00:00"},{"$f":"'附属書19（非公表用）'!J92","v":0},{"$f":"'附属書19（非公表用）'!K92","v":"00:00:00"},{"$f":"'附属書19（非公表用）'!L92","v":0}]
[{"$f":"'附属書19（非公表用）'!A93","v":83},{"$f":"'附属書19（非公表用）'!C93","v":0},{"$f":"'附属書19（非公表用）'!D93","v":0},{"$f":"'附属書19（非公表用）'!F93","v":"00:00:00"},{"$f":"'附属書19（非公表用）'!G93","v":0},{"$f":"'附属書19（非公表用）'!H93","v":0},{"$f":"'附属書19（非公表用）'!I93","v":"00:00:00"},{"$f":"'附属書19（非公表用）'!J93","v":0},{"$f":"'附属書19（非公表用）'!K93","v":"00:00:00"},{"$f":"'附属書19（非公表用）'!L93","v":0}]
[{"$f":"'附属書19（非公表用）'!A94","v":84},{"$f":"'附属書19（非公表用）'!C94","v":0},{"$f":"'附属書19（非公表用）'!D94","v":0},{"$f":"'附属書19（非公表用）'!F94","v":"00:00:00"},{"$f":"'附属書19（非公表用）'!G94","v":0},{"$f":"'附属書19（非公表用）'!H94","v":0},{"$f":"'附属書19（非公表用）'!I94","v":"00:00:00"},{"$f":"'附属書19（非公表用）'!J94","v":0},{"$f":"'附属書19（非公表用）'!K94","v":"00:00:00"},{"$f":"'附属書19（非公表用）'!L94","v":0}]
[{"$f":"'附属書19（非公表用）'!A95","v":85},{"$f":"'附属書19（非公表用）'!C95","v":0},{"$f":"'附属書19（非公表用）'!D95","v":0},{"$f":"'附属書19（非公表用）'!F95","v":"00:00:00"},{"$f":"'附属書19（非公表用）'!G95","v":0},{"$f":"'附属書19（非公表用）'!H95","v":0},{"$f":"'附属書19（非公表用）'!I95","v":"00:00:00"},{"$f":"'附属書19（非公表用）'!J95","v":0},{"$f":"'附属書19（非公表用）'!K95","v":"00:00:00"},{"$f":"'附属書19（非公表用）'!L95","v":0}]
[{"$f":"'附属書19（非公表用）'!A96","v":86},{"$f":"'附属書19（非公表用）'!C96","v":0},{"$f":"'附属書19（非公表用）'!D96","v":0},{"$f":"'附属書19（非公表用）'!F96","v":"00:00:00"},{"$f":"'附属書19（非公表用）'!G96","v":0},{"$f":"'附属書19（非公表用）'!H96","v":0},{"$f":"'附属書19（非公表用）'!I96","v":"00:00:00"},{"$f":"'附属書19（非公表用）'!J96","v":0},{"$f":"'附属書19（非公表用）'!K96","v":"00:00:00"},{"$f":"'附属書19（非公表用）'!L96","v":0}]
[{"$f":"'附属書19（非公表用）'!A97","v":87},{"$f":"'附属書19（非公表用）'!C97","v":0},{"$f":"'附属書19（非公表用）'!D97","v":0},{"$f":"'附属書19（非公表用）'!F97","v":"00:00:00"},{"$f":"'附属書19（非公表用）'!G97","v":0},{"$f":"'附属書19（非公表用）'!H97","v":0},{"$f":"'附属書19（非公表用）'!I97","v":"00:00:00"},{"$f":"'附属書19（非公表用）'!J97","v":0},{"$f":"'附属書19（非公表用）'!K97","v":"00:00:00"},{"$f":"'附属書19（非公表用）'!L97","v":0}]
[{"$f":"'附属書19（非公表用）'!A98","v":88},{"$f":"'附属書19（非公表用）'!C98","v":0},{"$f":"'附属書19（非公表用）'!D98","v":0},{"$f":"'附属書19（非公表用）'!F98","v":"00:00:00"},{"$f":"'附属書19（非公表用）'!G98","v":0},{"$f":"'附属書19（非公表用）'!H98","v":0},{"$f":"'附属書19（非公表用）'!I98","v":"00:00:00"},{"$f":"'附属書19（非公表用）'!J98","v":0},{"$f":"'附属書19（非公表用）'!K98","v":"00:00:00"},{"$f":"'附属書19（非公表用）'!L98","v":0}]
[{"$f":"'附属書19（非公表用）'!A99","v":89},{"$f":"'附属書19（非公表用）'!C99","v":0},{"$f":"'附属書19（非公表用）'!D99","v":0},{"$f":"'附属書19（非公表用）'!F99","v":"00:00:00"},{"$f":"'附属書19（非公表用）'!G99","v":0},{"$f":"'附属書19（非公表用）'!H99","v":0},{"$f":"'附属書19（非公表用）'!I99","v":"00:00:00"},{"$f":"'附属書19（非公表用）'!J99","v":0},{"$f":"'附属書19（非公表用）'!K99","v":"00:00:00"},{"$f":"'附属書19（非公表用）'!L99","v":0}]
[{"$f":"'附属書19（非公表用）'!A100","v":90},{"$f":"'附属書19（非公表用）'!C100","v":0},{"$f":"'附属書19（非公表用）'!D100","v":0},{"$f":"'附属書19（非公表用）'!F100","v":"00:00:00"},{"$f":"'附属書19（非公表用）'!G100","v":0},{"$f":"'附属書19（非公表用）'!H100","v":0},{"$f":"'附属書19（非公表用）'!I100","v":"00:00:00"},{"$f":"'附属書19（非公表用）'!J100","v":0},{"$f":"'附属書19（非公表用）'!K100","v":"00:00:00"},{"$f":"'附属書19（非公表用）'!L100","v":0}]
[{"$f":"'附属書19（非公表用）'!A101","v":91},{"$f":"'附属書19（非公表用）'!C101","v":0},{"$f":"'附属書19（非公表用）'!D101","v":0},{"$f":"'附属書19（非公表用）'!F101","v":"00:00:00"},{"$f":"'附属書19（非公表用）'!G101","v":0},{"$f":"'附属書19（非公表用）'!H101","v":0},{"$f":"'附属書19（非公表用）'!I101","v":"00:00:00"},{"$f":"'附属書19（非公表用）'!J101","v":0},{"$f":"'附属書19（非公表用）'!K101","v":"00:00:00"},{"$f":"'附属書19（非公表用）'!L101","v":0}]
[{"$f":"'附属書19（非公表用）'!A102","v":92},{"$f":"'附属書19（非公表用）'!C102","v":0},{"$f":"'附属書19（非公表用）'!D102","v":0},{"$f":"'附属書19（非公表用）'!F102","v":"00:00:00"},{"$f":"'附属書19（非公表用）'!G102","v":0},{"$f":"'附属書19（非公表用）'!H102","v":0},{"$f":"'附属書19（非公表用）'!I102","v":"00:00:00"},{"$f":"'附属書19（非公表用）'!J102","v":0},{"$f":"'附属書19（非公表用）'!K102","v":"00:00:00"},{"$f":"'附属書19（非公表用）'!L102","v":0}]
[{"$f":"'附属書19（非公表用）'!A103","v":93},{"$f":"'附属書19（非公表用）'!C103","v":0},{"$f":"'附属書19（非公表用）'!D103","v":0},{"$f":"'附属書19（非公表用）'!F103","v":"00:00:00"},{"$f":"'附属書19（非公表用）'!G103","v":0},{"$f":"'附属書19（非公表用）'!H103","v":0},{"$f":"'附属書19（非公表用）'!I103","v":"00:00:00"},{"$f":"'附属書19（非公表用）'!J103","v":0},{"$f":"'附属書19（非公表用）'!K103","v":"00:00:00"},{"$f":"'附属書19（非公表用）'!L103","v":0}]
[{"$f":"'附属書19（非公表用）'!A104","v":94},{"$f":"'附属書19（非公表用）'!C104","v":0},{"$f":"'附属書19（非公表用）'!D104","v":0},{"$f":"'附属書19（非公表用）'!F104","v":"00:00:00"},{"$f":"'附属書19（非公表用）'!G104","v":0},{"$f":"'附属書19（非公表用）'!H104","v":0},{"$f":"'附属書19（非公表用）'!I104","v":"00:00:00"},{"$f":"'附属書19（非公表用）'!J104","v":0},{"$f":"'附属書19（非公表用）'!K104","v":"00:00:00"},{"$f":"'附属書19（非公表用）'!L104","v":0}]
[{"$f":"'附属書19（非公表用）'!A105","v":95},{"$f":"'附属書19（非公表用）'!C105","v":0},{"$f":"'附属書19（非公表用）'!D105","v":0},{"$f":"'附属書19（非公表用）'!F105","v":"00:00:00"},{"$f":"'附属書19（非公表用）'!G105","v":0},{"$f":"'附属書19（非公表用）'!H105","v":0},{"$f":"'附属書19（非公表用）'!I105","v":"00:00:00"},{"$f":"'附属書19（非公表用）'!J105","v":0},{"$f":"'附属書19（非公表用）'!K105","v":"00:00:00"},{"$f":"'附属書19（非公表用）'!L105","v":0}]
[{"$f":"'附属書19（非公表用）'!A106","v":96},{"$f":"'附属書19（非公表用）'!C106","v":0},{"$f":"'附属書19（非公表用）'!D106","v":0},{"$f":"'附属書19（非公表用）'!F106","v":"00:00:00"},{"$f":"'附属書19（非公表用）'!G106","v":0},{"$f":"'附属書19（非公表用）'!H106","v":0},{"$f":"'附属書19（非公表用）'!I106","v":"00:00:00"},{"$f":"'附属書19（非公表用）'!J106","v":0},{"$f":"'附属書19（非公表用）'!K106","v":"00:00:00"},{"$f":"'附属書19（非公表用）'!L106","v":0}]
[{"$f":"'附属書19（非公表用）'!A107","v":97},{"$f":"'附属書19（非公表用）'!C107","v":0},{"$f":"'附属書19（非公表用）'!D107","v":0},{"$f":"'附属書19（非公表用）'!F107","v":"00:00:00"},{"$f":"'附属書19（非公表用）'!G107","v":0},{"$f":"'附属書19（非公表用）'!H107","v":0},{"$f":"'附属書19（非公表用）'!I107","v":"00:00:00"},{"$f":"'附属書19（非公表用）'!J107","v":0},{"$f":"'附属書19（非公表用）'!K107","v":"00:00:00"},{"$f":"'附属書19（非公表用）'!L107","v":0}]
[{"$f":"'附属書19（非公表用）'!A108","v":98},{"$f":"'附属書19（非公表用）'!C108","v":0},{"$f":"'附属書19（非公表用）'!D108","v":0},{"$f":"'附属書19（非公表用）'!F108","v":"00:00:00"},{"$f":"'附属書19（非公表用）'!G108","v":0},{"$f":"'附属書19（非公表用）'!H108","v":0},{"$f":"'附属書19（非公表用）'!I108","v":"00:00:00"},{"$f":"'附属書19（非公表用）'!J108","v":0},{"$f":"'附属書19（非公表用）'!K108","v":"00:00:00"},{"$f":"'附属書19（非公表用）'!L108","v":0}]
[{"$f":"'附属書19（非公表用）'!A109","v":99},{"$f":"'附属書19（非公表用）'!C109","v":0},{"$f":"'附属書19（非公表用）'!D109","v":0},{"$f":"'附属書19（非公表用）'!F109","v":"00:00:00"},{"$f":"'附属書19（非公表用）'!G109","v":0},{"$f":"'附属書19（非公表用）'!H109","v":0},{"$f":"'附属書19（非公表用）'!I109","v":"00:00:00"},{"$f":"'附属書19（非公表用）'!J109","v":0},{"$f":"'附属書19（非公表用）'!K109","v":"00:00:00"},{"$f":"'附属書19（非公表用）'!L109","v":0}]
[{"$f":"'附属書19（非公表用）'!A110","v":100},{"$f":"'附属書19（非公表用）'!C110","v":0},{"$f":"'附属書19（非公表用）'!D110","v":0},{"$f":"'附属書19（非公表用）'!F110","v":"00:00:00"},{"$f":"'附属書19（非公表用）'!G110","v":0},{"$f":"'附属書19（非公表用）'!H110","v":0},{"$f":"'附属書19（非公表用）'!I110","v":"00:00:00"},{"$f":"'附属書19（非公表用）'!J110","v":0},{"$f":"'附属書19（非公表用）'!K110","v":"00:00:00"},{"$f":"'附属書19（非公表用）'!L110","v":0}]
[null,null,null,null,"合　計",{"$f":"'附属書19（非公表用）'!H111","v":12}]

{"sheet":"付属書20","index":9,"n_rows":58,"n_cols":6,"rows_kept":58,"cut":false,"hidden":false,"merged":[[57,0,57,6],[2,1,2,5],[55,0,55,6],[56,0,56,6],[4,5,4,6],[13,2,13,3],[6,3,6,6],[7,4,7,5]]}
[{"$f":"付属書1!A3","v":"一般財団法人日本品質保証機構　御中"}]
[]
[null,"グリーン電力発電設備結線図"]
[]
[null,null,null,null,null,{"$f":"基本情報入力!C3","v":"2020-04-20"}]
[null,null,null,"（申請者）"]
[null,null,null,{"$f":"基本情報入力!C4","v":"特定非営利活動法人　○○○○"}]
[null,null,null,null,{"$f":"基本情報入力!C5","v":"○○○"}]
[null,null,null,null,null,{"$f":"基本情報入力!C6","v":"○○　○○"}]
[]
["今回認定の申請を行うグリーン電力発電設備の結線図は、下記の通りで相違ありません。"]
[]
[]
[null,null,"別添資料のとおり"]
[]
[]
[]
[]
[]
[]
[]
[]
[]
[]
[]
[]
[]
[]
[]
[]
[]
[]
[]
[]
[]
[]
[]
[]
[]
[]
[]
[]
[]
[]
[]
[]
[]
[]
[]
[]
[]
[]
[]
[]
[]
["（注１） 複数枚に渡る等の場合には、別添資料を提出することも可とする。その場合、別添資料のページ番号とその図が何を示すのかを別途整理して提出のこと。"]
["（注２）「附属書１０　グリーン電力認証可能電力量の確認方法」に記載されたデータがどの地点で計測されているかを結線図に明記すること。また、補機について結線図に明記すること。"]
["（注３）一般住宅用太陽光発電設備の場合には、形式ごとに同じ図の提出を認める。集合住宅に設置される場合には、必ず個別設備の結線図を提出すること。"]

{"sheet":"ファーム計算書","index":10,"n_rows":111,"n_cols":29,"rows_kept":111,"cut":false,"hidden":false,"merged":[[7,28,9,28],[7,14,7,21],[8,18,8,21],[7,0,9,0],[7,25,9,25],[8,14,8,17],[6,0,6,5],[1,1,1,28],[7,1,9,1],[7,2,9,2],[7,6,9,6],[7,7,9,7],[7,8,7,13],[7,27,9,27],[8,8,8,10],[8,11,8,13],[8,23,9,23],[7,22,7,24],[8,24,9,24],[7,26,9,26],[8,22,9,22],[7,3,9,5]]}
[]
[null,"太陽光発電ファーム認証可能電力量計算書　計算例"]
[]
[]
[]
[]
[]
[null,"発電\n設備\n番号","発電者\n氏　名","住　所\n（設置場所）",null,null,"運転\n開始\n年月","設備\n容量\n（kW）","始　期",null,null,null,null,null,"終　期",null,null,null,null,null,null,null,"補　機",null,null,"発電電力量\n（kWh）","売電電力量\n（kWh）","認証可能\n電力量\n（kWh）","備　考"]
[null,null,null,null,null,null,null,null,"発電電力量計",null,null,"売電電力量計",null,null,"発電電力量計",null,null,null,"売電電力量計",null,null,null,"消費電力\n(kW/日)","使用期間\n(日数)","補機使用\n電力量\n(kWh)"]
[null,null,null,null,null,null,null,null,"撮影日","計器番号\n（下3桁）","指示数","検針日","計器番号\n（下3桁）","指示数","撮影日","計器番号\n（下3桁）","指示数","周回→","検針日","計器番号\n（下3桁）","指示数","周回→"]
[null,{"$f":"'附属書19（非公表用）'!A11","v":1},{"$f":"'附属書19（非公表用）'!B11","v":0},{"$f":"'附属書19（非公表用）'!C11","v":0},{"$f":"'附属書19（非公表用）'!D11","v":0},{"$f":"'附属書19（非公表用）'!E11","v":"1111111111111111111111"},{"$f":"'附属書19（非公表用）'!F11","v":"2012-07-06"},{"$f":"'附属書19（非公表用）'!H11","v":5},"2015-02-28",350,"2119","2015-02-27",351,"12605","2016-03-05",350,"9538",null,"2016-02-29",351,"17065",null,null,null,{"$f":"ROUNDUP(W11*X11,1)","v":0},{"$f":"Q11-+K11","v":7419},{"$f":"U11-N11","v":4460},{"$f":"IF(基本情報入力!$C$11=\"必要\",Z11-AA11-Y11,IF(基本情報入力!$C$11=\"不要\",Z11-AA11,\"？\"))","v":2959}]
[null,{"$f":"'附属書19（非公表用）'!A12","v":2},{"$f":"'附属書19（非公表用）'!B12","v":0},{"$f":"'附属書19（非公表用）'!C12","v":0},{"$f":"'附属書19（非公表用）'!D12","v":0},{"$f":"'附属書19（非公表用）'!E12","v":"0000000000000000000000"},{"$f":"'附属書19（非公表用）'!F12","v":"2012-10-22"},{"$f":"'附属書19（非公表用）'!H12","v":5},"2015-03-02",9,"2109","2015-02-20",10,"12956","2016-02-28",9,"5016",null,"2016-02-22",10,"14003",null,null,null,{"$f":"ROUNDUP(W12*X12,1)","v":0},{"$f":"Q12-+K12","v":2907},{"$f":"U12-N12","v":1047},{"$f":"IF(A12=\"対象外\",\"\",IF(基本情報入力!$C$11=\"必要\",Z12-AA12-Y12,IF(基本情報入力!$C$11=\"不要\",Z12-AA12,\"？\")))","v":1860}]
[null,{"$f":"'附属書19（非公表用）'!A13","v":3},{"$f":"'附属書19（非公表用）'!B13","v":0},{"$f":"'附属書19（非公表用）'!C13","v":0},{"$f":"'附属書19（非公表用）'!D13","v":0},{"$f":"'附属書19（非公表用）'!E13","v":"XXXXXXXXXXXXXXXXXXXXXX"},{"$f":"'附属書19（非公表用）'!F13","v":"2012-07-10"},{"$f":"'附属書19（非公表用）'!H13","v":2},"2015-02-13",862,"3879","2015-02-02",863,"05458","2016-03-08",862,"83706",null,"2016-03-03",863,"07491",null,null,null,0,{"$f":"Q13-+K13","v":79827},{"$f":"U13-N13","v":2033},{"$f":"IF(A13=\"対象外\",\"\",IF(基本情報入力!$C$11=\"必要\",Z13-AA13-Y13,IF(基本情報入力!$C$11=\"不要\",Z13-AA13,\"？\")))","v":77794}]
[null,{"$f":"'附属書19（非公表用）'!A14","v":4},{"$f":"'附属書19（非公表用）'!B14","v":0},{"$f":"'附属書19（非公表用）'!C14","v":0},{"$f":"'附属書19（非公表用）'!D14","v":0},{"$f":"'附属書19（非公表用）'!E14","v":0},{"$f":"'附属書19（非公表用）'!F14","v":"00:00:00"},{"$f":"'附属書19（非公表用）'!H14","v":0},"2015-02-28",379,"1241","2015-02-13",380,"17241","2016-03-01",379,"7671",null,"2016-02-15",380,"22018",null,null,null,0,6430,4777,{"$f":"IF(A14=\"対象外\",\"\",IF(基本情報入力!$C$11=\"必要\",Z14-AA14-Y14,IF(基本情報入力!$C$11=\"不要\",Z14-AA14,\"？\")))","v":1653}]
[null,{"$f":"'附属書19（非公表用）'!A15","v":5},{"$f":"'附属書19（非公表用）'!B15","v":0},{"$f":"'附属書19（非公表用）'!C15","v":0},{"$f":"'附属書19（非公表用）'!D15","v":0},{"$f":"'附属書19（非公表用）'!E15","v":0},{"$f":"'附属書19（非公表用）'!F15","v":"00:00:00"},{"$f":"'附属書19（非公表用）'!H15","v":0},null,null,null,null,null,null,null,null,null,null,null,null,null,null,null,null,0,0,0,{"$f":"IF(A15=\"対象外\",\"\",IF(基本情報入力!$C$11=\"必要\",Z15-AA15-Y15,IF(基本情報入力!$C$11=\"不要\",Z15-AA15,\"？\")))","v":0}]
[null,{"$f":"'附属書19（非公表用）'!A16","v":6},{"$f":"'附属書19（非公表用）'!B16","v":0},{"$f":"'附属書19（非公表用）'!C16","v":0},{"$f":"'附属書19（非公表用）'!D16","v":0},{"$f":"'附属書19（非公表用）'!E16","v":0},{"$f":"'附属書19（非公表用）'!F16","v":"00:00:00"},{"$f":"'附属書19（非公表用）'!H16","v":0},null,null,null,null,null,null,null,null,null,null,null,null,null,null,null,null,0,0,0,{"$f":"IF(A16=\"対象外\",\"\",IF(基本情報入力!$C$11=\"必要\",Z16-AA16-Y16,IF(基本情報入力!$C$11=\"不要\",Z16-AA16,\"？\")))","v":0}]
[null,{"$f":"'附属書19（非公表用）'!A17","v":7},{"$f":"'附属書19（非公表用）'!B17","v":0},{"$f":"'附属書19（非公表用）'!C17","v":0},{"$f":"'附属書19（非公表用）'!D17","v":0},{"$f":"'附属書19（非公表用）'!E17","v":0},{"$f":"'附属書19（非公表用）'!F17","v":"00:00:00"},{"$f":"'附属書19（非公表用）'!H17","v":0},null,null,null,null,null,null,null,null,null,null,null,null,null,null,null,null,0,0,0,{"$f":"IF(A17=\"対象外\",\"\",IF(基本情報入力!$C$11=\"必要\",Z17-AA17-Y17,IF(基本情報入力!$C$11=\"不要\",Z17-AA17,\"？\")))","v":0}]
[null,{"$f":"'附属書19（非公表用）'!A18","v":8},{"$f":"'附属書19（非公表用）'!B18","v":0},{"$f":"'附属書19（非公表用）'!C18","v":0},{"$f":"'附属書19（非公表用）'!D18","v":0},{"$f":"'附属書19（非公表用）'!E18","v":0},{"$f":"'附属書19（非公表用）'!F18","v":"00:00:00"},{"$f":"'附属書19（非公表用）'!H18","v":0},null,null,null,null,null,null,null,null,null,null,null,null,null,null,null,null,0,0,0,{"$f":"IF(A18=\"対象外\",\"\",IF(基本情報入力!$C$11=\"必要\",Z18-AA18-Y18,IF(基本情報入力!$C$11=\"不要\",Z18-AA18,\"？\")))","v":0}]
[null,{"$f":"'附属書19（非公表用）'!A19","v":9},{"$f":"'附属書19（非公表用）'!B19","v":0},{"$f":"'附属書19（非公表用）'!C19","v":0},{"$f":"'附属書19（非公表用）'!D19","v":0},{"$f":"'附属書19（非公表用）'!E19","v":0},{"$f":"'附属書19（非公表用）'!F19","v":"00:00:00"},{"$f":"'附属書19（非公表用）'!H19","v":0},null,null,null,null,null,null,null,null,null,null,null,null,null,null,null,null,0,0,0,{"$f":"IF(A19=\"対象外\",\"\",IF(基本情報入力!$C$11=\"必要\",Z19-AA19-Y19,IF(基本情報入力!$C$11=\"不要\",Z19-AA19,\"？\")))","v":0}]
[null,{"$f":"'附属書19（非公表用）'!A20","v":10},{"$f":"'附属書19（非公表用）'!B20","v":0},{"$f":"'附属書19（非公表用）'!C20","v":0},{"$f":"'附属書19（非公表用）'!D20","v":0},{"$f":"'附属書19（非公表用）'!E20","v":0},{"$f":"'附属書19（非公表用）'!F20","v":"00:00:00"},{"$f":"'附属書19（非公表用）'!H20","v":0},null,null,null,null,null,null,null,null,null,null,null,null,null,null,null,null,0,0,0,{"$f":"IF(A20=\"対象外\",\"\",IF(基本情報入力!$C$11=\"必要\",Z20-AA20-Y20,IF(基本情報入力!$C$11=\"不要\",Z20-AA20,\"？\")))","v":0}]
[null,{"$f":"'附属書19（非公表用）'!A21","v":11},{"$f":"'附属書19（非公表用）'!B21","v":0},{"$f":"'附属書19（非公表用）'!C21","v":0},{"$f":"'附属書19（非公表用）'!D21","v":0},{"$f":"'附属書19（非公表用）'!E21","v":0},{"$f":"'附属書19（非公表用）'!F21","v":"00:00:00"},{"$f":"'附属書19（非公表用）'!H21","v":0},null,null,null,null,null,null,null,null,null,null,null,null,null,null,null,null,0,0,0,{"$f":"IF(A21=\"対象外\",\"\",IF(基本情報入力!$C$11=\"必要\",Z21-AA21-Y21,IF(基本情報入力!$C$11=\"不要\",Z21-AA21,\"？\")))","v":0}]
[null,{"$f":"'附属書19（非公表用）'!A22","v":12},{"$f":"'附属書19（非公表用）'!B22","v":0},{"$f":"'附属書19（非公表用）'!C22","v":0},{"$f":"'附属書19（非公表用）'!D22","v":0},{"$f":"'附属書19（非公表用）'!E22","v":0},{"$f":"'附属書19（非公表用）'!F22","v":"00:00:00"},{"$f":"'附属書19（非公表用）'!H22","v":0},null,null,null,null,null,null,null,null,null,null,null,null,null,null,null,null,0,0,0,{"$f":"IF(A22=\"対象外\",\"\",IF(基本情報入力!$C$11=\"必要\",Z22-AA22-Y22,IF(基本情報入力!$C$11=\"不要\",Z22-AA22,\"？\")))","v":0}]
[null,{"$f":"'附属書19（非公表用）'!A23","v":13},{"$f":"'附属書19（非公表用）'!B23","v":0},{"$f":"'附属書19（非公表用）'!C23","v":0},{"$f":"'附属書19（非公表用）'!D23","v":0},{"$f":"'附属書19（非公表用）'!E23","v":0},{"$f":"'附属書19（非公表用）'!F23","v":"00:00:00"},{"$f":"'附属書19（非公表用）'!H23","v":0},null,null,null,null,null,null,null,null,null,null,null,null,null,null,null,null,0,0,0,{"$f":"IF(A23=\"対象外\",\"\",IF(基本情報入力!$C$11=\"必要\",Z23-AA23-Y23,IF(基本情報入力!$C$11=\"不要\",Z23-AA23,\"？\")))","v":0}]
[null,{"$f":"'附属書19（非公表用）'!A24","v":14},{"$f":"'附属書19（非公表用）'!B24","v":0},{"$f":"'附属書19（非公表用）'!C24","v":0},{"$f":"'附属書19（非公表用）'!D24","v":0},{"$f":"'附属書19（非公表用）'!E24","v":0},{"$f":"'附属書19（非公表用）'!F24","v":"00:00:00"},{"$f":"'附属書19（非公表用）'!H24","v":0},null,null,null,null,null,null,null,null,null,null,null,null,null,null,null,null,0,0,0,{"$f":"IF(A24=\"対象外\",\"\",IF(基本情報入力!$C$11=\"必要\",Z24-AA24-Y24,IF(基本情報入力!$C$11=\"不要\",Z24-AA24,\"？\")))","v":0}]
[null,{"$f":"'附属書19（非公表用）'!A25","v":15},{"$f":"'附属書19（非公表用）'!B25","v":0},{"$f":"'附属書19（非公表用）'!C25","v":0},{"$f":"'附属書19（非公表用）'!D25","v":0},{"$f":"'附属書19（非公表用）'!E25","v":0},{"$f":"'附属書19（非公表用）'!F25","v":"00:00:00"},{"$f":"'附属書19（非公表用）'!H25","v":0},null,null,null,null,null,null,null,null,null,null,null,null,null,null,null,null,0,0,0,{"$f":"IF(A25=\"対象外\",\"\",IF(基本情報入力!$C$11=\"必要\",Z25-AA25-Y25,IF(基本情報入力!$C$11=\"不要\",Z25-AA25,\"？\")))","v":0}]
[null,{"$f":"'附属書19（非公表用）'!A26","v":16},{"$f":"'附属書19（非公表用）'!B26","v":0},{"$f":"'附属書19（非公表用）'!C26","v":0},{"$f":"'附属書19（非公表用）'!D26","v":0},{"$f":"'附属書19（非公表用）'!E26","v":0},{"$f":"'附属書19（非公表用）'!F26","v":"00:00:00"},{"$f":"'附属書19（非公表用）'!H26","v":0},null,null,null,null,null,null,null,null,null,null,null,null,null,null,null,null,0,0,0,{"$f":"IF(A26=\"対象外\",\"\",IF(基本情報入力!$C$11=\"必要\",Z26-AA26-Y26,IF(基本情報入力!$C$11=\"不要\",Z26-AA26,\"？\")))","v":0}]
[null,{"$f":"'附属書19（非公表用）'!A27","v":17},{"$f":"'附属書19（非公表用）'!B27","v":0},{"$f":"'附属書19（非公表用）'!C27","v":0},{"$f":"'附属書19（非公表用）'!D27","v":0},{"$f":"'附属書19（非公表用）'!E27","v":0},{"$f":"'附属書19（非公表用）'!F27","v":"00:00:00"},{"$f":"'附属書19（非公表用）'!H27","v":0},null,null,null,null,null,null,null,null,null,null,null,null,null,null,null,null,0,0,0,{"$f":"IF(A27=\"対象外\",\"\",IF(基本情報入力!$C$11=\"必要\",Z27-AA27-Y27,IF(基本情報入力!$C$11=\"不要\",Z27-AA27,\"？\")))","v":0}]
[null,{"$f":"'附属書19（非公表用）'!A28","v":18},{"$f":"'附属書19（非公表用）'!B28","v":0},{"$f":"'附属書19（非公表用）'!C28","v":0},{"$f":"'附属書19（非公表用）'!D28","v":0},{"$f":"'附属書19（非公表用）'!E28","v":0},{"$f":"'附属書19（非公表用）'!F28","v":"00:00:00"},{"$f":"'附属書19（非公表用）'!H28","v":0},null,null,null,null,null,null,null,null,null,null,null,null,null,null,null,null,0,0,0,{"$f":"IF(A28=\"対象外\",\"\",IF(基本情報入力!$C$11=\"必要\",Z28-AA28-Y28,IF(基本情報入力!$C$11=\"不要\",Z28-AA28,\"？\")))","v":0}]
[null,{"$f":"'附属書19（非公表用）'!A29","v":19},{"$f":"'附属書19（非公表用）'!B29","v":0},{"$f":"'附属書19（非公表用）'!C29","v":0},{"$f":"'附属書19（非公表用）'!D29","v":0},{"$f":"'附属書19（非公表用）'!E29","v":0},{"$f":"'附属書19（非公表用）'!F29","v":"00:00:00"},{"$f":"'附属書19（非公表用）'!H29","v":0},null,null,null,null,null,null,null,null,null,null,null,null,null,null,null,null,0,0,0,{"$f":"IF(A29=\"対象外\",\"\",IF(基本情報入力!$C$11=\"必要\",Z29-AA29-Y29,IF(基本情報入力!$C$11=\"不要\",Z29-AA29,\"？\")))","v":0}]
[null,{"$f":"'附属書19（非公表用）'!A30","v":20},{"$f":"'附属書19（非公表用）'!B30","v":0},{"$f":"'附属書19（非公表用）'!C30","v":0},{"$f":"'附属書19（非公表用）'!D30","v":0},{"$f":"'附属書19（非公表用）'!E30","v":0},{"$f":"'附属書19（非公表用）'!F30","v":"00:00:00"},{"$f":"'附属書19（非公表用）'!H30","v":0},null,null,null,null,null,null,null,null,null,null,null,null,null,null,null,null,0,0,0,{"$f":"IF(A30=\"対象外\",\"\",IF(基本情報入力!$C$11=\"必要\",Z30-AA30-Y30,IF(基本情報入力!$C$11=\"不要\",Z30-AA30,\"？\")))","v":0}]
[null,{"$f":"'附属書19（非公表用）'!A31","v":21},{"$f":"'附属書19（非公表用）'!B31","v":0},{"$f":"'附属書19（非公表用）'!C31","v":0},{"$f":"'附属書19（非公表用）'!D31","v":0},{"$f":"'附属書19（非公表用）'!E31","v":0},{"$f":"'附属書19（非公表用）'!F31","v":"00:00:00"},{"$f":"'附属書19（非公表用）'!H31","v":0},null,null,null,null,null,null,null,null,null,null,null,null,null,null,null,null,0,0,0,{"$f":"IF(A31=\"対象外\",\"\",IF(基本情報入力!$C$11=\"必要\",Z31-AA31-Y31,IF(基本情報入力!$C$11=\"不要\",Z31-AA31,\"？\")))","v":0}]
[null,{"$f":"'附属書19（非公表用）'!A32","v":22},{"$f":"'附属書19（非公表用）'!B32","v":0},{"$f":"'附属書19（非公表用）'!C32","v":0},{"$f":"'附属書19（非公表用）'!D32","v":0},{"$f":"'附属書19（非公表用）'!E32","v":0},{"$f":"'附属書19（非公表用）'!F32","v":"00:00:00"},{"$f":"'附属書19（非公表用）'!H32","v":0},null,null,null,null,null,null,null,null,null,null,null,null,null,null,null,null,0,0,0,{"$f":"IF(A32=\"対象外\",\"\",IF(基本情報入力!$C$11=\"必要\",Z32-AA32-Y32,IF(基本情報入力!$C$11=\"不要\",Z32-AA32,\"？\")))","v":0}]
[null,{"$f":"'附属書19（非公表用）'!A33","v":23},{"$f":"'附属書19（非公表用）'!B33","v":0},{"$f":"'附属書19（非公表用）'!C33","v":0},{"$f":"'附属書19（非公表用）'!D33","v":0},{"$f":"'附属書19（非公表用）'!E33","v":0},{"$f":"'附属書19（非公表用）'!F33","v":"00:00:00"},{"$f":"'附属書19（非公表用）'!H33","v":0},null,null,null,null,null,null,null,null,null,null,null,null,null,null,null,null,0,0,0,{"$f":"IF(A33=\"対象外\",\"\",IF(基本情報入力!$C$11=\"必要\",Z33-AA33-Y33,IF(基本情報入力!$C$11=\"不要\",Z33-AA33,\"？\")))","v":0}]
[null,{"$f":"'附属書19（非公表用）'!A34","v":24},{"$f":"'附属書19（非公表用）'!B34","v":0},{"$f":"'附属書19（非公表用）'!C34","v":0},{"$f":"'附属書19（非公表用）'!D34","v":0},{"$f":"'附属書19（非公表用）'!E34","v":0},{"$f":"'附属書19（非公表用）'!F34","v":"00:00:00"},{"$f":"'附属書19（非公表用）'!H34","v":0},null,null,null,null,null,null,null,null,null,null,null,null,null,null,null,null,0,0,0,{"$f":"IF(A34=\"対象外\",\"\",IF(基本情報入力!$C$11=\"必要\",Z34-AA34-Y34,IF(基本情報入力!$C$11=\"不要\",Z34-AA34,\"？\")))","v":0}]
[null,{"$f":"'附属書19（非公表用）'!A35","v":25},{"$f":"'附属書19（非公表用）'!B35","v":0},{"$f":"'附属書19（非公表用）'!C35","v":0},{"$f":"'附属書19（非公表用）'!D35","v":0},{"$f":"'附属書19（非公表用）'!E35","v":0},{"$f":"'附属書19（非公表用）'!F35","v":"00:00:00"},{"$f":"'附属書19（非公表用）'!H35","v":0},null,null,null,null,null,null,null,null,null,null,null,null,null,null,null,null,0,0,0,{"$f":"IF(A35=\"対象外\",\"\",IF(基本情報入力!$C$11=\"必要\",Z35-AA35-Y35,IF(基本情報入力!$C$11=\"不要\",Z35-AA35,\"？\")))","v":0}]
[null,{"$f":"'附属書19（非公表用）'!A36","v":26},{"$f":"'附属書19（非公表用）'!B36","v":0},{"$f":"'附属書19（非公表用）'!C36","v":0},{"$f":"'附属書19（非公表用）'!D36","v":0},{"$f":"'附属書19（非公表用）'!E36","v":0},{"$f":"'附属書19（非公表用）'!F36","v":"00:00:00"},{"$f":"'附属書19（非公表用）'!H36","v":0},null,null,null,null,null,null,null,null,null,null,null,null,null,null,null,null,0,0,0,{"$f":"IF(A36=\"対象外\",\"\",IF(基本情報入力!$C$11=\"必要\",Z36-AA36-Y36,IF(基本情報入力!$C$11=\"不要\",Z36-AA36,\"？\")))","v":0}]
[null,{"$f":"'附属書19（非公表用）'!A37","v":27},{"$f":"'附属書19（非公表用）'!B37","v":0},{"$f":"'附属書19（非公表用）'!C37","v":0},{"$f":"'附属書19（非公表用）'!D37","v":0},{"$f":"'附属書19（非公表用）'!E37","v":0},{"$f":"'附属書19（非公表用）'!F37","v":"00:00:00"},{"$f":"'附属書19（非公表用）'!H37","v":0},null,null,null,null,null,null,null,null,null,null,null,null,null,null,null,null,0,0,0,{"$f":"IF(A37=\"対象外\",\"\",IF(基本情報入力!$C$11=\"必要\",Z37-AA37-Y37,IF(基本情報入力!$C$11=\"不要\",Z37-AA37,\"？\")))","v":0}]
[null,{"$f":"'附属書19（非公表用）'!A38","v":28},{"$f":"'附属書19（非公表用）'!B38","v":0},{"$f":"'附属書19（非公表用）'!C38","v":0},{"$f":"'附属書19（非公表用）'!D38","v":0},{"$f":"'附属書19（非公表用）'!E38","v":0},{"$f":"'附属書19（非公表用）'!F38","v":"00:00:00"},{"$f":"'附属書19（非公表用）'!H38","v":0},null,null,null,null,null,null,null,null,null,null,null,null,null,null,null,null,0,0,0,{"$f":"IF(A38=\"対象外\",\"\",IF(基本情報入力!$C$11=\"必要\",Z38-AA38-Y38,IF(基本情報入力!$C$11=\"不要\",Z38-AA38,\"？\")))","v":0}]
[null,{"$f":"'附属書19（非公表用）'!A39","v":29},{"$f":"'附属書19（非公表用）'!B39","v":0},{"$f":"'附属書19（非公表用）'!C39","v":0},{"$f":"'附属書19（非公表用）'!D39","v":0},{"$f":"'附属書19（非公表用）'!E39","v":0},{"$f":"'附属書19（非公表用）'!F39","v":"00:00:00"},{"$f":"'附属書19（非公表用）'!H39","v":0},null,null,null,null,null,null,null,null,null,null,null,null,null,null,null,null,0,0,0,{"$f":"IF(A39=\"対象外\",\"\",IF(基本情報入力!$C$11=\"必要\",Z39-AA39-Y39,IF(基本情報入力!$C$11=\"不要\",Z39-AA39,\"？\")))","v":0}]
[null,{"$f":"'附属書19（非公表用）'!A40","v":30},{"$f":"'附属書19（非公表用）'!B40","v":0},{"$f":"'附属書19（非公表用）'!C40","v":0},{"$f":"'附属書19（非公表用）'!D40","v":0},{"$f":"'附属書19（非公表用）'!E40","v":0},{"$f":"'附属書19（非公表用）'!F40","v":"00:00:00"},{"$f":"'附属書19（非公表用）'!H40","v":0},null,null,null,null,null,null,null,null,null,null,null,null,null,null,null,null,0,0,0,{"$f":"IF(A40=\"対象外\",\"\",IF(基本情報入力!$C$11=\"必要\",Z40-AA40-Y40,IF(基本情報入力!$C$11=\"不要\",Z40-AA40,\"？\")))","v":0}]
[null,{"$f":"'附属書19（非公表用）'!A41","v":31},{"$f":"'附属書19（非公表用）'!B41","v":0},{"$f":"'附属書19（非公表用）'!C41","v":0},{"$f":"'附属書19（非公表用）'!D41","v":0},{"$f":"'附属書19（非公表用）'!E41","v":0},{"$f":"'附属書19（非公表用）'!F41","v":"00:00:00"},{"$f":"'附属書19（非公表用）'!H41","v":0},null,null,null,null,null,null,null,null,null,null,null,null,null,null,null,null,0,0,0,{"$f":"IF(A41=\"対象外\",\"\",IF(基本情報入力!$C$11=\"必要\",Z41-AA41-Y41,IF(基本情報入力!$C$11=\"不要\",Z41-AA41,\"？\")))","v":0}]
[null,{"$f":"'附属書19（非公表用）'!A42","v":32},{"$f":"'附属書19（非公表用）'!B42","v":0},{"$f":"'附属書19（非公表用）'!C42","v":0},{"$f":"'附属書19（非公表用）'!D42","v":0},{"$f":"'附属書19（非公表用）'!E42","v":0},{"$f":"'附属書19（非公表用）'!F42","v":"00:00:00"},{"$f":"'附属書19（非公表用）'!H42","v":0},null,null,null,null,null,null,null,null,null,null,null,null,null,null,null,null,0,0,0,{"$f":"IF(A42=\"対象外\",\"\",IF(基本情報入力!$C$11=\"必要\",Z42-AA42-Y42,IF(基本情報入力!$C$11=\"不要\",Z42-AA42,\"？\")))","v":0}]
[null,{"$f":"'附属書19（非公表用）'!A43","v":33},{"$f":"'附属書19（非公表用）'!B43","v":0},{"$f":"'附属書19（非公表用）'!C43","v":0},{"$f":"'附属書19（非公表用）'!D43","v":0},{"$f":"'附属書19（非公表用）'!E43","v":0},{"$f":"'附属書19（非公表用）'!F43","v":"00:00:00"},{"$f":"'附属書19（非公表用）'!H43","v":0},null,null,null,null,null,null,null,null,null,null,null,null,null,null,null,null,0,0,0,{"$f":"IF(A43=\"対象外\",\"\",IF(基本情報入力!$C$11=\"必要\",Z43-AA43-Y43,IF(基本情報入力!$C$11=\"不要\",Z43-AA43,\"？\")))","v":0}]
[null,{"$f":"'附属書19（非公表用）'!A44","v":34},{"$f":"'附属書19（非公表用）'!B44","v":0},{"$f":"'附属書19（非公表用）'!C44","v":0},{"$f":"'附属書19（非公表用）'!D44","v":0},{"$f":"'附属書19（非公表用）'!E44","v":0},{"$f":"'附属書19（非公表用）'!F44","v":"00:00:00"},{"$f":"'附属書19（非公表用）'!H44","v":0},null,null,null,null,null,null,null,null,null,null,null,null,null,null,null,null,0,0,0,{"$f":"IF(A44=\"対象外\",\"\",IF(基本情報入力!$C$11=\"必要\",Z44-AA44-Y44,IF(基本情報入力!$C$11=\"不要\",Z44-AA44,\"？\")))","v":0}]
[null,{"$f":"'附属書19（非公表用）'!A45","v":35},{"$f":"'附属書19（非公表用）'!B45","v":0},{"$f":"'附属書19（非公表用）'!C45","v":0},{"$f":"'附属書19（非公表用）'!D45","v":0},{"$f":"'附属書19（非公表用）'!E45","v":0},{"$f":"'附属書19（非公表用）'!F45","v":"00:00:00"},{"$f":"'附属書19（非公表用）'!H45","v":0},null,null,null,null,null,null,null,null,null,null,null,null,null,null,null,null,0,0,0,{"$f":"IF(A45=\"対象外\",\"\",IF(基本情報入力!$C$11=\"必要\",Z45-AA45-Y45,IF(基本情報入力!$C$11=\"不要\",Z45-AA45,\"？\")))","v":0}]
[null,{"$f":"'附属書19（非公表用）'!A46","v":36},{"$f":"'附属書19（非公表用）'!B46","v":0},{"$f":"'附属書19（非公表用）'!C46","v":0},{"$f":"'附属書19（非公表用）'!D46","v":0},{"$f":"'附属書19（非公表用）'!E46","v":0},{"$f":"'附属書19（非公表用）'!F46","v":"00:00:00"},{"$f":"'附属書19（非公表用）'!H46","v":0},null,null,null,null,null,null,null,null,null,null,null,null,null,null,null,null,0,0,0,{"$f":"IF(A46=\"対象外\",\"\",IF(基本情報入力!$C$11=\"必要\",Z46-AA46-Y46,IF(基本情報入力!$C$11=\"不要\",Z46-AA46,\"？\")))","v":0}]
[null,{"$f":"'附属書19（非公表用）'!A47","v":37},{"$f":"'附属書19（非公表用）'!B47","v":0},{"$f":"'附属書19（非公表用）'!C47","v":0},{"$f":"'附属書19（非公表用）'!D47","v":0},{"$f":"'附属書19（非公表用）'!E47","v":0},{"$f":"'附属書19（非公表用）'!F47","v":"00:00:00"},{"$f":"'附属書19（非公表用）'!H47","v":0},null,null,null,null,null,null,null,null,null,null,null,null,null,null,null,null,0,0,0,{"$f":"IF(A47=\"対象外\",\"\",IF(基本情報入力!$C$11=\"必要\",Z47-AA47-Y47,IF(基本情報入力!$C$11=\"不要\",Z47-AA47,\"？\")))","v":0}]
[null,{"$f":"'附属書19（非公表用）'!A48","v":38},{"$f":"'附属書19（非公表用）'!B48","v":0},{"$f":"'附属書19（非公表用）'!C48","v":0},{"$f":"'附属書19（非公表用）'!D48","v":0},{"$f":"'附属書19（非公表用）'!E48","v":0},{"$f":"'附属書19（非公表用）'!F48","v":"00:00:00"},{"$f":"'附属書19（非公表用）'!H48","v":0},null,null,null,null,null,null,null,null,null,null,null,null,null,null,null,null,0,0,0,{"$f":"IF(A48=\"対象外\",\"\",IF(基本情報入力!$C$11=\"必要\",Z48-AA48-Y48,IF(基本情報入力!$C$11=\"不要\",Z48-AA48,\"？\")))","v":0}]
[null,{"$f":"'附属書19（非公表用）'!A49","v":39},{"$f":"'附属書19（非公表用）'!B49","v":0},{"$f":"'附属書19（非公表用）'!C49","v":0},{"$f":"'附属書19（非公表用）'!D49","v":0},{"$f":"'附属書19（非公表用）'!E49","v":0},{"$f":"'附属書19（非公表用）'!F49","v":"00:00:00"},{"$f":"'附属書19（非公表用）'!H49","v":0},null,null,null,null,null,null,null,null,null,null,null,null,null,null,null,null,0,0,0,{"$f":"IF(A49=\"対象外\",\"\",IF(基本情報入力!$C$11=\"必要\",Z49-AA49-Y49,IF(基本情報入力!$C$11=\"不要\",Z49-AA49,\"？\")))","v":0}]
[null,{"$f":"'附属書19（非公表用）'!A50","v":40},{"$f":"'附属書19（非公表用）'!B50","v":0},{"$f":"'附属書19（非公表用）'!C50","v":0},{"$f":"'附属書19（非公表用）'!D50","v":0},{"$f":"'附属書19（非公表用）'!E50","v":0},{"$f":"'附属書19（非公表用）'!F50","v":"00:00:00"},{"$f":"'附属書19（非公表用）'!H50","v":0},null,null,null,null,null,null,null,null,null,null,null,null,null,null,null,null,0,0,0,{"$f":"IF(A50=\"対象外\",\"\",IF(基本情報入力!$C$11=\"必要\",Z50-AA50-Y50,IF(基本情報入力!$C$11=\"不要\",Z50-AA50,\"？\")))","v":0}]
[null,{"$f":"'附属書19（非公表用）'!A51","v":41},{"$f":"'附属書19（非公表用）'!B51","v":0},{"$f":"'附属書19（非公表用）'!C51","v":0},{"$f":"'附属書19（非公表用）'!D51","v":0},{"$f":"'附属書19（非公表用）'!E51","v":0},{"$f":"'附属書19（非公表用）'!F51","v":"00:00:00"},{"$f":"'附属書19（非公表用）'!H51","v":0},null,null,null,null,null,null,null,null,null,null,null,null,null,null,null,null,0,0,0,{"$f":"IF(A51=\"対象外\",\"\",IF(基本情報入力!$C$11=\"必要\",Z51-AA51-Y51,IF(基本情報入力!$C$11=\"不要\",Z51-AA51,\"？\")))","v":0}]
[null,{"$f":"'附属書19（非公表用）'!A52","v":42},{"$f":"'附属書19（非公表用）'!B52","v":0},{"$f":"'附属書19（非公表用）'!C52","v":0},{"$f":"'附属書19（非公表用）'!D52","v":0},{"$f":"'附属書19（非公表用）'!E52","v":0},{"$f":"'附属書19（非公表用）'!F52","v":"00:00:00"},{"$f":"'附属書19（非公表用）'!H52","v":0},null,null,null,null,null,null,null,null,null,null,null,null,null,null,null,null,0,0,0,{"$f":"IF(A52=\"対象外\",\"\",IF(基本情報入力!$C$11=\"必要\",Z52-AA52-Y52,IF(基本情報入力!$C$11=\"不要\",Z52-AA52,\"？\")))","v":0}]
[null,{"$f":"'附属書19（非公表用）'!A53","v":43},{"$f":"'附属書19（非公表用）'!B53","v":0},{"$f":"'附属書19（非公表用）'!C53","v":0},{"$f":"'附属書19（非公表用）'!D53","v":0},{"$f":"'附属書19（非公表用）'!E53","v":0},{"$f":"'附属書19（非公表用）'!F53","v":"00:00:00"},{"$f":"'附属書19（非公表用）'!H53","v":0},null,null,null,null,null,null,null,null,null,null,null,null,null,null,null,null,0,0,0,{"$f":"IF(A53=\"対象外\",\"\",IF(基本情報入力!$C$11=\"必要\",Z53-AA53-Y53,IF(基本情報入力!$C$11=\"不要\",Z53-AA53,\"？\")))","v":0}]
[null,{"$f":"'附属書19（非公表用）'!A54","v":44},{"$f":"'附属書19（非公表用）'!B54","v":0},{"$f":"'附属書19（非公表用）'!C54","v":0},{"$f":"'附属書19（非公表用）'!D54","v":0},{"$f":"'附属書19（非公表用）'!E54","v":0},{"$f":"'附属書19（非公表用）'!F54","v":"00:00:00"},{"$f":"'附属書19（非公表用）'!H54","v":0},null,null,null,null,null,null,null,null,null,null,null,null,null,null,null,null,0,0,0,{"$f":"IF(A54=\"対象外\",\"\",IF(基本情報入力!$C$11=\"必要\",Z54-AA54-Y54,IF(基本情報入力!$C$11=\"不要\",Z54-AA54,\"？\")))","v":0}]
[null,{"$f":"'附属書19（非公表用）'!A55","v":45},{"$f":"'附属書19（非公表用）'!B55","v":0},{"$f":"'附属書19（非公表用）'!C55","v":0},{"$f":"'附属書19（非公表用）'!D55","v":0},{"$f":"'附属書19（非公表用）'!E55","v":0},{"$f":"'附属書19（非公表用）'!F55","v":"00:00:00"},{"$f":"'附属書19（非公表用）'!H55","v":0},null,null,null,null,null,null,null,null,null,null,null,null,null,null,null,null,0,0,0,{"$f":"IF(A55=\"対象外\",\"\",IF(基本情報入力!$C$11=\"必要\",Z55-AA55-Y55,IF(基本情報入力!$C$11=\"不要\",Z55-AA55,\"？\")))","v":0}]
[null,{"$f":"'附属書19（非公表用）'!A56","v":46},{"$f":"'附属書19（非公表用）'!B56","v":0},{"$f":"'附属書19（非公表用）'!C56","v":0},{"$f":"'附属書19（非公表用）'!D56","v":0},{"$f":"'附属書19（非公表用）'!E56","v":0},{"$f":"'附属書19（非公表用）'!F56","v":"00:00:00"},{"$f":"'附属書19（非公表用）'!H56","v":0},null,null,null,null,null,null,null,null,null,null,null,null,null,null,null,null,0,0,0,{"$f":"IF(A56=\"対象外\",\"\",IF(基本情報入力!$C$11=\"必要\",Z56-AA56-Y56,IF(基本情報入力!$C$11=\"不要\",Z56-AA56,\"？\")))","v":0}]
[null,{"$f":"'附属書19（非公表用）'!A57","v":47},{"$f":"'附属書19（非公表用）'!B57","v":0},{"$f":"'附属書19（非公表用）'!C57","v":0},{"$f":"'附属書19（非公表用）'!D57","v":0},{"$f":"'附属書19（非公表用）'!E57","v":0},{"$f":"'附属書19（非公表用）'!F57","v":"00:00:00"},{"$f":"'附属書19（非公表用）'!H57","v":0},null,null,null,null,null,null,null,null,null,null,null,null,null,null,null,null,0,0,0,{"$f":"IF(A57=\"対象外\",\"\",IF(基本情報入力!$C$11=\"必要\",Z57-AA57-Y57,IF(基本情報入力!$C$11=\"不要\",Z57-AA57,\"？\")))","v":0}]
[null,{"$f":"'附属書19（非公表用）'!A58","v":48},{"$f":"'附属書19（非公表用）'!B58","v":0},{"$f":"'附属書19（非公表用）'!C58","v":0},{"$f":"'附属書19（非公表用）'!D58","v":0},{"$f":"'附属書19（非公表用）'!E58","v":0},{"$f":"'附属書19（非公表用）'!F58","v":"00:00:00"},{"$f":"'附属書19（非公表用）'!H58","v":0},null,null,null,null,null,null,null,null,null,null,null,null,null,null,null,null,0,0,0,{"$f":"IF(A58=\"対象外\",\"\",IF(基本情報入力!$C$11=\"必要\",Z58-AA58-Y58,IF(基本情報入力!$C$11=\"不要\",Z58-AA58,\"？\")))","v":0}]
[null,{"$f":"'附属書19（非公表用）'!A59","v":49},{"$f":"'附属書19（非公表用）'!B59","v":0},{"$f":"'附属書19（非公表用）'!C59","v":0},{"$f":"'附属書19（非公表用）'!D59","v":0},{"$f":"'附属書19（非公表用）'!E59","v":0},{"$f":"'附属書19（非公表用）'!F59","v":"00:00:00"},{"$f":"'附属書19（非公表用）'!H59","v":0},null,null,null,null,null,null,null,null,null,null,null,null,null,null,null,null,0,0,0,{"$f":"IF(A59=\"対象外\",\"\",IF(基本情報入力!$C$11=\"必要\",Z59-AA59-Y59,IF(基本情報入力!$C$11=\"不要\",Z59-AA59,\"？\")))","v":0}]
[null,{"$f":"'附属書19（非公表用）'!A60","v":50},{"$f":"'附属書19（非公表用）'!B60","v":0},{"$f":"'附属書19（非公表用）'!C60","v":0},{"$f":"'附属書19（非公表用）'!D60","v":0},{"$f":"'附属書19（非公表用）'!E60","v":0},{"$f":"'附属書19（非公表用）'!F60","v":"00:00:00"},{"$f":"'附属書19（非公表用）'!H60","v":0},null,null,null,null,null,null,null,null,null,null,null,null,null,null,null,null,0,0,0,{"$f":"IF(A60=\"対象外\",\"\",IF(基本情報入力!$C$11=\"必要\",Z60-AA60-Y60,IF(基本情報入力!$C$11=\"不要\",Z60-AA60,\"？\")))","v":0}]
[null,{"$f":"'附属書19（非公表用）'!A61","v":51},{"$f":"'附属書19（非公表用）'!B61","v":0},{"$f":"'附属書19（非公表用）'!C61","v":0},{"$f":"'附属書19（非公表用）'!D61","v":0},{"$f":"'附属書19（非公表用）'!E61","v":0},{"$f":"'附属書19（非公表用）'!F61","v":"00:00:00"},{"$f":"'附属書19（非公表用）'!H61","v":0},null,null,null,null,null,null,null,null,null,null,null,null,null,null,null,null,0,0,0,{"$f":"IF(A61=\"対象外\",\"\",IF(基本情報入力!$C$11=\"必要\",Z61-AA61-Y61,IF(基本情報入力!$C$11=\"不要\",Z61-AA61,\"？\")))","v":0}]
[null,{"$f":"'附属書19（非公表用）'!A62","v":52},{"$f":"'附属書19（非公表用）'!B62","v":0},{"$f":"'附属書19（非公表用）'!C62","v":0},{"$f":"'附属書19（非公表用）'!D62","v":0},{"$f":"'附属書19（非公表用）'!E62","v":0},{"$f":"'附属書19（非公表用）'!F62","v":"00:00:00"},{"$f":"'附属書19（非公表用）'!H62","v":0},null,null,null,null,null,null,null,null,null,null,null,null,null,null,null,null,0,0,0,{"$f":"IF(A62=\"対象外\",\"\",IF(基本情報入力!$C$11=\"必要\",Z62-AA62-Y62,IF(基本情報入力!$C$11=\"不要\",Z62-AA62,\"？\")))","v":0}]
[null,{"$f":"'附属書19（非公表用）'!A63","v":53},{"$f":"'附属書19（非公表用）'!B63","v":0},{"$f":"'附属書19（非公表用）'!C63","v":0},{"$f":"'附属書19（非公表用）'!D63","v":0},{"$f":"'附属書19（非公表用）'!E63","v":0},{"$f":"'附属書19（非公表用）'!F63","v":"00:00:00"},{"$f":"'附属書19（非公表用）'!H63","v":0},null,null,null,null,null,null,null,null,null,null,null,null,null,null,null,null,0,0,0,{"$f":"IF(A63=\"対象外\",\"\",IF(基本情報入力!$C$11=\"必要\",Z63-AA63-Y63,IF(基本情報入力!$C$11=\"不要\",Z63-AA63,\"？\")))","v":0}]
[null,{"$f":"'附属書19（非公表用）'!A64","v":54},{"$f":"'附属書19（非公表用）'!B64","v":0},{"$f":"'附属書19（非公表用）'!C64","v":0},{"$f":"'附属書19（非公表用）'!D64","v":0},{"$f":"'附属書19（非公表用）'!E64","v":0},{"$f":"'附属書19（非公表用）'!F64","v":"00:00:00"},{"$f":"'附属書19（非公表用）'!H64","v":0},null,null,null,null,null,null,null,null,null,null,null,null,null,null,null,null,0,0,0,{"$f":"IF(A64=\"対象外\",\"\",IF(基本情報入力!$C$11=\"必要\",Z64-AA64-Y64,IF(基本情報入力!$C$11=\"不要\",Z64-AA64,\"？\")))","v":0}]
[null,{"$f":"'附属書19（非公表用）'!A65","v":55},{"$f":"'附属書19（非公表用）'!B65","v":0},{"$f":"'附属書19（非公表用）'!C65","v":0},{"$f":"'附属書19（非公表用）'!D65","v":0},{"$f":"'附属書19（非公表用）'!E65","v":0},{"$f":"'附属書19（非公表用）'!F65","v":"00:00:00"},{"$f":"'附属書19（非公表用）'!H65","v":0},null,null,null,null,null,null,null,null,null,null,null,null,null,null,null,null,0,0,0,{"$f":"IF(A65=\"対象外\",\"\",IF(基本情報入力!$C$11=\"必要\",Z65-AA65-Y65,IF(基本情報入力!$C$11=\"不要\",Z65-AA65,\"？\")))","v":0}]
[null,{"$f":"'附属書19（非公表用）'!A66","v":56},{"$f":"'附属書19（非公表用）'!B66","v":0},{"$f":"'附属書19（非公表用）'!C66","v":0},{"$f":"'附属書19（非公表用）'!D66","v":0},{"$f":"'附属書19（非公表用）'!E66","v":0},{"$f":"'附属書19（非公表用）'!F66","v":"00:00:00"},{"$f":"'附属書19（非公表用）'!H66","v":0},null,null,null,null,null,null,null,null,null,null,null,null,null,null,null,null,0,0,0,{"$f":"IF(A66=\"対象外\",\"\",IF(基本情報入力!$C$11=\"必要\",Z66-AA66-Y66,IF(基本情報入力!$C$11=\"不要\",Z66-AA66,\"？\")))","v":0}]
[null,{"$f":"'附属書19（非公表用）'!A67","v":57},{"$f":"'附属書19（非公表用）'!B67","v":0},{"$f":"'附属書19（非公表用）'!C67","v":0},{"$f":"'附属書19（非公表用）'!D67","v":0},{"$f":"'附属書19（非公表用）'!E67","v":0},{"$f":"'附属書19（非公表用）'!F67","v":"00:00:00"},{"$f":"'附属書19（非公表用）'!H67","v":0},null,null,null,null,null,null,null,null,null,null,null,null,null,null,null,null,0,0,0,{"$f":"IF(A67=\"対象外\",\"\",IF(基本情報入力!$C$11=\"必要\",Z67-AA67-Y67,IF(基本情報入力!$C$11=\"不要\",Z67-AA67,\"？\")))","v":0}]
[null,{"$f":"'附属書19（非公表用）'!A68","v":58},{"$f":"'附属書19（非公表用）'!B68","v":0},{"$f":"'附属書19（非公表用）'!C68","v":0},{"$f":"'附属書19（非公表用）'!D68","v":0},{"$f":"'附属書19（非公表用）'!E68","v":0},{"$f":"'附属書19（非公表用）'!F68","v":"00:00:00"},{"$f":"'附属書19（非公表用）'!H68","v":0},null,null,null,null,null,null,null,null,null,null,null,null,null,null,null,null,0,0,0,{"$f":"IF(A68=\"対象外\",\"\",IF(基本情報入力!$C$11=\"必要\",Z68-AA68-Y68,IF(基本情報入力!$C$11=\"不要\",Z68-AA68,\"？\")))","v":0}]
[null,{"$f":"'附属書19（非公表用）'!A69","v":59},{"$f":"'附属書19（非公表用）'!B69","v":0},{"$f":"'附属書19（非公表用）'!C69","v":0},{"$f":"'附属書19（非公表用）'!D69","v":0},{"$f":"'附属書19（非公表用）'!E69","v":0},{"$f":"'附属書19（非公表用）'!F69","v":"00:00:00"},{"$f":"'附属書19（非公表用）'!H69","v":0},null,null,null,null,null,null,null,null,null,null,null,null,null,null,null,null,0,0,0,{"$f":"IF(A69=\"対象外\",\"\",IF(基本情報入力!$C$11=\"必要\",Z69-AA69-Y69,IF(基本情報入力!$C$11=\"不要\",Z69-AA69,\"？\")))","v":0}]
[null,{"$f":"'附属書19（非公表用）'!A70","v":60},{"$f":"'附属書19（非公表用）'!B70","v":0},{"$f":"'附属書19（非公表用）'!C70","v":0},{"$f":"'附属書19（非公表用）'!D70","v":0},{"$f":"'附属書19（非公表用）'!E70","v":0},{"$f":"'附属書19（非公表用）'!F70","v":"00:00:00"},{"$f":"'附属書19（非公表用）'!H70","v":0},null,null,null,null,null,null,null,null,null,null,null,null,null,null,null,null,0,0,0,{"$f":"IF(A70=\"対象外\",\"\",IF(基本情報入力!$C$11=\"必要\",Z70-AA70-Y70,IF(基本情報入力!$C$11=\"不要\",Z70-AA70,\"？\")))","v":0}]
[null,{"$f":"'附属書19（非公表用）'!A71","v":61},{"$f":"'附属書19（非公表用）'!B71","v":0},{"$f":"'附属書19（非公表用）'!C71","v":0},{"$f":"'附属書19（非公表用）'!D71","v":0},{"$f":"'附属書19（非公表用）'!E71","v":0},{"$f":"'附属書19（非公表用）'!F71","v":"00:00:00"},{"$f":"'附属書19（非公表用）'!H71","v":0},null,null,null,null,null,null,null,null,null,null,null,null,null,null,null,null,{"$f":"ROUNDUP(W71*X71,1)","v":0},0,0,{"$f":"IF(A71=\"対象外\",\"\",IF(基本情報入力!$C$11=\"必要\",Z71-AA71-Y71,IF(基本情報入力!$C$11=\"不要\",Z71-AA71,\"？\")))","v":0}]
[null,{"$f":"'附属書19（非公表用）'!A72","v":62},{"$f":"'附属書19（非公表用）'!B72","v":0},{"$f":"'附属書19（非公表用）'!C72","v":0},{"$f":"'附属書19（非公表用）'!D72","v":0},{"$f":"'附属書19（非公表用）'!E72","v":0},{"$f":"'附属書19（非公表用）'!F72","v":"00:00:00"},{"$f":"'附属書19（非公表用）'!H72","v":0},null,null,null,null,null,null,null,null,null,null,null,null,null,null,null,null,0,0,0,{"$f":"IF(A72=\"対象外\",\"\",IF(基本情報入力!$C$11=\"必要\",Z72-AA72-Y72,IF(基本情報入力!$C$11=\"不要\",Z72-AA72,\"？\")))","v":0}]
[null,{"$f":"'附属書19（非公表用）'!A73","v":63},{"$f":"'附属書19（非公表用）'!B73","v":0},{"$f":"'附属書19（非公表用）'!C73","v":0},{"$f":"'附属書19（非公表用）'!D73","v":0},{"$f":"'附属書19（非公表用）'!E73","v":0},{"$f":"'附属書19（非公表用）'!F73","v":"00:00:00"},{"$f":"'附属書19（非公表用）'!H73","v":0},null,null,null,null,null,null,null,null,null,null,null,null,null,null,null,null,0,0,0,{"$f":"IF(A73=\"対象外\",\"\",IF(基本情報入力!$C$11=\"必要\",Z73-AA73-Y73,IF(基本情報入力!$C$11=\"不要\",Z73-AA73,\"？\")))","v":0}]
[null,{"$f":"'附属書19（非公表用）'!A74","v":64},{"$f":"'附属書19（非公表用）'!B74","v":0},{"$f":"'附属書19（非公表用）'!C74","v":0},{"$f":"'附属書19（非公表用）'!D74","v":0},{"$f":"'附属書19（非公表用）'!E74","v":0},{"$f":"'附属書19（非公表用）'!F74","v":"00:00:00"},{"$f":"'附属書19（非公表用）'!H74","v":0},null,null,null,null,null,null,null,null,null,null,null,null,null,null,null,null,0,0,0,{"$f":"IF(A74=\"対象外\",\"\",IF(基本情報入力!$C$11=\"必要\",Z74-AA74-Y74,IF(基本情報入力!$C$11=\"不要\",Z74-AA74,\"？\")))","v":0}]
[null,{"$f":"'附属書19（非公表用）'!A75","v":65},{"$f":"'附属書19（非公表用）'!B75","v":0},{"$f":"'附属書19（非公表用）'!C75","v":0},{"$f":"'附属書19（非公表用）'!D75","v":0},{"$f":"'附属書19（非公表用）'!E75","v":0},{"$f":"'附属書19（非公表用）'!F75","v":"00:00:00"},{"$f":"'附属書19（非公表用）'!H75","v":0},null,null,null,null,null,null,null,null,null,null,null,null,null,null,null,null,0,0,0,{"$f":"IF(A75=\"対象外\",\"\",IF(基本情報入力!$C$11=\"必要\",Z75-AA75-Y75,IF(基本情報入力!$C$11=\"不要\",Z75-AA75,\"？\")))","v":0}]
[null,{"$f":"'附属書19（非公表用）'!A76","v":66},{"$f":"'附属書19（非公表用）'!B76","v":0},{"$f":"'附属書19（非公表用）'!C76","v":0},{"$f":"'附属書19（非公表用）'!D76","v":0},{"$f":"'附属書19（非公表用）'!E76","v":0},{"$f":"'附属書19（非公表用）'!F76","v":"00:00:00"},{"$f":"'附属書19（非公表用）'!H76","v":0},null,null,null,null,null,null,null,null,null,null,null,null,null,null,null,null,0,0,0,{"$f":"IF(A76=\"対象外\",\"\",IF(基本情報入力!$C$11=\"必要\",Z76-AA76-Y76,IF(基本情報入力!$C$11=\"不要\",Z76-AA76,\"？\")))","v":0}]
[null,{"$f":"'附属書19（非公表用）'!A77","v":67},{"$f":"'附属書19（非公表用）'!B77","v":0},{"$f":"'附属書19（非公表用）'!C77","v":0},{"$f":"'附属書19（非公表用）'!D77","v":0},{"$f":"'附属書19（非公表用）'!E77","v":0},{"$f":"'附属書19（非公表用）'!F77","v":"00:00:00"},{"$f":"'附属書19（非公表用）'!H77","v":0},null,null,null,null,null,null,null,null,null,null,null,null,null,null,null,null,0,{"$f":"Q77-+K77","v":0},{"$f":"U77-N77","v":0},{"$f":"IF(A77=\"対象外\",\"\",IF(基本情報入力!$C$11=\"必要\",Z77-AA77-Y77,IF(基本情報入力!$C$11=\"不要\",Z77-AA77,\"？\")))","v":0}]
[null,{"$f":"'附属書19（非公表用）'!A78","v":68},{"$f":"'附属書19（非公表用）'!B78","v":0},{"$f":"'附属書19（非公表用）'!C78","v":0},{"$f":"'附属書19（非公表用）'!D78","v":0},{"$f":"'附属書19（非公表用）'!E78","v":0},{"$f":"'附属書19（非公表用）'!F78","v":"00:00:00"},{"$f":"'附属書19（非公表用）'!H78","v":0},null,null,null,null,null,null,null,null,null,null,null,null,null,null,null,null,0,0,0,{"$f":"IF(A78=\"対象外\",\"\",IF(基本情報入力!$C$11=\"必要\",Z78-AA78-Y78,IF(基本情報入力!$C$11=\"不要\",Z78-AA78,\"？\")))","v":0}]
[null,{"$f":"'附属書19（非公表用）'!A79","v":69},{"$f":"'附属書19（非公表用）'!B79","v":0},{"$f":"'附属書19（非公表用）'!C79","v":0},{"$f":"'附属書19（非公表用）'!D79","v":0},{"$f":"'附属書19（非公表用）'!E79","v":0},{"$f":"'附属書19（非公表用）'!F79","v":"00:00:00"},{"$f":"'附属書19（非公表用）'!H79","v":0},null,null,null,null,null,null,null,null,null,null,null,null,null,null,null,null,0,0,0,{"$f":"IF(A79=\"対象外\",\"\",IF(基本情報入力!$C$11=\"必要\",Z79-AA79-Y79,IF(基本情報入力!$C$11=\"不要\",Z79-AA79,\"？\")))","v":0}]
[null,{"$f":"'附属書19（非公表用）'!A80","v":70},{"$f":"'附属書19（非公表用）'!B80","v":0},{"$f":"'附属書19（非公表用）'!C80","v":0},{"$f":"'附属書19（非公表用）'!D80","v":0},{"$f":"'附属書19（非公表用）'!E80","v":0},{"$f":"'附属書19（非公表用）'!F80","v":"00:00:00"},{"$f":"'附属書19（非公表用）'!H80","v":0},null,null,null,null,null,null,null,null,null,null,null,null,null,null,null,null,0,0,0,{"$f":"IF(A80=\"対象外\",\"\",IF(基本情報入力!$C$11=\"必要\",Z80-AA80-Y80,IF(基本情報入力!$C$11=\"不要\",Z80-AA80,\"？\")))","v":0}]
[null,{"$f":"'附属書19（非公表用）'!A81","v":71},{"$f":"'附属書19（非公表用）'!B81","v":0},{"$f":"'附属書19（非公表用）'!C81","v":0},{"$f":"'附属書19（非公表用）'!D81","v":0},{"$f":"'附属書19（非公表用）'!E81","v":0},{"$f":"'附属書19（非公表用）'!F81","v":"00:00:00"},{"$f":"'附属書19（非公表用）'!H81","v":0},null,null,null,null,null,null,null,null,null,null,null,null,null,null,null,null,0,0,0,{"$f":"IF(A81=\"対象外\",\"\",IF(基本情報入力!$C$11=\"必要\",Z81-AA81-Y81,IF(基本情報入力!$C$11=\"不要\",Z81-AA81,\"？\")))","v":0}]
[null,{"$f":"'附属書19（非公表用）'!A82","v":72},{"$f":"'附属書19（非公表用）'!B82","v":0},{"$f":"'附属書19（非公表用）'!C82","v":0},{"$f":"'附属書19（非公表用）'!D82","v":0},{"$f":"'附属書19（非公表用）'!E82","v":0},{"$f":"'附属書19（非公表用）'!F82","v":"00:00:00"},{"$f":"'附属書19（非公表用）'!H82","v":0},null,null,null,null,null,null,null,null,null,null,null,null,null,null,null,null,0,0,0,{"$f":"IF(A82=\"対象外\",\"\",IF(基本情報入力!$C$11=\"必要\",Z82-AA82-Y82,IF(基本情報入力!$C$11=\"不要\",Z82-AA82,\"？\")))","v":0}]
[null,{"$f":"'附属書19（非公表用）'!A83","v":73},{"$f":"'附属書19（非公表用）'!B83","v":0},{"$f":"'附属書19（非公表用）'!C83","v":0},{"$f":"'附属書19（非公表用）'!D83","v":0},{"$f":"'附属書19（非公表用）'!E83","v":0},{"$f":"'附属書19（非公表用）'!F83","v":"00:00:00"},{"$f":"'附属書19（非公表用）'!H83","v":0},null,null,null,null,null,null,null,null,null,null,null,null,null,null,null,null,0,0,0,{"$f":"IF(A83=\"対象外\",\"\",IF(基本情報入力!$C$11=\"必要\",Z83-AA83-Y83,IF(基本情報入力!$C$11=\"不要\",Z83-AA83,\"？\")))","v":0}]
[null,{"$f":"'附属書19（非公表用）'!A84","v":74},{"$f":"'附属書19（非公表用）'!B84","v":0},{"$f":"'附属書19（非公表用）'!C84","v":0},{"$f":"'附属書19（非公表用）'!D84","v":0},{"$f":"'附属書19（非公表用）'!E84","v":0},{"$f":"'附属書19（非公表用）'!F84","v":"00:00:00"},{"$f":"'附属書19（非公表用）'!H84","v":0},null,null,null,null,null,null,null,null,null,null,null,null,null,null,null,null,0,0,0,{"$f":"IF(A84=\"対象外\",\"\",IF(基本情報入力!$C$11=\"必要\",Z84-AA84-Y84,IF(基本情報入力!$C$11=\"不要\",Z84-AA84,\"？\")))","v":0}]
[null,{"$f":"'附属書19（非公表用）'!A85","v":75},{"$f":"'附属書19（非公表用）'!B85","v":0},{"$f":"'附属書19（非公表用）'!C85","v":0},{"$f":"'附属書19（非公表用）'!D85","v":0},{"$f":"'附属書19（非公表用）'!E85","v":0},{"$f":"'附属書19（非公表用）'!F85","v":"00:00:00"},{"$f":"'附属書19（非公表用）'!H85","v":0},null,null,null,null,null,null,null,null,null,null,null,null,null,null,null,null,0,0,0,{"$f":"IF(A85=\"対象外\",\"\",IF(基本情報入力!$C$11=\"必要\",Z85-AA85-Y85,IF(基本情報入力!$C$11=\"不要\",Z85-AA85,\"？\")))","v":0}]
[null,{"$f":"'附属書19（非公表用）'!A86","v":76},{"$f":"'附属書19（非公表用）'!B86","v":0},{"$f":"'附属書19（非公表用）'!C86","v":0},{"$f":"'附属書19（非公表用）'!D86","v":0},{"$f":"'附属書19（非公表用）'!E86","v":0},{"$f":"'附属書19（非公表用）'!F86","v":"00:00:00"},{"$f":"'附属書19（非公表用）'!H86","v":0},null,null,null,null,null,null,null,null,null,null,null,null,null,null,null,null,0,0,0,{"$f":"IF(A86=\"対象外\",\"\",IF(基本情報入力!$C$11=\"必要\",Z86-AA86-Y86,IF(基本情報入力!$C$11=\"不要\",Z86-AA86,\"？\")))","v":0}]
[null,{"$f":"'附属書19（非公表用）'!A87","v":77},{"$f":"'附属書19（非公表用）'!B87","v":0},{"$f":"'附属書19（非公表用）'!C87","v":0},{"$f":"'附属書19（非公表用）'!D87","v":0},{"$f":"'附属書19（非公表用）'!E87","v":0},{"$f":"'附属書19（非公表用）'!F87","v":"00:00:00"},{"$f":"'附属書19（非公表用）'!H87","v":0},null,null,null,null,null,null,null,null,null,null,null,null,null,null,null,null,0,0,0,{"$f":"IF(A87=\"対象外\",\"\",IF(基本情報入力!$C$11=\"必要\",Z87-AA87-Y87,IF(基本情報入力!$C$11=\"不要\",Z87-AA87,\"？\")))","v":0}]
[null,{"$f":"'附属書19（非公表用）'!A88","v":78},{"$f":"'附属書19（非公表用）'!B88","v":0},{"$f":"'附属書19（非公表用）'!C88","v":0},{"$f":"'附属書19（非公表用）'!D88","v":0},{"$f":"'附属書19（非公表用）'!E88","v":0},{"$f":"'附属書19（非公表用）'!F88","v":"00:00:00"},{"$f":"'附属書19（非公表用）'!H88","v":0},null,null,null,null,null,null,null,null,null,null,null,null,null,null,null,null,0,0,0,{"$f":"IF(A88=\"対象外\",\"\",IF(基本情報入力!$C$11=\"必要\",Z88-AA88-Y88,IF(基本情報入力!$C$11=\"不要\",Z88-AA88,\"？\")))","v":0}]
[null,{"$f":"'附属書19（非公表用）'!A89","v":79},{"$f":"'附属書19（非公表用）'!B89","v":0},{"$f":"'附属書19（非公表用）'!C89","v":0},{"$f":"'附属書19（非公表用）'!D89","v":0},{"$f":"'附属書19（非公表用）'!E89","v":0},{"$f":"'附属書19（非公表用）'!F89","v":"00:00:00"},{"$f":"'附属書19（非公表用）'!H89","v":0},null,null,null,null,null,null,null,null,null,null,null,null,null,null,null,null,0,0,0,{"$f":"IF(A89=\"対象外\",\"\",IF(基本情報入力!$C$11=\"必要\",Z89-AA89-Y89,IF(基本情報入力!$C$11=\"不要\",Z89-AA89,\"？\")))","v":0}]
[null,{"$f":"'附属書19（非公表用）'!A90","v":80},{"$f":"'附属書19（非公表用）'!B90","v":0},{"$f":"'附属書19（非公表用）'!C90","v":0},{"$f":"'附属書19（非公表用）'!D90","v":0},{"$f":"'附属書19（非公表用）'!E90","v":0},{"$f":"'附属書19（非公表用）'!F90","v":"00:00:00"},{"$f":"'附属書19（非公表用）'!H90","v":0},null,null,null,null,null,null,null,null,null,null,null,null,null,null,null,null,0,0,0,{"$f":"IF(A90=\"対象外\",\"\",IF(基本情報入力!$C$11=\"必要\",Z90-AA90-Y90,IF(基本情報入力!$C$11=\"不要\",Z90-AA90,\"？\")))","v":0}]
[null,{"$f":"'附属書19（非公表用）'!A91","v":81},{"$f":"'附属書19（非公表用）'!B91","v":0},{"$f":"'附属書19（非公表用）'!C91","v":0},{"$f":"'附属書19（非公表用）'!D91","v":0},{"$f":"'附属書19（非公表用）'!E91","v":0},{"$f":"'附属書19（非公表用）'!F91","v":"00:00:00"},{"$f":"'附属書19（非公表用）'!H91","v":0},null,null,null,null,null,null,null,null,null,null,null,null,null,null,null,null,0,0,0,{"$f":"IF(A91=\"対象外\",\"\",IF(基本情報入力!$C$11=\"必要\",Z91-AA91-Y91,IF(基本情報入力!$C$11=\"不要\",Z91-AA91,\"？\")))","v":0}]
[null,{"$f":"'附属書19（非公表用）'!A92","v":82},{"$f":"'附属書19（非公表用）'!B92","v":0},{"$f":"'附属書19（非公表用）'!C92","v":0},{"$f":"'附属書19（非公表用）'!D92","v":0},{"$f":"'附属書19（非公表用）'!E92","v":0},{"$f":"'附属書19（非公表用）'!F92","v":"00:00:00"},{"$f":"'附属書19（非公表用）'!H92","v":0},null,null,null,null,null,null,null,null,null,null,null,null,null,null,null,null,0,0,0,{"$f":"IF(A92=\"対象外\",\"\",IF(基本情報入力!$C$11=\"必要\",Z92-AA92-Y92,IF(基本情報入力!$C$11=\"不要\",Z92-AA92,\"？\")))","v":0}]
[null,{"$f":"'附属書19（非公表用）'!A93","v":83},{"$f":"'附属書19（非公表用）'!B93","v":0},{"$f":"'附属書19（非公表用）'!C93","v":0},{"$f":"'附属書19（非公表用）'!D93","v":0},{"$f":"'附属書19（非公表用）'!E93","v":0},{"$f":"'附属書19（非公表用）'!F93","v":"00:00:00"},{"$f":"'附属書19（非公表用）'!H93","v":0},null,null,null,null,null,null,null,null,null,null,null,null,null,null,null,null,0,0,0,{"$f":"IF(A93=\"対象外\",\"\",IF(基本情報入力!$C$11=\"必要\",Z93-AA93-Y93,IF(基本情報入力!$C$11=\"不要\",Z93-AA93,\"？\")))","v":0}]
[null,{"$f":"'附属書19（非公表用）'!A94","v":84},{"$f":"'附属書19（非公表用）'!B94","v":0},{"$f":"'附属書19（非公表用）'!C94","v":0},{"$f":"'附属書19（非公表用）'!D94","v":0},{"$f":"'附属書19（非公表用）'!E94","v":0},{"$f":"'附属書19（非公表用）'!F94","v":"00:00:00"},{"$f":"'附属書19（非公表用）'!H94","v":0},null,null,null,null,null,null,null,null,null,null,null,null,null,null,null,null,0,0,0,{"$f":"IF(A94=\"対象外\",\"\",IF(基本情報入力!$C$11=\"必要\",Z94-AA94-Y94,IF(基本情報入力!$C$11=\"不要\",Z94-AA94,\"？\")))","v":0}]
[null,{"$f":"'附属書19（非公表用）'!A95","v":85},{"$f":"'附属書19（非公表用）'!B95","v":0},{"$f":"'附属書19（非公表用）'!C95","v":0},{"$f":"'附属書19（非公表用）'!D95","v":0},{"$f":"'附属書19（非公表用）'!E95","v":0},{"$f":"'附属書19（非公表用）'!F95","v":"00:00:00"},{"$f":"'附属書19（非公表用）'!H95","v":0},null,null,null,null,null,null,null,null,null,null,null,null,null,null,null,null,0,0,0,{"$f":"IF(A95=\"対象外\",\"\",IF(基本情報入力!$C$11=\"必要\",Z95-AA95-Y95,IF(基本情報入力!$C$11=\"不要\",Z95-AA95,\"？\")))","v":0}]
[null,{"$f":"'附属書19（非公表用）'!A96","v":86},{"$f":"'附属書19（非公表用）'!B96","v":0},{"$f":"'附属書19（非公表用）'!C96","v":0},{"$f":"'附属書19（非公表用）'!D96","v":0},{"$f":"'附属書19（非公表用）'!E96","v":0},{"$f":"'附属書19（非公表用）'!F96","v":"00:00:00"},{"$f":"'附属書19（非公表用）'!H96","v":0},null,null,null,null,null,null,null,null,null,null,null,null,null,null,null,null,0,0,0,{"$f":"IF(A96=\"対象外\",\"\",IF(基本情報入力!$C$11=\"必要\",Z96-AA96-Y96,IF(基本情報入力!$C$11=\"不要\",Z96-AA96,\"？\")))","v":0}]
[null,{"$f":"'附属書19（非公表用）'!A97","v":87},{"$f":"'附属書19（非公表用）'!B97","v":0},{"$f":"'附属書19（非公表用）'!C97","v":0},{"$f":"'附属書19（非公表用）'!D97","v":0},{"$f":"'附属書19（非公表用）'!E97","v":0},{"$f":"'附属書19（非公表用）'!F97","v":"00:00:00"},{"$f":"'附属書19（非公表用）'!H97","v":0},null,null,null,null,null,null,null,null,null,null,null,null,null,null,null,null,0,0,0,{"$f":"IF(A97=\"対象外\",\"\",IF(基本情報入力!$C$11=\"必要\",Z97-AA97-Y97,IF(基本情報入力!$C$11=\"不要\",Z97-AA97,\"？\")))","v":0}]
[null,{"$f":"'附属書19（非公表用）'!A98","v":88},{"$f":"'附属書19（非公表用）'!B98","v":0},{"$f":"'附属書19（非公表用）'!C98","v":0},{"$f":"'附属書19（非公表用）'!D98","v":0},{"$f":"'附属書19（非公表用）'!E98","v":0},{"$f":"'附属書19（非公表用）'!F98","v":"00:00:00"},{"$f":"'附属書19（非公表用）'!H98","v":0},null,null,null,null,null,null,null,null,null,null,null,null,null,null,null,null,0,0,0,{"$f":"IF(A98=\"対象外\",\"\",IF(基本情報入力!$C$11=\"必要\",Z98-AA98-Y98,IF(基本情報入力!$C$11=\"不要\",Z98-AA98,\"？\")))","v":0}]
[null,{"$f":"'附属書19（非公表用）'!A99","v":89},{"$f":"'附属書19（非公表用）'!B99","v":0},{"$f":"'附属書19（非公表用）'!C99","v":0},{"$f":"'附属書19（非公表用）'!D99","v":0},{"$f":"'附属書19（非公表用）'!E99","v":0},{"$f":"'附属書19（非公表用）'!F99","v":"00:00:00"},{"$f":"'附属書19（非公表用）'!H99","v":0},null,null,null,null,null,null,null,null,null,null,null,null,null,null,null,null,0,0,0,{"$f":"IF(A99=\"対象外\",\"\",IF(基本情報入力!$C$11=\"必要\",Z99-AA99-Y99,IF(基本情報入力!$C$11=\"不要\",Z99-AA99,\"？\")))","v":0}]
[null,{"$f":"'附属書19（非公表用）'!A100","v":90},{"$f":"'附属書19（非公表用）'!B100","v":0},{"$f":"'附属書19（非公表用）'!C100","v":0},{"$f":"'附属書19（非公表用）'!D100","v":0},{"$f":"'附属書19（非公表用）'!E100","v":0},{"$f":"'附属書19（非公表用）'!F100","v":"00:00:00"},{"$f":"'附属書19（非公表用）'!H100","v":0},null,null,null,null,null,null,null,null,null,null,null,null,null,null,null,null,0,0,0,{"$f":"IF(A100=\"対象外\",\"\",IF(基本情報入力!$C$11=\"必要\",Z100-AA100-Y100,IF(基本情報入力!$C$11=\"不要\",Z100-AA100,\"？\")))","v":0}]
[null,{"$f":"'附属書19（非公表用）'!A101","v":91},{"$f":"'附属書19（非公表用）'!B101","v":0},{"$f":"'附属書19（非公表用）'!C101","v":0},{"$f":"'附属書19（非公表用）'!D101","v":0},{"$f":"'附属書19（非公表用）'!E101","v":0},{"$f":"'附属書19（非公表用）'!F101","v":"00:00:00"},{"$f":"'附属書19（非公表用）'!H101","v":0},null,null,null,null,null,null,null,null,null,null,null,null,null,null,null,null,0,0,0,{"$f":"IF(A101=\"対象外\",\"\",IF(基本情報入力!$C$11=\"必要\",Z101-AA101-Y101,IF(基本情報入力!$C$11=\"不要\",Z101-AA101,\"？\")))","v":0}]
[null,{"$f":"'附属書19（非公表用）'!A102","v":92},{"$f":"'附属書19（非公表用）'!B102","v":0},{"$f":"'附属書19（非公表用）'!C102","v":0},{"$f":"'附属書19（非公表用）'!D102","v":0},{"$f":"'附属書19（非公表用）'!E102","v":0},{"$f":"'附属書19（非公表用）'!F102","v":"00:00:00"},{"$f":"'附属書19（非公表用）'!H102","v":0},null,null,null,null,null,null,null,null,null,null,null,null,null,null,null,null,0,0,0,{"$f":"IF(A102=\"対象外\",\"\",IF(基本情報入力!$C$11=\"必要\",Z102-AA102-Y102,IF(基本情報入力!$C$11=\"不要\",Z102-AA102,\"？\")))","v":0}]
[null,{"$f":"'附属書19（非公表用）'!A103","v":93},{"$f":"'附属書19（非公表用）'!B103","v":0},{"$f":"'附属書19（非公表用）'!C103","v":0},{"$f":"'附属書19（非公表用）'!D103","v":0},{"$f":"'附属書19（非公表用）'!E103","v":0},{"$f":"'附属書19（非公表用）'!F103","v":"00:00:00"},{"$f":"'附属書19（非公表用）'!H103","v":0},null,null,null,null,null,null,null,null,null,null,null,null,null,null,null,null,0,0,0,{"$f":"IF(A103=\"対象外\",\"\",IF(基本情報入力!$C$11=\"必要\",Z103-AA103-Y103,IF(基本情報入力!$C$11=\"不要\",Z103-AA103,\"？\")))","v":0}]
[null,{"$f":"'附属書19（非公表用）'!A104","v":94},{"$f":"'附属書19（非公表用）'!B104","v":0},{"$f":"'附属書19（非公表用）'!C104","v":0},{"$f":"'附属書19（非公表用）'!D104","v":0},{"$f":"'附属書19（非公表用）'!E104","v":0},{"$f":"'附属書19（非公表用）'!F104","v":"00:00:00"},{"$f":"'附属書19（非公表用）'!H104","v":0},null,null,null,null,null,null,null,null,null,null,null,null,null,null,null,null,0,0,0,{"$f":"IF(A104=\"対象外\",\"\",IF(基本情報入力!$C$11=\"必要\",Z104-AA104-Y104,IF(基本情報入力!$C$11=\"不要\",Z104-AA104,\"？\")))","v":0}]
[null,{"$f":"'附属書19（非公表用）'!A105","v":95},{"$f":"'附属書19（非公表用）'!B105","v":0},{"$f":"'附属書19（非公表用）'!C105","v":0},{"$f":"'附属書19（非公表用）'!D105","v":0},{"$f":"'附属書19（非公表用）'!E105","v":0},{"$f":"'附属書19（非公表用）'!F105","v":"00:00:00"},{"$f":"'附属書19（非公表用）'!H105","v":0},null,null,null,null,null,null,null,null,null,null,null,null,null,null,null,null,0,0,0,{"$f":"IF(A105=\"対象外\",\"\",IF(基本情報入力!$C$11=\"必要\",Z105-AA105-Y105,IF(基本情報入力!$C$11=\"不要\",Z105-AA105,\"？\")))","v":0}]
[null,{"$f":"'附属書19（非公表用）'!A106","v":96},{"$f":"'附属書19（非公表用）'!B106","v":0},{"$f":"'附属書19（非公表用）'!C106","v":0},{"$f":"'附属書19（非公表用）'!D106","v":0},{"$f":"'附属書19（非公表用）'!E106","v":0},{"$f":"'附属書19（非公表用）'!F106","v":"00:00:00"},{"$f":"'附属書19（非公表用）'!H106","v":0},null,null,null,null,null,null,null,null,null,null,null,null,null,null,null,null,0,0,0,{"$f":"IF(A106=\"対象外\",\"\",IF(基本情報入力!$C$11=\"必要\",Z106-AA106-Y106,IF(基本情報入力!$C$11=\"不要\",Z106-AA106,\"？\")))","v":0}]
[null,{"$f":"'附属書19（非公表用）'!A107","v":97},{"$f":"'附属書19（非公表用）'!B107","v":0},{"$f":"'附属書19（非公表用）'!C107","v":0},{"$f":"'附属書19（非公表用）'!D107","v":0},{"$f":"'附属書19（非公表用）'!E107","v":0},{"$f":"'附属書19（非公表用）'!F107","v":"00:00:00"},{"$f":"'附属書19（非公表用）'!H107","v":0},null,null,null,null,null,null,null,null,null,null,null,null,null,null,null,null,0,0,0,{"$f":"IF(A107=\"対象外\",\"\",IF(基本情報入力!$C$11=\"必要\",Z107-AA107-Y107,IF(基本情報入力!$C$11=\"不要\",Z107-AA107,\"？\")))","v":0}]
[null,{"$f":"'附属書19（非公表用）'!A108","v":98},{"$f":"'附属書19（非公表用）'!B108","v":0},{"$f":"'附属書19（非公表用）'!C108","v":0},{"$f":"'附属書19（非公表用）'!D108","v":0},{"$f":"'附属書19（非公表用）'!E108","v":0},{"$f":"'附属書19（非公表用）'!F108","v":"00:00:00"},{"$f":"'附属書19（非公表用）'!H108","v":0},null,null,null,null,null,null,null,null,null,null,null,null,null,null,null,null,0,0,0,{"$f":"IF(A108=\"対象外\",\"\",IF(基本情報入力!$C$11=\"必要\",Z108-AA108-Y108,IF(基本情報入力!$C$11=\"不要\",Z108-AA108,\"？\")))","v":0}]
[null,{"$f":"'附属書19（非公表用）'!A109","v":99},{"$f":"'附属書19（非公表用）'!B109","v":0},{"$f":"'附属書19（非公表用）'!C109","v":0},{"$f":"'附属書19（非公表用）'!D109","v":0},{"$f":"'附属書19（非公表用）'!E109","v":0},{"$f":"'附属書19（非公表用）'!F109","v":"00:00:00"},{"$f":"'附属書19（非公表用）'!H109","v":0},null,null,null,null,null,null,null,null,null,null,null,null,null,null,null,null,0,0,0,{"$f":"IF(A109=\"対象外\",\"\",IF(基本情報入力!$C$11=\"必要\",Z109-AA109-Y109,IF(基本情報入力!$C$11=\"不要\",Z109-AA109,\"？\")))","v":0}]
[null,{"$f":"'附属書19（非公表用）'!A110","v":100},{"$f":"'附属書19（非公表用）'!B110","v":0},{"$f":"'附属書19（非公表用）'!C110","v":0},{"$f":"'附属書19（非公表用）'!D110","v":0},{"$f":"'附属書19（非公表用）'!E110","v":0},{"$f":"'附属書19（非公表用）'!F110","v":"00:00:00"},{"$f":"'附属書19（非公表用）'!H110","v":0},null,null,null,null,null,null,null,null,null,null,null,null,null,null,null,null,0,0,0,{"$f":"IF(A110=\"対象外\",\"\",IF(基本情報入力!$C$11=\"必要\",Z110-AA110-Y110,IF(基本情報入力!$C$11=\"不要\",Z110-AA110,\"？\")))","v":0}]
[null,null,null,null,null,null,"合　計",{"$f":"SUBTOTAL(109,H11:H110)","v":12},null,null,null,null,null,null,null,null,null,null,null,null,null,null,null,null,"合計",{"$f":"SUBTOTAL(109,Z11:Z110)","v":96583},{"$f":"SUBTOTAL(109,AA11:AA110)","v":12317},{"$f":"ROUNDDOWN(SUBTOTAL(109,AB11:AB110),0)","v":84266}]

{"sheet":"計量器写真","index":11,"n_rows":0,"n_cols":0,"rows_kept":0,"cut":false,"hidden":false,"merged":[]}

{"sheet":"予備sheet②","index":12,"n_rows":0,"n_cols":0,"rows_kept":0,"cut":false,"hidden":false,"merged":[]}